BEGIN:VCALENDAR
VERSION:2.0
PRODID:-//Regional Connections - ECPv6.15.18//NONSGML v1.0//EN
CALSCALE:GREGORIAN
METHOD:PUBLISH
X-WR-CALNAME:Regional Connections
X-ORIGINAL-URL:https://regionalconnections.ca
X-WR-CALDESC:Events for Regional Connections
REFRESH-INTERVAL;VALUE=DURATION:PT1H
X-Robots-Tag:noindex
X-PUBLISHED-TTL:PT1H
BEGIN:VTIMEZONE
TZID:America/Winnipeg
BEGIN:DAYLIGHT
TZOFFSETFROM:-0600
TZOFFSETTO:-0500
TZNAME:CDT
DTSTART:20240310T080000
END:DAYLIGHT
BEGIN:STANDARD
TZOFFSETFROM:-0500
TZOFFSETTO:-0600
TZNAME:CST
DTSTART:20241103T070000
END:STANDARD
BEGIN:DAYLIGHT
TZOFFSETFROM:-0600
TZOFFSETTO:-0500
TZNAME:CDT
DTSTART:20250309T080000
END:DAYLIGHT
BEGIN:STANDARD
TZOFFSETFROM:-0500
TZOFFSETTO:-0600
TZNAME:CST
DTSTART:20251102T070000
END:STANDARD
BEGIN:DAYLIGHT
TZOFFSETFROM:-0600
TZOFFSETTO:-0500
TZNAME:CDT
DTSTART:20260308T080000
END:DAYLIGHT
BEGIN:STANDARD
TZOFFSETFROM:-0500
TZOFFSETTO:-0600
TZNAME:CST
DTSTART:20261101T070000
END:STANDARD
END:VTIMEZONE
BEGIN:VEVENT
DTSTART;TZID=America/Winnipeg:20250917T190000
DTEND;TZID=America/Winnipeg:20250917T200000
DTSTAMP:20260422T084710
CREATED:20250327T170445Z
LAST-MODIFIED:20250327T170445Z
UID:10009759-1758135600-1758139200@regionalconnections.ca
SUMMARY:RRSPs and TFSAs
DESCRIPTION:RRSPs help you save for retirement with tax benefits\, and TFSAs let your money grow tax-free for any goal. Join us to learn more!
URL:https://regionalconnections.ca/event/rrsps-and-tfsas/
ATTACH;FMTTYPE=image/png:https://regionalconnections.ca/wp-content/uploads/2025/03/RRSPs-and-TFSAs.png
END:VEVENT
END:VCALENDAR