BEGIN:VCALENDAR
VERSION:2.0
PRODID:-//Regional Connections - ECPv6.15.18//NONSGML v1.0//EN
CALSCALE:GREGORIAN
METHOD:PUBLISH
X-WR-CALNAME:Regional Connections
X-ORIGINAL-URL:https://regionalconnections.ca
X-WR-CALDESC:Events for Regional Connections
REFRESH-INTERVAL;VALUE=DURATION:PT1H
X-Robots-Tag:noindex
X-PUBLISHED-TTL:PT1H
BEGIN:VTIMEZONE
TZID:America/Winnipeg
BEGIN:DAYLIGHT
TZOFFSETFROM:-0600
TZOFFSETTO:-0500
TZNAME:CDT
DTSTART:20210314T080000
END:DAYLIGHT
BEGIN:STANDARD
TZOFFSETFROM:-0500
TZOFFSETTO:-0600
TZNAME:CST
DTSTART:20211107T070000
END:STANDARD
BEGIN:DAYLIGHT
TZOFFSETFROM:-0600
TZOFFSETTO:-0500
TZNAME:CDT
DTSTART:20220313T080000
END:DAYLIGHT
BEGIN:STANDARD
TZOFFSETFROM:-0500
TZOFFSETTO:-0600
TZNAME:CST
DTSTART:20221106T070000
END:STANDARD
BEGIN:DAYLIGHT
TZOFFSETFROM:-0600
TZOFFSETTO:-0500
TZNAME:CDT
DTSTART:20230312T080000
END:DAYLIGHT
BEGIN:STANDARD
TZOFFSETFROM:-0500
TZOFFSETTO:-0600
TZNAME:CST
DTSTART:20231105T070000
END:STANDARD
END:VTIMEZONE
BEGIN:VEVENT
DTSTART;TZID=America/Winnipeg:20221104T171500
DTEND;TZID=America/Winnipeg:20221104T181500
DTSTAMP:20260422T094153
CREATED:20220919T164901Z
LAST-MODIFIED:20221027T134153Z
UID:10007881-1667582100-1667585700@regionalconnections.ca
SUMMARY:Dauphin - Learn to Skate
DESCRIPTION:
URL:https://regionalconnections.ca/event/learn-to-skate-dauphin-2/2022-11-04/
LOCATION:Credit Union Place\, 200 1st Street S.E.\, Dauphin\, MB\, R7N 2V1\, Canada
ATTACH;FMTTYPE=image/png:https://regionalconnections.ca/wp-content/uploads/2022/09/Dauphin.Learn-to-Skate-2.png
ORGANIZER;CN="Chiaki":MAILTO:chiaki@regionalconnections.ca
END:VEVENT
BEGIN:VEVENT
DTSTART;TZID=America/Winnipeg:20221028T171500
DTEND;TZID=America/Winnipeg:20221028T181500
DTSTAMP:20260422T094153
CREATED:20220919T164901Z
LAST-MODIFIED:20221027T134153Z
UID:10007880-1666977300-1666980900@regionalconnections.ca
SUMMARY:Dauphin - Learn to Skate
DESCRIPTION:
URL:https://regionalconnections.ca/event/learn-to-skate-dauphin-2/2022-10-28/
LOCATION:Credit Union Place\, 200 1st Street S.E.\, Dauphin\, MB\, R7N 2V1\, Canada
ATTACH;FMTTYPE=image/png:https://regionalconnections.ca/wp-content/uploads/2022/09/Dauphin.Learn-to-Skate-2.png
ORGANIZER;CN="Chiaki":MAILTO:chiaki@regionalconnections.ca
END:VEVENT
BEGIN:VEVENT
DTSTART;TZID=America/Winnipeg:20221021T171500
DTEND;TZID=America/Winnipeg:20221021T181500
DTSTAMP:20260422T094153
CREATED:20220919T164901Z
LAST-MODIFIED:20221027T134153Z
UID:10007879-1666372500-1666376100@regionalconnections.ca
SUMMARY:Dauphin - Learn to Skate
DESCRIPTION:
URL:https://regionalconnections.ca/event/learn-to-skate-dauphin-2/2022-10-21/
LOCATION:Credit Union Place\, 200 1st Street S.E.\, Dauphin\, MB\, R7N 2V1\, Canada
ATTACH;FMTTYPE=image/png:https://regionalconnections.ca/wp-content/uploads/2022/09/Dauphin.Learn-to-Skate-2.png
ORGANIZER;CN="Chiaki":MAILTO:chiaki@regionalconnections.ca
END:VEVENT
BEGIN:VEVENT
DTSTART;TZID=America/Winnipeg:20221014T171500
DTEND;TZID=America/Winnipeg:20221014T181500
DTSTAMP:20260422T094153
CREATED:20220919T164901Z
LAST-MODIFIED:20221027T134153Z
UID:10007878-1665767700-1665771300@regionalconnections.ca
SUMMARY:Dauphin - Learn to Skate
DESCRIPTION:
URL:https://regionalconnections.ca/event/learn-to-skate-dauphin-2/2022-10-14/
LOCATION:Credit Union Place\, 200 1st Street S.E.\, Dauphin\, MB\, R7N 2V1\, Canada
ATTACH;FMTTYPE=image/png:https://regionalconnections.ca/wp-content/uploads/2022/09/Dauphin.Learn-to-Skate-2.png
ORGANIZER;CN="Chiaki":MAILTO:chiaki@regionalconnections.ca
END:VEVENT
BEGIN:VEVENT
DTSTART;TZID=America/Winnipeg:20221007T171500
DTEND;TZID=America/Winnipeg:20221007T181500
DTSTAMP:20260422T094153
CREATED:20220919T164901Z
LAST-MODIFIED:20221027T134153Z
UID:10007877-1665162900-1665166500@regionalconnections.ca
SUMMARY:Dauphin - Learn to Skate
DESCRIPTION:
URL:https://regionalconnections.ca/event/learn-to-skate-dauphin-2/2022-10-07/
LOCATION:Credit Union Place\, 200 1st Street S.E.\, Dauphin\, MB\, R7N 2V1\, Canada
ATTACH;FMTTYPE=image/png:https://regionalconnections.ca/wp-content/uploads/2022/09/Dauphin.Learn-to-Skate-2.png
ORGANIZER;CN="Chiaki":MAILTO:chiaki@regionalconnections.ca
END:VEVENT
BEGIN:VEVENT
DTSTART;TZID=America/Winnipeg:20220422T183000
DTEND;TZID=America/Winnipeg:20220422T200000
DTSTAMP:20260422T094153
CREATED:20220321T182227Z
LAST-MODIFIED:20220321T182227Z
UID:10007803-1650652200-1650657600@regionalconnections.ca
SUMMARY:Japanese Calligraphy
DESCRIPTION:
URL:https://regionalconnections.ca/event/japanese-calligraphy/
LOCATION:Regional Connections Dauphin\, 30 1st Avenue NE\, Dauphin\, Manitoba\, R7N 1A4\, Canada
ATTACH;FMTTYPE=image/png:https://regionalconnections.ca/wp-content/uploads/2022/03/Japanese-Calligraphy-1.png
ORGANIZER;CN="Chiaki":MAILTO:chiaki@regionalconnections.ca
END:VEVENT
END:VCALENDAR