BEGIN:VCALENDAR
VERSION:2.0
PRODID:-//Regional Connections - ECPv6.15.18//NONSGML v1.0//EN
CALSCALE:GREGORIAN
METHOD:PUBLISH
X-ORIGINAL-URL:https://regionalconnections.ca
X-WR-CALDESC:Events for Regional Connections
REFRESH-INTERVAL;VALUE=DURATION:PT1H
X-Robots-Tag:noindex
X-PUBLISHED-TTL:PT1H
BEGIN:VTIMEZONE
TZID:America/Winnipeg
BEGIN:DAYLIGHT
TZOFFSETFROM:-0600
TZOFFSETTO:-0500
TZNAME:CDT
DTSTART:20170312T080000
END:DAYLIGHT
BEGIN:STANDARD
TZOFFSETFROM:-0500
TZOFFSETTO:-0600
TZNAME:CST
DTSTART:20171105T070000
END:STANDARD
BEGIN:DAYLIGHT
TZOFFSETFROM:-0600
TZOFFSETTO:-0500
TZNAME:CDT
DTSTART:20180311T080000
END:DAYLIGHT
BEGIN:STANDARD
TZOFFSETFROM:-0500
TZOFFSETTO:-0600
TZNAME:CST
DTSTART:20181104T070000
END:STANDARD
BEGIN:DAYLIGHT
TZOFFSETFROM:-0600
TZOFFSETTO:-0500
TZNAME:CDT
DTSTART:20190310T080000
END:DAYLIGHT
BEGIN:STANDARD
TZOFFSETFROM:-0500
TZOFFSETTO:-0600
TZNAME:CST
DTSTART:20191103T070000
END:STANDARD
BEGIN:DAYLIGHT
TZOFFSETFROM:-0600
TZOFFSETTO:-0500
TZNAME:CDT
DTSTART:20200308T080000
END:DAYLIGHT
BEGIN:STANDARD
TZOFFSETFROM:-0500
TZOFFSETTO:-0600
TZNAME:CST
DTSTART:20201101T070000
END:STANDARD
BEGIN:DAYLIGHT
TZOFFSETFROM:-0600
TZOFFSETTO:-0500
TZNAME:CDT
DTSTART:20210314T080000
END:DAYLIGHT
BEGIN:STANDARD
TZOFFSETFROM:-0500
TZOFFSETTO:-0600
TZNAME:CST
DTSTART:20211107T070000
END:STANDARD
BEGIN:DAYLIGHT
TZOFFSETFROM:-0600
TZOFFSETTO:-0500
TZNAME:CDT
DTSTART:20220313T080000
END:DAYLIGHT
BEGIN:STANDARD
TZOFFSETFROM:-0500
TZOFFSETTO:-0600
TZNAME:CST
DTSTART:20221106T070000
END:STANDARD
BEGIN:DAYLIGHT
TZOFFSETFROM:-0600
TZOFFSETTO:-0500
TZNAME:CDT
DTSTART:20230312T080000
END:DAYLIGHT
BEGIN:STANDARD
TZOFFSETFROM:-0500
TZOFFSETTO:-0600
TZNAME:CST
DTSTART:20231105T070000
END:STANDARD
END:VTIMEZONE
BEGIN:VEVENT
DTSTART;TZID=America/Winnipeg:20220223T190000
DTEND;TZID=America/Winnipeg:20220223T200000
DTSTAMP:20260422T075810
CREATED:20220203T194000Z
LAST-MODIFIED:20220203T194000Z
UID:10007783-1645642800-1645646400@regionalconnections.ca
SUMMARY:The Gingerbread Man
DESCRIPTION:
URL:https://regionalconnections.ca/event/the-gingerbread-man/
ATTACH;FMTTYPE=image/png:https://regionalconnections.ca/wp-content/uploads/2022/02/The-Gingerbread-Man-SWIS-Altona.png
ORGANIZER;CN="Erin":MAILTO:erin@regionalconnections.ca
END:VEVENT
BEGIN:VEVENT
DTSTART;TZID=America/Winnipeg:20220216T190000
DTEND;TZID=America/Winnipeg:20220216T200000
DTSTAMP:20260422T075810
CREATED:20220203T193738Z
LAST-MODIFIED:20220203T193738Z
UID:10007782-1645038000-1645041600@regionalconnections.ca
SUMMARY:The Giving Tree - A Traditional Metis Story
DESCRIPTION:
URL:https://regionalconnections.ca/event/the-giving-tree-a-traditional-metis-story/
ATTACH;FMTTYPE=image/png:https://regionalconnections.ca/wp-content/uploads/2022/02/The-Giving-Tree-SWIS-Altona.png
ORGANIZER;CN="Erin":MAILTO:erin@regionalconnections.ca
END:VEVENT
BEGIN:VEVENT
DTSTART;TZID=America/Winnipeg:20220209T190000
DTEND;TZID=America/Winnipeg:20220209T200000
DTSTAMP:20260422T075810
CREATED:20220203T193401Z
LAST-MODIFIED:20220203T193401Z
UID:10007781-1644433200-1644436800@regionalconnections.ca
SUMMARY:Before She was Harriet
DESCRIPTION:
URL:https://regionalconnections.ca/event/before-she-was-harriet/
ATTACH;FMTTYPE=image/png:https://regionalconnections.ca/wp-content/uploads/2022/02/Before-She-Was-Harriet-SWIS-Altona.png
ORGANIZER;CN="Erin":MAILTO:erin@regionalconnections.ca
END:VEVENT
BEGIN:VEVENT
DTSTART;TZID=America/Winnipeg:20180723T110000
DTEND;TZID=America/Winnipeg:20180723T120000
DTSTAMP:20260422T075811
CREATED:20180710T210207Z
LAST-MODIFIED:20180723T201454Z
UID:10007320-1532343600-1532347200@regionalconnections.ca
SUMMARY:Tile Coaster Workshop - Altona
DESCRIPTION:Make your own set of beautiful painted tile coasters with artist Miranda Mittelstet. \nChildren and Youth 6 to 18 can register. \nErin at 204-324-6858 or erin@regionalconnections.ca
URL:https://regionalconnections.ca/event/tile-coaster-workshop/
ORGANIZER;CN="Erin":MAILTO:erin@regionalconnections.ca
END:VEVENT
END:VCALENDAR