BEGIN:VCALENDAR
VERSION:2.0
PRODID:-//Regional Connections - ECPv6.15.18//NONSGML v1.0//EN
CALSCALE:GREGORIAN
METHOD:PUBLISH
X-ORIGINAL-URL:https://regionalconnections.ca
X-WR-CALDESC:Events for Regional Connections
REFRESH-INTERVAL;VALUE=DURATION:PT1H
X-Robots-Tag:noindex
X-PUBLISHED-TTL:PT1H
BEGIN:VTIMEZONE
TZID:America/Winnipeg
BEGIN:DAYLIGHT
TZOFFSETFROM:-0600
TZOFFSETTO:-0500
TZNAME:CDT
DTSTART:20170312T080000
END:DAYLIGHT
BEGIN:STANDARD
TZOFFSETFROM:-0500
TZOFFSETTO:-0600
TZNAME:CST
DTSTART:20171105T070000
END:STANDARD
BEGIN:DAYLIGHT
TZOFFSETFROM:-0600
TZOFFSETTO:-0500
TZNAME:CDT
DTSTART:20180311T080000
END:DAYLIGHT
BEGIN:STANDARD
TZOFFSETFROM:-0500
TZOFFSETTO:-0600
TZNAME:CST
DTSTART:20181104T070000
END:STANDARD
BEGIN:DAYLIGHT
TZOFFSETFROM:-0600
TZOFFSETTO:-0500
TZNAME:CDT
DTSTART:20190310T080000
END:DAYLIGHT
BEGIN:STANDARD
TZOFFSETFROM:-0500
TZOFFSETTO:-0600
TZNAME:CST
DTSTART:20191103T070000
END:STANDARD
END:VTIMEZONE
BEGIN:VEVENT
DTSTART;TZID=America/Winnipeg:20180815T130000
DTEND;TZID=America/Winnipeg:20180815T150000
DTSTAMP:20260422T151907
CREATED:20180801T173517Z
LAST-MODIFIED:20180802T175342Z
UID:10007344-1534338000-1534345200@regionalconnections.ca
SUMMARY:First Nations Cultural Workshop
DESCRIPTION:Join us and the Roseau River First Nation. Learn about the First Nation culture including making bannock!
URL:https://regionalconnections.ca/event/first-nations-cultural-workshop/
ORGANIZER;CN="Richard":MAILTO:richard@regionalconnections.ca
END:VEVENT
BEGIN:VEVENT
DTSTART;TZID=America/Winnipeg:20180718T100000
DTEND;TZID=America/Winnipeg:20180718T100000
DTSTAMP:20260422T151907
CREATED:20180710T195746Z
LAST-MODIFIED:20180710T195746Z
UID:10007317-1531908000-1531908000@regionalconnections.ca
SUMMARY:Morden Beach and Hike - Morden
DESCRIPTION:Come to Morden\, do a short hike around the lake\, and then spend the afternoon on the beach. \nJump in the water\, play soccer\, play volleyball\, or just hang out. \nBring good shoes\, water and lunch\, a towel\, and a volleyball or soccer ball. \nRichard at 204-324-6858
URL:https://regionalconnections.ca/event/morden-beach-and-hike-morden/
ORGANIZER;CN="Richard":MAILTO:richard@regionalconnections.ca
END:VEVENT
END:VCALENDAR