BEGIN:VCALENDAR
VERSION:2.0
PRODID:-//Regional Connections - ECPv6.15.18//NONSGML v1.0//EN
CALSCALE:GREGORIAN
METHOD:PUBLISH
X-WR-CALNAME:Regional Connections
X-ORIGINAL-URL:https://regionalconnections.ca
X-WR-CALDESC:Events for Regional Connections
REFRESH-INTERVAL;VALUE=DURATION:PT1H
X-Robots-Tag:noindex
X-PUBLISHED-TTL:PT1H
BEGIN:VTIMEZONE
TZID:America/Winnipeg
BEGIN:DAYLIGHT
TZOFFSETFROM:-0600
TZOFFSETTO:-0500
TZNAME:CDT
DTSTART:20170312T080000
END:DAYLIGHT
BEGIN:STANDARD
TZOFFSETFROM:-0500
TZOFFSETTO:-0600
TZNAME:CST
DTSTART:20171105T070000
END:STANDARD
BEGIN:DAYLIGHT
TZOFFSETFROM:-0600
TZOFFSETTO:-0500
TZNAME:CDT
DTSTART:20180311T080000
END:DAYLIGHT
BEGIN:STANDARD
TZOFFSETFROM:-0500
TZOFFSETTO:-0600
TZNAME:CST
DTSTART:20181104T070000
END:STANDARD
BEGIN:DAYLIGHT
TZOFFSETFROM:-0600
TZOFFSETTO:-0500
TZNAME:CDT
DTSTART:20190310T080000
END:DAYLIGHT
BEGIN:STANDARD
TZOFFSETFROM:-0500
TZOFFSETTO:-0600
TZNAME:CST
DTSTART:20191103T070000
END:STANDARD
BEGIN:DAYLIGHT
TZOFFSETFROM:-0600
TZOFFSETTO:-0500
TZNAME:CDT
DTSTART:20200308T080000
END:DAYLIGHT
BEGIN:STANDARD
TZOFFSETFROM:-0500
TZOFFSETTO:-0600
TZNAME:CST
DTSTART:20201101T070000
END:STANDARD
BEGIN:DAYLIGHT
TZOFFSETFROM:-0600
TZOFFSETTO:-0500
TZNAME:CDT
DTSTART:20210314T080000
END:DAYLIGHT
BEGIN:STANDARD
TZOFFSETFROM:-0500
TZOFFSETTO:-0600
TZNAME:CST
DTSTART:20211107T070000
END:STANDARD
BEGIN:DAYLIGHT
TZOFFSETFROM:-0600
TZOFFSETTO:-0500
TZNAME:CDT
DTSTART:20220313T080000
END:DAYLIGHT
BEGIN:STANDARD
TZOFFSETFROM:-0500
TZOFFSETTO:-0600
TZNAME:CST
DTSTART:20221106T070000
END:STANDARD
BEGIN:DAYLIGHT
TZOFFSETFROM:-0600
TZOFFSETTO:-0500
TZNAME:CDT
DTSTART:20230312T080000
END:DAYLIGHT
BEGIN:STANDARD
TZOFFSETFROM:-0500
TZOFFSETTO:-0600
TZNAME:CST
DTSTART:20231105T070000
END:STANDARD
END:VTIMEZONE
BEGIN:VEVENT
DTSTART;TZID=America/Winnipeg:20220411T180000
DTEND;TZID=America/Winnipeg:20220411T190000
DTSTAMP:20260422T065226
CREATED:20220321T204838Z
LAST-MODIFIED:20220321T204838Z
UID:10007804-1649700000-1649703600@regionalconnections.ca
SUMMARY:Choose the Right Home for You
DESCRIPTION:
URL:https://regionalconnections.ca/event/choose-the-right-home-for-you/
LOCATION:Online\, 2-295 Perry St\, Winkler\, Manitoba\, R6W 0K9\, Canada
ATTACH;FMTTYPE=image/png:https://regionalconnections.ca/wp-content/uploads/2022/03/Choosing-the-Right-Home.png
END:VEVENT
BEGIN:VEVENT
DTSTART;TZID=America/Winnipeg:20220314T060000
DTEND;TZID=America/Winnipeg:20220314T190000
DTSTAMP:20260422T065226
CREATED:20220217T192253Z
LAST-MODIFIED:20220217T192253Z
UID:10005210-1647237600-1647284400@regionalconnections.ca
SUMMARY:Cost of Home Ownership
DESCRIPTION:
URL:https://regionalconnections.ca/event/cost-of-home-ownership/
LOCATION:Online\, 2-295 Perry St\, Winkler\, Manitoba\, R6W 0K9\, Canada
ATTACH;FMTTYPE=image/png:https://regionalconnections.ca/wp-content/uploads/2022/02/Cost-of-Home-Ownership.png
END:VEVENT
BEGIN:VEVENT
DTSTART;TZID=America/Winnipeg:20220222T190000
DTEND;TZID=America/Winnipeg:20220222T200000
DTSTAMP:20260422T065226
CREATED:20220131T203454Z
LAST-MODIFIED:20220131T203530Z
UID:10007780-1645556400-1645560000@regionalconnections.ca
SUMMARY:Driving in Manitoba
DESCRIPTION:
URL:https://regionalconnections.ca/event/driving-in-manitoba-2/2022-02-22/
ATTACH;FMTTYPE=image/png:https://regionalconnections.ca/wp-content/uploads/2022/01/Driving-in-MB-Classes.png
END:VEVENT
BEGIN:VEVENT
DTSTART;TZID=America/Winnipeg:20220217T190000
DTEND;TZID=America/Winnipeg:20220217T200000
DTSTAMP:20260422T065226
CREATED:20220131T203454Z
LAST-MODIFIED:20220131T203530Z
UID:10007779-1645124400-1645128000@regionalconnections.ca
SUMMARY:Driving in Manitoba
DESCRIPTION:
URL:https://regionalconnections.ca/event/driving-in-manitoba-2/2022-02-17/
ATTACH;FMTTYPE=image/png:https://regionalconnections.ca/wp-content/uploads/2022/01/Driving-in-MB-Classes.png
END:VEVENT
BEGIN:VEVENT
DTSTART;TZID=America/Winnipeg:20220217T180000
DTEND;TZID=America/Winnipeg:20220217T190000
DTSTAMP:20260422T065226
CREATED:20220208T210845Z
LAST-MODIFIED:20220208T210845Z
UID:10007784-1645120800-1645124400@regionalconnections.ca
SUMMARY:By-Laws Information Session
DESCRIPTION:
URL:https://regionalconnections.ca/event/by-laws-information-session/
ATTACH;FMTTYPE=image/png:https://regionalconnections.ca/wp-content/uploads/2022/02/By-Law-Info-Session.png
END:VEVENT
BEGIN:VEVENT
DTSTART;TZID=America/Winnipeg:20220215T190000
DTEND;TZID=America/Winnipeg:20220215T200000
DTSTAMP:20260422T065226
CREATED:20220131T203454Z
LAST-MODIFIED:20220131T203530Z
UID:10007778-1644951600-1644955200@regionalconnections.ca
SUMMARY:Driving in Manitoba
DESCRIPTION:
URL:https://regionalconnections.ca/event/driving-in-manitoba-2/2022-02-15/
ATTACH;FMTTYPE=image/png:https://regionalconnections.ca/wp-content/uploads/2022/01/Driving-in-MB-Classes.png
END:VEVENT
BEGIN:VEVENT
DTSTART;TZID=America/Winnipeg:20220210T190000
DTEND;TZID=America/Winnipeg:20220210T200000
DTSTAMP:20260422T065226
CREATED:20220131T203454Z
LAST-MODIFIED:20220131T203530Z
UID:10007777-1644519600-1644523200@regionalconnections.ca
SUMMARY:Driving in Manitoba
DESCRIPTION:
URL:https://regionalconnections.ca/event/driving-in-manitoba-2/2022-02-10/
ATTACH;FMTTYPE=image/png:https://regionalconnections.ca/wp-content/uploads/2022/01/Driving-in-MB-Classes.png
END:VEVENT
BEGIN:VEVENT
DTSTART;TZID=America/Winnipeg:20220208T190000
DTEND;TZID=America/Winnipeg:20220208T200000
DTSTAMP:20260422T065226
CREATED:20220131T203454Z
LAST-MODIFIED:20220131T203530Z
UID:10007776-1644346800-1644350400@regionalconnections.ca
SUMMARY:Driving in Manitoba
DESCRIPTION:
URL:https://regionalconnections.ca/event/driving-in-manitoba-2/2022-02-08/
ATTACH;FMTTYPE=image/png:https://regionalconnections.ca/wp-content/uploads/2022/01/Driving-in-MB-Classes.png
END:VEVENT
BEGIN:VEVENT
DTSTART;TZID=America/Winnipeg:20220203T190000
DTEND;TZID=America/Winnipeg:20220203T200000
DTSTAMP:20260422T065226
CREATED:20220131T203454Z
LAST-MODIFIED:20220131T203530Z
UID:10007775-1643914800-1643918400@regionalconnections.ca
SUMMARY:Driving in Manitoba
DESCRIPTION:
URL:https://regionalconnections.ca/event/driving-in-manitoba-2/2022-02-03/
ATTACH;FMTTYPE=image/png:https://regionalconnections.ca/wp-content/uploads/2022/01/Driving-in-MB-Classes.png
END:VEVENT
BEGIN:VEVENT
DTSTART;TZID=America/Winnipeg:20220201T190000
DTEND;TZID=America/Winnipeg:20220201T200000
DTSTAMP:20260422T065226
CREATED:20220131T203454Z
LAST-MODIFIED:20220131T203530Z
UID:10007774-1643742000-1643745600@regionalconnections.ca
SUMMARY:Driving in Manitoba
DESCRIPTION:
URL:https://regionalconnections.ca/event/driving-in-manitoba-2/2022-02-01/
ATTACH;FMTTYPE=image/png:https://regionalconnections.ca/wp-content/uploads/2022/01/Driving-in-MB-Classes.png
END:VEVENT
BEGIN:VEVENT
DTSTART;TZID=America/Winnipeg:20180917T190000
DTEND;TZID=America/Winnipeg:20180917T210000
DTSTAMP:20260422T065226
CREATED:20180828T180453Z
LAST-MODIFIED:20180828T180453Z
UID:10007350-1537210800-1537218000@regionalconnections.ca
SUMMARY:Garden Club - Winkler
DESCRIPTION:Learn about year-round gardening in the Pembina Valley.
URL:https://regionalconnections.ca/event/garden-club-winkler/
ATTACH;FMTTYPE=image/jpeg:https://regionalconnections.ca/wp-content/uploads/2018/08/Garden-Club-Winkler.jpg
END:VEVENT
END:VCALENDAR