BEGIN:VCALENDAR
VERSION:2.0
PRODID:-//Regional Connections - ECPv6.15.18//NONSGML v1.0//EN
CALSCALE:GREGORIAN
METHOD:PUBLISH
X-WR-CALNAME:Regional Connections
X-ORIGINAL-URL:https://regionalconnections.ca
X-WR-CALDESC:Events for Regional Connections
REFRESH-INTERVAL;VALUE=DURATION:PT1H
X-Robots-Tag:noindex
X-PUBLISHED-TTL:PT1H
BEGIN:VTIMEZONE
TZID:America/Winnipeg
BEGIN:DAYLIGHT
TZOFFSETFROM:-0600
TZOFFSETTO:-0500
TZNAME:CDT
DTSTART:20190310T080000
END:DAYLIGHT
BEGIN:STANDARD
TZOFFSETFROM:-0500
TZOFFSETTO:-0600
TZNAME:CST
DTSTART:20191103T070000
END:STANDARD
BEGIN:DAYLIGHT
TZOFFSETFROM:-0600
TZOFFSETTO:-0500
TZNAME:CDT
DTSTART:20200308T080000
END:DAYLIGHT
BEGIN:STANDARD
TZOFFSETFROM:-0500
TZOFFSETTO:-0600
TZNAME:CST
DTSTART:20201101T070000
END:STANDARD
BEGIN:DAYLIGHT
TZOFFSETFROM:-0600
TZOFFSETTO:-0500
TZNAME:CDT
DTSTART:20210314T080000
END:DAYLIGHT
BEGIN:STANDARD
TZOFFSETFROM:-0500
TZOFFSETTO:-0600
TZNAME:CST
DTSTART:20211107T070000
END:STANDARD
BEGIN:DAYLIGHT
TZOFFSETFROM:-0600
TZOFFSETTO:-0500
TZNAME:CDT
DTSTART:20220313T080000
END:DAYLIGHT
BEGIN:STANDARD
TZOFFSETFROM:-0500
TZOFFSETTO:-0600
TZNAME:CST
DTSTART:20221106T070000
END:STANDARD
BEGIN:DAYLIGHT
TZOFFSETFROM:-0600
TZOFFSETTO:-0500
TZNAME:CDT
DTSTART:20230312T080000
END:DAYLIGHT
BEGIN:STANDARD
TZOFFSETFROM:-0500
TZOFFSETTO:-0600
TZNAME:CST
DTSTART:20231105T070000
END:STANDARD
BEGIN:DAYLIGHT
TZOFFSETFROM:-0600
TZOFFSETTO:-0500
TZNAME:CDT
DTSTART:20240310T080000
END:DAYLIGHT
BEGIN:STANDARD
TZOFFSETFROM:-0500
TZOFFSETTO:-0600
TZNAME:CST
DTSTART:20241103T070000
END:STANDARD
END:VTIMEZONE
BEGIN:VEVENT
DTSTART;TZID=America/Winnipeg:20230209T180000
DTEND;TZID=America/Winnipeg:20230209T190000
DTSTAMP:20260423T002700
CREATED:20230125T170502Z
LAST-MODIFIED:20230125T170502Z
UID:10008262-1675965600-1675969200@regionalconnections.ca
SUMMARY:Altona - HIPPY Group Meeting #6
DESCRIPTION:Join us for a tour of the library!
URL:https://regionalconnections.ca/event/altona-hippy-group-meeting-6/
LOCATION:South Central Regional Library – Altona Branch\, 25 Centre Ave W\, Altona\, Mantioba\, R0G 0B0\, Canada
ATTACH;FMTTYPE=image/png:https://regionalconnections.ca/wp-content/uploads/2023/01/HIPPY-Group-Meeting-6-1.png
GEO:49.1034981;-97.5554948
X-APPLE-STRUCTURED-LOCATION;VALUE=URI;X-ADDRESS=South Central Regional Library – Altona Branch 25 Centre Ave W Altona Mantioba R0G 0B0 Canada;X-APPLE-RADIUS=500;X-TITLE=25 Centre Ave W:geo:-97.5554948,49.1034981
END:VEVENT
BEGIN:VEVENT
DTSTART;TZID=America/Winnipeg:20220929T160000
DTEND;TZID=America/Winnipeg:20220929T170000
DTSTAMP:20260423T002700
CREATED:20220922T155947Z
LAST-MODIFIED:20220922T190136Z
UID:10007886-1664467200-1664470800@regionalconnections.ca
SUMMARY:Newcomer Library Tour
DESCRIPTION:Come see the new library location and what services are available!
URL:https://regionalconnections.ca/event/newcomer-library-tour/2022-09-29/2/
LOCATION:South Central Regional Library – Altona Branch\, 25 Centre Ave W\, Altona\, Mantioba\, R0G 0B0\, Canada
ATTACH;FMTTYPE=image/png:https://regionalconnections.ca/wp-content/uploads/2022/09/New-Library-Tour-1.png
GEO:49.1034981;-97.5554948
X-APPLE-STRUCTURED-LOCATION;VALUE=URI;X-ADDRESS=South Central Regional Library – Altona Branch 25 Centre Ave W Altona Mantioba R0G 0B0 Canada;X-APPLE-RADIUS=500;X-TITLE=25 Centre Ave W:geo:-97.5554948,49.1034981
END:VEVENT
BEGIN:VEVENT
DTSTART;TZID=America/Winnipeg:20220929T140000
DTEND;TZID=America/Winnipeg:20220929T150000
DTSTAMP:20260423T002700
CREATED:20220922T155947Z
LAST-MODIFIED:20220922T190136Z
UID:10007885-1664460000-1664463600@regionalconnections.ca
SUMMARY:Newcomer Library Tour
DESCRIPTION:Come see the new library location and what services are available!
URL:https://regionalconnections.ca/event/newcomer-library-tour/2022-09-29/1/
LOCATION:South Central Regional Library – Altona Branch\, 25 Centre Ave W\, Altona\, Mantioba\, R0G 0B0\, Canada
ATTACH;FMTTYPE=image/png:https://regionalconnections.ca/wp-content/uploads/2022/09/New-Library-Tour-1.png
GEO:49.1034981;-97.5554948
X-APPLE-STRUCTURED-LOCATION;VALUE=URI;X-ADDRESS=South Central Regional Library – Altona Branch 25 Centre Ave W Altona Mantioba R0G 0B0 Canada;X-APPLE-RADIUS=500;X-TITLE=25 Centre Ave W:geo:-97.5554948,49.1034981
END:VEVENT
BEGIN:VEVENT
DTSTART;TZID=America/Winnipeg:20200213T190000
DTEND;TZID=America/Winnipeg:20200213T200000
DTSTAMP:20260423T002700
CREATED:20200128T162317Z
LAST-MODIFIED:20200128T162317Z
UID:10007537-1581620400-1581624000@regionalconnections.ca
SUMMARY:Altona Library - Altona
DESCRIPTION:Learn about the different services available at the Altona Library.\nSign up for a FREE Library Card to access a large selection of books for free!\nDay and Evening Tours Available!
URL:https://regionalconnections.ca/event/altona-library-altona/
LOCATION:South Central Regional Library – Altona Branch\, 25 Centre Ave W\, Altona\, Mantioba\, R0G 0B0\, Canada
ATTACH;FMTTYPE=image/png:https://regionalconnections.ca/wp-content/uploads/2020/01/Altona-Library-Tour.png
GEO:49.1034981;-97.5554948
X-APPLE-STRUCTURED-LOCATION;VALUE=URI;X-ADDRESS=South Central Regional Library – Altona Branch 25 Centre Ave W Altona Mantioba R0G 0B0 Canada;X-APPLE-RADIUS=500;X-TITLE=25 Centre Ave W:geo:-97.5554948,49.1034981
END:VEVENT
BEGIN:VEVENT
DTSTART;TZID=America/Winnipeg:20200211T100000
DTEND;TZID=America/Winnipeg:20200211T110000
DTSTAMP:20260423T002700
CREATED:20200128T162131Z
LAST-MODIFIED:20200128T162131Z
UID:10007536-1581415200-1581418800@regionalconnections.ca
SUMMARY:Altona Library - Altona
DESCRIPTION:Learn about the different services available at the Altona Library.\nSign up for a FREE Library Card to access a large selection of books for free!\nDay and Evening Tours Available!
URL:https://regionalconnections.ca/event/altona-library-altona-2/
LOCATION:South Central Regional Library – Altona Branch\, 25 Centre Ave W\, Altona\, Mantioba\, R0G 0B0\, Canada
ATTACH;FMTTYPE=image/png:https://regionalconnections.ca/wp-content/uploads/2020/01/Altona-Library-Tour.png
GEO:49.1034981;-97.5554948
X-APPLE-STRUCTURED-LOCATION;VALUE=URI;X-ADDRESS=South Central Regional Library – Altona Branch 25 Centre Ave W Altona Mantioba R0G 0B0 Canada;X-APPLE-RADIUS=500;X-TITLE=25 Centre Ave W:geo:-97.5554948,49.1034981
END:VEVENT
END:VCALENDAR