BEGIN:VCALENDAR
VERSION:2.0
PRODID:-//Regional Connections - ECPv6.15.18//NONSGML v1.0//EN
CALSCALE:GREGORIAN
METHOD:PUBLISH
X-ORIGINAL-URL:https://regionalconnections.ca
X-WR-CALDESC:Events for Regional Connections
REFRESH-INTERVAL;VALUE=DURATION:PT1H
X-Robots-Tag:noindex
X-PUBLISHED-TTL:PT1H
BEGIN:VTIMEZONE
TZID:America/Winnipeg
BEGIN:DAYLIGHT
TZOFFSETFROM:-0600
TZOFFSETTO:-0500
TZNAME:CDT
DTSTART:20210314T080000
END:DAYLIGHT
BEGIN:STANDARD
TZOFFSETFROM:-0500
TZOFFSETTO:-0600
TZNAME:CST
DTSTART:20211107T070000
END:STANDARD
BEGIN:DAYLIGHT
TZOFFSETFROM:-0600
TZOFFSETTO:-0500
TZNAME:CDT
DTSTART:20220313T080000
END:DAYLIGHT
BEGIN:STANDARD
TZOFFSETFROM:-0500
TZOFFSETTO:-0600
TZNAME:CST
DTSTART:20221106T070000
END:STANDARD
BEGIN:DAYLIGHT
TZOFFSETFROM:-0600
TZOFFSETTO:-0500
TZNAME:CDT
DTSTART:20230312T080000
END:DAYLIGHT
BEGIN:STANDARD
TZOFFSETFROM:-0500
TZOFFSETTO:-0600
TZNAME:CST
DTSTART:20231105T070000
END:STANDARD
END:VTIMEZONE
BEGIN:VEVENT
DTSTART;TZID=America/Winnipeg:20220816T090000
DTEND;TZID=America/Winnipeg:20220816T113000
DTSTAMP:20260423T034700
CREATED:20220705T184726Z
LAST-MODIFIED:20220705T184726Z
UID:10005449-1660640400-1660649400@regionalconnections.ca
SUMMARY:Summer Fun
DESCRIPTION:
URL:https://regionalconnections.ca/event/summer-fun/2022-08-16/
LOCATION:Barker School\, 1516 Bond Street\, Dauphin\, MB\, R7N 0K4\, Canada
ATTACH;FMTTYPE=image/png:https://regionalconnections.ca/wp-content/uploads/2022/07/Dauphin-Summer-Fun.png
END:VEVENT
BEGIN:VEVENT
DTSTART;TZID=America/Winnipeg:20220809T090000
DTEND;TZID=America/Winnipeg:20220809T113000
DTSTAMP:20260423T034700
CREATED:20220705T184726Z
LAST-MODIFIED:20220705T184726Z
UID:10005448-1660035600-1660044600@regionalconnections.ca
SUMMARY:Summer Fun
DESCRIPTION:
URL:https://regionalconnections.ca/event/summer-fun/2022-08-09/
LOCATION:Barker School\, 1516 Bond Street\, Dauphin\, MB\, R7N 0K4\, Canada
ATTACH;FMTTYPE=image/png:https://regionalconnections.ca/wp-content/uploads/2022/07/Dauphin-Summer-Fun.png
END:VEVENT
BEGIN:VEVENT
DTSTART;TZID=America/Winnipeg:20220802T090000
DTEND;TZID=America/Winnipeg:20220802T113000
DTSTAMP:20260423T034700
CREATED:20220705T184726Z
LAST-MODIFIED:20220705T184726Z
UID:10005447-1659430800-1659439800@regionalconnections.ca
SUMMARY:Summer Fun
DESCRIPTION:
URL:https://regionalconnections.ca/event/summer-fun/2022-08-02/
LOCATION:Barker School\, 1516 Bond Street\, Dauphin\, MB\, R7N 0K4\, Canada
ATTACH;FMTTYPE=image/png:https://regionalconnections.ca/wp-content/uploads/2022/07/Dauphin-Summer-Fun.png
END:VEVENT
BEGIN:VEVENT
DTSTART;TZID=America/Winnipeg:20220726T090000
DTEND;TZID=America/Winnipeg:20220726T113000
DTSTAMP:20260423T034700
CREATED:20220705T184726Z
LAST-MODIFIED:20220705T184726Z
UID:10005446-1658826000-1658835000@regionalconnections.ca
SUMMARY:Summer Fun
DESCRIPTION:
URL:https://regionalconnections.ca/event/summer-fun/2022-07-26/
LOCATION:Barker School\, 1516 Bond Street\, Dauphin\, MB\, R7N 0K4\, Canada
ATTACH;FMTTYPE=image/png:https://regionalconnections.ca/wp-content/uploads/2022/07/Dauphin-Summer-Fun.png
END:VEVENT
BEGIN:VEVENT
DTSTART;TZID=America/Winnipeg:20220719T090000
DTEND;TZID=America/Winnipeg:20220719T113000
DTSTAMP:20260423T034700
CREATED:20220705T184726Z
LAST-MODIFIED:20220705T184726Z
UID:10005445-1658221200-1658230200@regionalconnections.ca
SUMMARY:Summer Fun
DESCRIPTION:
URL:https://regionalconnections.ca/event/summer-fun/2022-07-19/
LOCATION:Barker School\, 1516 Bond Street\, Dauphin\, MB\, R7N 0K4\, Canada
ATTACH;FMTTYPE=image/png:https://regionalconnections.ca/wp-content/uploads/2022/07/Dauphin-Summer-Fun.png
END:VEVENT
BEGIN:VEVENT
DTSTART;TZID=America/Winnipeg:20220712T090000
DTEND;TZID=America/Winnipeg:20220712T113000
DTSTAMP:20260423T034700
CREATED:20220705T184726Z
LAST-MODIFIED:20220705T184726Z
UID:10005444-1657616400-1657625400@regionalconnections.ca
SUMMARY:Summer Fun
DESCRIPTION:
URL:https://regionalconnections.ca/event/summer-fun/2022-07-12/
LOCATION:Barker School\, 1516 Bond Street\, Dauphin\, MB\, R7N 0K4\, Canada
ATTACH;FMTTYPE=image/png:https://regionalconnections.ca/wp-content/uploads/2022/07/Dauphin-Summer-Fun.png
END:VEVENT
BEGIN:VEVENT
DTSTART;TZID=America/Winnipeg:20220705T090000
DTEND;TZID=America/Winnipeg:20220705T113000
DTSTAMP:20260423T034700
CREATED:20220705T184726Z
LAST-MODIFIED:20220705T184726Z
UID:10005443-1657011600-1657020600@regionalconnections.ca
SUMMARY:Summer Fun
DESCRIPTION:
URL:https://regionalconnections.ca/event/summer-fun/2022-07-05/
LOCATION:Barker School\, 1516 Bond Street\, Dauphin\, MB\, R7N 0K4\, Canada
ATTACH;FMTTYPE=image/png:https://regionalconnections.ca/wp-content/uploads/2022/07/Dauphin-Summer-Fun.png
END:VEVENT
BEGIN:VEVENT
DTSTART;TZID=America/Winnipeg:20220305T140000
DTEND;TZID=America/Winnipeg:20220305T143000
DTSTAMP:20260423T034700
CREATED:20220217T171140Z
LAST-MODIFIED:20220217T171140Z
UID:10005208-1646488800-1646490600@regionalconnections.ca
SUMMARY:Snowshoeing and Sledding
DESCRIPTION:
URL:https://regionalconnections.ca/event/snowshoeing-and-sledding/
LOCATION:Barker School\, 1516 Bond Street\, Dauphin\, MB\, R7N 0K4\, Canada
ATTACH;FMTTYPE=image/png:https://regionalconnections.ca/wp-content/uploads/2022/02/Snowshoeing-and-Sledding-Dauphin.png
ORGANIZER;CN="Chiaki":MAILTO:chiaki@regionalconnections.ca
END:VEVENT
END:VCALENDAR