BEGIN:VCALENDAR
VERSION:2.0
PRODID:-//Regional Connections - ECPv6.15.18//NONSGML v1.0//EN
CALSCALE:GREGORIAN
METHOD:PUBLISH
X-ORIGINAL-URL:https://regionalconnections.ca
X-WR-CALDESC:Events for Regional Connections
REFRESH-INTERVAL;VALUE=DURATION:PT1H
X-Robots-Tag:noindex
X-PUBLISHED-TTL:PT1H
BEGIN:VTIMEZONE
TZID:America/Winnipeg
BEGIN:DAYLIGHT
TZOFFSETFROM:-0600
TZOFFSETTO:-0500
TZNAME:CDT
DTSTART:20250309T080000
END:DAYLIGHT
BEGIN:STANDARD
TZOFFSETFROM:-0500
TZOFFSETTO:-0600
TZNAME:CST
DTSTART:20251102T070000
END:STANDARD
BEGIN:DAYLIGHT
TZOFFSETFROM:-0600
TZOFFSETTO:-0500
TZNAME:CDT
DTSTART:20260308T080000
END:DAYLIGHT
BEGIN:STANDARD
TZOFFSETFROM:-0500
TZOFFSETTO:-0600
TZNAME:CST
DTSTART:20261101T070000
END:STANDARD
BEGIN:DAYLIGHT
TZOFFSETFROM:-0600
TZOFFSETTO:-0500
TZNAME:CDT
DTSTART:20270314T080000
END:DAYLIGHT
BEGIN:STANDARD
TZOFFSETFROM:-0500
TZOFFSETTO:-0600
TZNAME:CST
DTSTART:20271107T070000
END:STANDARD
BEGIN:DAYLIGHT
TZOFFSETFROM:-0600
TZOFFSETTO:-0500
TZNAME:CDT
DTSTART:20280312T080000
END:DAYLIGHT
BEGIN:STANDARD
TZOFFSETFROM:-0500
TZOFFSETTO:-0600
TZNAME:CST
DTSTART:20281105T070000
END:STANDARD
END:VTIMEZONE
BEGIN:VEVENT
DTSTART;TZID=America/Winnipeg:20260421T183000
DTEND;TZID=America/Winnipeg:20260421T200000
DTSTAMP:20260421T063747
CREATED:20260107T191754Z
LAST-MODIFIED:20260112T173324Z
UID:10012600-1776796200-1776801600@regionalconnections.ca
SUMMARY:Conversation Circle Carman
DESCRIPTION:
URL:https://regionalconnections.ca/event/conversation-circle-carman/2026-04-21/
LOCATION:Boyne Regional Library\, Carman
ATTACH;FMTTYPE=image/png:https://regionalconnections.ca/wp-content/uploads/2026/01/Conversation-Circle-Carman-1.png
END:VEVENT
BEGIN:VEVENT
DTSTART;TZID=America/Winnipeg:20260505T183000
DTEND;TZID=America/Winnipeg:20260505T200000
DTSTAMP:20260421T063747
CREATED:20260107T192126Z
LAST-MODIFIED:20260107T192126Z
UID:10012660-1778005800-1778011200@regionalconnections.ca
SUMMARY:Conversation Circle Carman
DESCRIPTION:
URL:https://regionalconnections.ca/event/conversation-circle-carman-2/2026-05-05/
LOCATION:Boyne Regional Library\, Carman
ATTACH;FMTTYPE=image/png:https://regionalconnections.ca/wp-content/uploads/2026/01/Conversation-Circle-Carman.png
END:VEVENT
BEGIN:VEVENT
DTSTART;TZID=America/Winnipeg:20260519T183000
DTEND;TZID=America/Winnipeg:20260519T200000
DTSTAMP:20260421T063747
CREATED:20260107T191754Z
LAST-MODIFIED:20260112T173324Z
UID:10012601-1779215400-1779220800@regionalconnections.ca
SUMMARY:Conversation Circle Carman
DESCRIPTION:
URL:https://regionalconnections.ca/event/conversation-circle-carman/2026-05-19/
LOCATION:Boyne Regional Library\, Carman
ATTACH;FMTTYPE=image/png:https://regionalconnections.ca/wp-content/uploads/2026/01/Conversation-Circle-Carman-1.png
END:VEVENT
BEGIN:VEVENT
DTSTART;TZID=America/Winnipeg:20260602T183000
DTEND;TZID=America/Winnipeg:20260602T200000
DTSTAMP:20260421T063747
CREATED:20260107T192126Z
LAST-MODIFIED:20260107T192126Z
UID:10012661-1780425000-1780430400@regionalconnections.ca
SUMMARY:Conversation Circle Carman
DESCRIPTION:
URL:https://regionalconnections.ca/event/conversation-circle-carman-2/2026-06-02/
LOCATION:Boyne Regional Library\, Carman
ATTACH;FMTTYPE=image/png:https://regionalconnections.ca/wp-content/uploads/2026/01/Conversation-Circle-Carman.png
END:VEVENT
BEGIN:VEVENT
DTSTART;TZID=America/Winnipeg:20260616T183000
DTEND;TZID=America/Winnipeg:20260616T200000
DTSTAMP:20260421T063747
CREATED:20260107T191754Z
LAST-MODIFIED:20260112T173324Z
UID:10012602-1781634600-1781640000@regionalconnections.ca
SUMMARY:Conversation Circle Carman
DESCRIPTION:
URL:https://regionalconnections.ca/event/conversation-circle-carman/2026-06-16/
LOCATION:Boyne Regional Library\, Carman
ATTACH;FMTTYPE=image/png:https://regionalconnections.ca/wp-content/uploads/2026/01/Conversation-Circle-Carman-1.png
END:VEVENT
BEGIN:VEVENT
DTSTART;TZID=America/Winnipeg:20260707T183000
DTEND;TZID=America/Winnipeg:20260707T200000
DTSTAMP:20260421T063747
CREATED:20260107T192126Z
LAST-MODIFIED:20260107T192126Z
UID:10012662-1783449000-1783454400@regionalconnections.ca
SUMMARY:Conversation Circle Carman
DESCRIPTION:
URL:https://regionalconnections.ca/event/conversation-circle-carman-2/2026-07-07/
LOCATION:Boyne Regional Library\, Carman
ATTACH;FMTTYPE=image/png:https://regionalconnections.ca/wp-content/uploads/2026/01/Conversation-Circle-Carman.png
END:VEVENT
BEGIN:VEVENT
DTSTART;TZID=America/Winnipeg:20260721T183000
DTEND;TZID=America/Winnipeg:20260721T200000
DTSTAMP:20260421T063747
CREATED:20260107T191754Z
LAST-MODIFIED:20260112T173324Z
UID:10012603-1784658600-1784664000@regionalconnections.ca
SUMMARY:Conversation Circle Carman
DESCRIPTION:
URL:https://regionalconnections.ca/event/conversation-circle-carman/2026-07-21/
LOCATION:Boyne Regional Library\, Carman
ATTACH;FMTTYPE=image/png:https://regionalconnections.ca/wp-content/uploads/2026/01/Conversation-Circle-Carman-1.png
END:VEVENT
BEGIN:VEVENT
DTSTART;TZID=America/Winnipeg:20260804T183000
DTEND;TZID=America/Winnipeg:20260804T200000
DTSTAMP:20260421T063747
CREATED:20260107T192126Z
LAST-MODIFIED:20260107T192126Z
UID:10012663-1785868200-1785873600@regionalconnections.ca
SUMMARY:Conversation Circle Carman
DESCRIPTION:
URL:https://regionalconnections.ca/event/conversation-circle-carman-2/2026-08-04/
LOCATION:Boyne Regional Library\, Carman
ATTACH;FMTTYPE=image/png:https://regionalconnections.ca/wp-content/uploads/2026/01/Conversation-Circle-Carman.png
END:VEVENT
BEGIN:VEVENT
DTSTART;TZID=America/Winnipeg:20260818T183000
DTEND;TZID=America/Winnipeg:20260818T200000
DTSTAMP:20260421T063747
CREATED:20260107T191754Z
LAST-MODIFIED:20260112T173324Z
UID:10012604-1787077800-1787083200@regionalconnections.ca
SUMMARY:Conversation Circle Carman
DESCRIPTION:
URL:https://regionalconnections.ca/event/conversation-circle-carman/2026-08-18/
LOCATION:Boyne Regional Library\, Carman
ATTACH;FMTTYPE=image/png:https://regionalconnections.ca/wp-content/uploads/2026/01/Conversation-Circle-Carman-1.png
END:VEVENT
BEGIN:VEVENT
DTSTART;TZID=America/Winnipeg:20260901T183000
DTEND;TZID=America/Winnipeg:20260901T200000
DTSTAMP:20260421T063747
CREATED:20260107T192126Z
LAST-MODIFIED:20260107T192126Z
UID:10012664-1788287400-1788292800@regionalconnections.ca
SUMMARY:Conversation Circle Carman
DESCRIPTION:
URL:https://regionalconnections.ca/event/conversation-circle-carman-2/2026-09-01/
LOCATION:Boyne Regional Library\, Carman
ATTACH;FMTTYPE=image/png:https://regionalconnections.ca/wp-content/uploads/2026/01/Conversation-Circle-Carman.png
END:VEVENT
BEGIN:VEVENT
DTSTART;TZID=America/Winnipeg:20260915T183000
DTEND;TZID=America/Winnipeg:20260915T200000
DTSTAMP:20260421T063747
CREATED:20260107T191754Z
LAST-MODIFIED:20260112T173324Z
UID:10012605-1789497000-1789502400@regionalconnections.ca
SUMMARY:Conversation Circle Carman
DESCRIPTION:
URL:https://regionalconnections.ca/event/conversation-circle-carman/2026-09-15/
LOCATION:Boyne Regional Library\, Carman
ATTACH;FMTTYPE=image/png:https://regionalconnections.ca/wp-content/uploads/2026/01/Conversation-Circle-Carman-1.png
END:VEVENT
BEGIN:VEVENT
DTSTART;TZID=America/Winnipeg:20261006T183000
DTEND;TZID=America/Winnipeg:20261006T200000
DTSTAMP:20260421T063747
CREATED:20260107T192126Z
LAST-MODIFIED:20260107T192126Z
UID:10012665-1791311400-1791316800@regionalconnections.ca
SUMMARY:Conversation Circle Carman
DESCRIPTION:
URL:https://regionalconnections.ca/event/conversation-circle-carman-2/2026-10-06/
LOCATION:Boyne Regional Library\, Carman
ATTACH;FMTTYPE=image/png:https://regionalconnections.ca/wp-content/uploads/2026/01/Conversation-Circle-Carman.png
END:VEVENT
BEGIN:VEVENT
DTSTART;TZID=America/Winnipeg:20261020T183000
DTEND;TZID=America/Winnipeg:20261020T200000
DTSTAMP:20260421T063747
CREATED:20260107T191754Z
LAST-MODIFIED:20260112T173324Z
UID:10012606-1792521000-1792526400@regionalconnections.ca
SUMMARY:Conversation Circle Carman
DESCRIPTION:
URL:https://regionalconnections.ca/event/conversation-circle-carman/2026-10-20/
LOCATION:Boyne Regional Library\, Carman
ATTACH;FMTTYPE=image/png:https://regionalconnections.ca/wp-content/uploads/2026/01/Conversation-Circle-Carman-1.png
END:VEVENT
BEGIN:VEVENT
DTSTART;TZID=America/Winnipeg:20261103T183000
DTEND;TZID=America/Winnipeg:20261103T200000
DTSTAMP:20260421T063747
CREATED:20260107T192126Z
LAST-MODIFIED:20260107T192126Z
UID:10012666-1793730600-1793736000@regionalconnections.ca
SUMMARY:Conversation Circle Carman
DESCRIPTION:
URL:https://regionalconnections.ca/event/conversation-circle-carman-2/2026-11-03/
LOCATION:Boyne Regional Library\, Carman
ATTACH;FMTTYPE=image/png:https://regionalconnections.ca/wp-content/uploads/2026/01/Conversation-Circle-Carman.png
END:VEVENT
BEGIN:VEVENT
DTSTART;TZID=America/Winnipeg:20261117T183000
DTEND;TZID=America/Winnipeg:20261117T200000
DTSTAMP:20260421T063747
CREATED:20260107T191754Z
LAST-MODIFIED:20260112T173324Z
UID:10012607-1794940200-1794945600@regionalconnections.ca
SUMMARY:Conversation Circle Carman
DESCRIPTION:
URL:https://regionalconnections.ca/event/conversation-circle-carman/2026-11-17/
LOCATION:Boyne Regional Library\, Carman
ATTACH;FMTTYPE=image/png:https://regionalconnections.ca/wp-content/uploads/2026/01/Conversation-Circle-Carman-1.png
END:VEVENT
BEGIN:VEVENT
DTSTART;TZID=America/Winnipeg:20261201T183000
DTEND;TZID=America/Winnipeg:20261201T200000
DTSTAMP:20260421T063747
CREATED:20260107T192126Z
LAST-MODIFIED:20260107T192126Z
UID:10012667-1796149800-1796155200@regionalconnections.ca
SUMMARY:Conversation Circle Carman
DESCRIPTION:
URL:https://regionalconnections.ca/event/conversation-circle-carman-2/2026-12-01/
LOCATION:Boyne Regional Library\, Carman
ATTACH;FMTTYPE=image/png:https://regionalconnections.ca/wp-content/uploads/2026/01/Conversation-Circle-Carman.png
END:VEVENT
BEGIN:VEVENT
DTSTART;TZID=America/Winnipeg:20261215T183000
DTEND;TZID=America/Winnipeg:20261215T200000
DTSTAMP:20260421T063747
CREATED:20260107T191754Z
LAST-MODIFIED:20260112T173324Z
UID:10012608-1797359400-1797364800@regionalconnections.ca
SUMMARY:Conversation Circle Carman
DESCRIPTION:
URL:https://regionalconnections.ca/event/conversation-circle-carman/2026-12-15/
LOCATION:Boyne Regional Library\, Carman
ATTACH;FMTTYPE=image/png:https://regionalconnections.ca/wp-content/uploads/2026/01/Conversation-Circle-Carman-1.png
END:VEVENT
BEGIN:VEVENT
DTSTART;TZID=America/Winnipeg:20270105T183000
DTEND;TZID=America/Winnipeg:20270105T200000
DTSTAMP:20260421T063747
CREATED:20260107T192126Z
LAST-MODIFIED:20260107T192126Z
UID:10012668-1799173800-1799179200@regionalconnections.ca
SUMMARY:Conversation Circle Carman
DESCRIPTION:
URL:https://regionalconnections.ca/event/conversation-circle-carman-2/2027-01-05/
LOCATION:Boyne Regional Library\, Carman
ATTACH;FMTTYPE=image/png:https://regionalconnections.ca/wp-content/uploads/2026/01/Conversation-Circle-Carman.png
END:VEVENT
BEGIN:VEVENT
DTSTART;TZID=America/Winnipeg:20270119T183000
DTEND;TZID=America/Winnipeg:20270119T200000
DTSTAMP:20260421T063747
CREATED:20260107T191754Z
LAST-MODIFIED:20260112T173324Z
UID:10012609-1800383400-1800388800@regionalconnections.ca
SUMMARY:Conversation Circle Carman
DESCRIPTION:
URL:https://regionalconnections.ca/event/conversation-circle-carman/2027-01-19/
LOCATION:Boyne Regional Library\, Carman
ATTACH;FMTTYPE=image/png:https://regionalconnections.ca/wp-content/uploads/2026/01/Conversation-Circle-Carman-1.png
END:VEVENT
BEGIN:VEVENT
DTSTART;TZID=America/Winnipeg:20270202T183000
DTEND;TZID=America/Winnipeg:20270202T200000
DTSTAMP:20260421T063747
CREATED:20260107T192126Z
LAST-MODIFIED:20260107T192126Z
UID:10012669-1801593000-1801598400@regionalconnections.ca
SUMMARY:Conversation Circle Carman
DESCRIPTION:
URL:https://regionalconnections.ca/event/conversation-circle-carman-2/2027-02-02/
LOCATION:Boyne Regional Library\, Carman
ATTACH;FMTTYPE=image/png:https://regionalconnections.ca/wp-content/uploads/2026/01/Conversation-Circle-Carman.png
END:VEVENT
BEGIN:VEVENT
DTSTART;TZID=America/Winnipeg:20270216T183000
DTEND;TZID=America/Winnipeg:20270216T200000
DTSTAMP:20260421T063747
CREATED:20260107T191754Z
LAST-MODIFIED:20260112T173324Z
UID:10012610-1802802600-1802808000@regionalconnections.ca
SUMMARY:Conversation Circle Carman
DESCRIPTION:
URL:https://regionalconnections.ca/event/conversation-circle-carman/2027-02-16/
LOCATION:Boyne Regional Library\, Carman
ATTACH;FMTTYPE=image/png:https://regionalconnections.ca/wp-content/uploads/2026/01/Conversation-Circle-Carman-1.png
END:VEVENT
BEGIN:VEVENT
DTSTART;TZID=America/Winnipeg:20270302T183000
DTEND;TZID=America/Winnipeg:20270302T200000
DTSTAMP:20260421T063747
CREATED:20260107T192126Z
LAST-MODIFIED:20260107T192126Z
UID:10012670-1804012200-1804017600@regionalconnections.ca
SUMMARY:Conversation Circle Carman
DESCRIPTION:
URL:https://regionalconnections.ca/event/conversation-circle-carman-2/2027-03-02/
LOCATION:Boyne Regional Library\, Carman
ATTACH;FMTTYPE=image/png:https://regionalconnections.ca/wp-content/uploads/2026/01/Conversation-Circle-Carman.png
END:VEVENT
BEGIN:VEVENT
DTSTART;TZID=America/Winnipeg:20270316T183000
DTEND;TZID=America/Winnipeg:20270316T200000
DTSTAMP:20260421T063747
CREATED:20260107T191754Z
LAST-MODIFIED:20260112T173324Z
UID:10012611-1805221800-1805227200@regionalconnections.ca
SUMMARY:Conversation Circle Carman
DESCRIPTION:
URL:https://regionalconnections.ca/event/conversation-circle-carman/2027-03-16/
LOCATION:Boyne Regional Library\, Carman
ATTACH;FMTTYPE=image/png:https://regionalconnections.ca/wp-content/uploads/2026/01/Conversation-Circle-Carman-1.png
END:VEVENT
BEGIN:VEVENT
DTSTART;TZID=America/Winnipeg:20270406T183000
DTEND;TZID=America/Winnipeg:20270406T200000
DTSTAMP:20260421T063747
CREATED:20260107T192126Z
LAST-MODIFIED:20260107T192126Z
UID:10012671-1807036200-1807041600@regionalconnections.ca
SUMMARY:Conversation Circle Carman
DESCRIPTION:
URL:https://regionalconnections.ca/event/conversation-circle-carman-2/2027-04-06/
LOCATION:Boyne Regional Library\, Carman
ATTACH;FMTTYPE=image/png:https://regionalconnections.ca/wp-content/uploads/2026/01/Conversation-Circle-Carman.png
END:VEVENT
BEGIN:VEVENT
DTSTART;TZID=America/Winnipeg:20270420T183000
DTEND;TZID=America/Winnipeg:20270420T200000
DTSTAMP:20260421T063747
CREATED:20260107T191754Z
LAST-MODIFIED:20260112T173324Z
UID:10012612-1808245800-1808251200@regionalconnections.ca
SUMMARY:Conversation Circle Carman
DESCRIPTION:
URL:https://regionalconnections.ca/event/conversation-circle-carman/2027-04-20/
LOCATION:Boyne Regional Library\, Carman
ATTACH;FMTTYPE=image/png:https://regionalconnections.ca/wp-content/uploads/2026/01/Conversation-Circle-Carman-1.png
END:VEVENT
BEGIN:VEVENT
DTSTART;TZID=America/Winnipeg:20270504T183000
DTEND;TZID=America/Winnipeg:20270504T200000
DTSTAMP:20260421T063747
CREATED:20260107T192126Z
LAST-MODIFIED:20260107T192126Z
UID:10012672-1809455400-1809460800@regionalconnections.ca
SUMMARY:Conversation Circle Carman
DESCRIPTION:
URL:https://regionalconnections.ca/event/conversation-circle-carman-2/2027-05-04/
LOCATION:Boyne Regional Library\, Carman
ATTACH;FMTTYPE=image/png:https://regionalconnections.ca/wp-content/uploads/2026/01/Conversation-Circle-Carman.png
END:VEVENT
BEGIN:VEVENT
DTSTART;TZID=America/Winnipeg:20270518T183000
DTEND;TZID=America/Winnipeg:20270518T200000
DTSTAMP:20260421T063747
CREATED:20260107T191754Z
LAST-MODIFIED:20260112T173324Z
UID:10012613-1810665000-1810670400@regionalconnections.ca
SUMMARY:Conversation Circle Carman
DESCRIPTION:
URL:https://regionalconnections.ca/event/conversation-circle-carman/2027-05-18/
LOCATION:Boyne Regional Library\, Carman
ATTACH;FMTTYPE=image/png:https://regionalconnections.ca/wp-content/uploads/2026/01/Conversation-Circle-Carman-1.png
END:VEVENT
BEGIN:VEVENT
DTSTART;TZID=America/Winnipeg:20270601T183000
DTEND;TZID=America/Winnipeg:20270601T200000
DTSTAMP:20260421T063747
CREATED:20260107T192126Z
LAST-MODIFIED:20260107T192126Z
UID:10012673-1811874600-1811880000@regionalconnections.ca
SUMMARY:Conversation Circle Carman
DESCRIPTION:
URL:https://regionalconnections.ca/event/conversation-circle-carman-2/2027-06-01/
LOCATION:Boyne Regional Library\, Carman
ATTACH;FMTTYPE=image/png:https://regionalconnections.ca/wp-content/uploads/2026/01/Conversation-Circle-Carman.png
END:VEVENT
BEGIN:VEVENT
DTSTART;TZID=America/Winnipeg:20270615T183000
DTEND;TZID=America/Winnipeg:20270615T200000
DTSTAMP:20260421T063747
CREATED:20260107T191754Z
LAST-MODIFIED:20260112T173324Z
UID:10012614-1813084200-1813089600@regionalconnections.ca
SUMMARY:Conversation Circle Carman
DESCRIPTION:
URL:https://regionalconnections.ca/event/conversation-circle-carman/2027-06-15/
LOCATION:Boyne Regional Library\, Carman
ATTACH;FMTTYPE=image/png:https://regionalconnections.ca/wp-content/uploads/2026/01/Conversation-Circle-Carman-1.png
END:VEVENT
BEGIN:VEVENT
DTSTART;TZID=America/Winnipeg:20270706T183000
DTEND;TZID=America/Winnipeg:20270706T200000
DTSTAMP:20260421T063747
CREATED:20260107T192126Z
LAST-MODIFIED:20260107T192126Z
UID:10012674-1814898600-1814904000@regionalconnections.ca
SUMMARY:Conversation Circle Carman
DESCRIPTION:
URL:https://regionalconnections.ca/event/conversation-circle-carman-2/2027-07-06/
LOCATION:Boyne Regional Library\, Carman
ATTACH;FMTTYPE=image/png:https://regionalconnections.ca/wp-content/uploads/2026/01/Conversation-Circle-Carman.png
END:VEVENT
END:VCALENDAR