BEGIN:VCALENDAR
VERSION:2.0
PRODID:-//Regional Connections - ECPv6.15.18//NONSGML v1.0//EN
CALSCALE:GREGORIAN
METHOD:PUBLISH
X-ORIGINAL-URL:https://regionalconnections.ca
X-WR-CALDESC:Events for Regional Connections
REFRESH-INTERVAL;VALUE=DURATION:PT1H
X-Robots-Tag:noindex
X-PUBLISHED-TTL:PT1H
BEGIN:VTIMEZONE
TZID:America/Winnipeg
BEGIN:DAYLIGHT
TZOFFSETFROM:-0600
TZOFFSETTO:-0500
TZNAME:CDT
DTSTART:20260308T080000
END:DAYLIGHT
BEGIN:STANDARD
TZOFFSETFROM:-0500
TZOFFSETTO:-0600
TZNAME:CST
DTSTART:20261101T070000
END:STANDARD
BEGIN:DAYLIGHT
TZOFFSETFROM:-0600
TZOFFSETTO:-0500
TZNAME:CDT
DTSTART:20270314T080000
END:DAYLIGHT
BEGIN:STANDARD
TZOFFSETFROM:-0500
TZOFFSETTO:-0600
TZNAME:CST
DTSTART:20271107T070000
END:STANDARD
BEGIN:DAYLIGHT
TZOFFSETFROM:-0600
TZOFFSETTO:-0500
TZNAME:CDT
DTSTART:20280312T080000
END:DAYLIGHT
BEGIN:STANDARD
TZOFFSETFROM:-0500
TZOFFSETTO:-0600
TZNAME:CST
DTSTART:20281105T070000
END:STANDARD
BEGIN:DAYLIGHT
TZOFFSETFROM:-0600
TZOFFSETTO:-0500
TZNAME:CDT
DTSTART:20290311T080000
END:DAYLIGHT
BEGIN:STANDARD
TZOFFSETFROM:-0500
TZOFFSETTO:-0600
TZNAME:CST
DTSTART:20291104T070000
END:STANDARD
END:VTIMEZONE
BEGIN:VEVENT
DTSTART;TZID=America/Winnipeg:20270420T183000
DTEND;TZID=America/Winnipeg:20270420T200000
DTSTAMP:20260421T081626
CREATED:20260107T191754Z
LAST-MODIFIED:20260112T173324Z
UID:10012612-1808245800-1808251200@regionalconnections.ca
SUMMARY:Conversation Circle Carman
DESCRIPTION:
URL:https://regionalconnections.ca/event/conversation-circle-carman/2027-04-20/
LOCATION:Boyne Regional Library\, Carman
ATTACH;FMTTYPE=image/png:https://regionalconnections.ca/wp-content/uploads/2026/01/Conversation-Circle-Carman-1.png
END:VEVENT
BEGIN:VEVENT
DTSTART;TZID=America/Winnipeg:20270504T183000
DTEND;TZID=America/Winnipeg:20270504T200000
DTSTAMP:20260421T081626
CREATED:20260107T192126Z
LAST-MODIFIED:20260107T192126Z
UID:10012672-1809455400-1809460800@regionalconnections.ca
SUMMARY:Conversation Circle Carman
DESCRIPTION:
URL:https://regionalconnections.ca/event/conversation-circle-carman-2/2027-05-04/
LOCATION:Boyne Regional Library\, Carman
ATTACH;FMTTYPE=image/png:https://regionalconnections.ca/wp-content/uploads/2026/01/Conversation-Circle-Carman.png
END:VEVENT
BEGIN:VEVENT
DTSTART;TZID=America/Winnipeg:20270518T183000
DTEND;TZID=America/Winnipeg:20270518T200000
DTSTAMP:20260421T081626
CREATED:20260107T191754Z
LAST-MODIFIED:20260112T173324Z
UID:10012613-1810665000-1810670400@regionalconnections.ca
SUMMARY:Conversation Circle Carman
DESCRIPTION:
URL:https://regionalconnections.ca/event/conversation-circle-carman/2027-05-18/
LOCATION:Boyne Regional Library\, Carman
ATTACH;FMTTYPE=image/png:https://regionalconnections.ca/wp-content/uploads/2026/01/Conversation-Circle-Carman-1.png
END:VEVENT
BEGIN:VEVENT
DTSTART;TZID=America/Winnipeg:20270601T183000
DTEND;TZID=America/Winnipeg:20270601T200000
DTSTAMP:20260421T081626
CREATED:20260107T192126Z
LAST-MODIFIED:20260107T192126Z
UID:10012673-1811874600-1811880000@regionalconnections.ca
SUMMARY:Conversation Circle Carman
DESCRIPTION:
URL:https://regionalconnections.ca/event/conversation-circle-carman-2/2027-06-01/
LOCATION:Boyne Regional Library\, Carman
ATTACH;FMTTYPE=image/png:https://regionalconnections.ca/wp-content/uploads/2026/01/Conversation-Circle-Carman.png
END:VEVENT
BEGIN:VEVENT
DTSTART;TZID=America/Winnipeg:20270615T183000
DTEND;TZID=America/Winnipeg:20270615T200000
DTSTAMP:20260421T081626
CREATED:20260107T191754Z
LAST-MODIFIED:20260112T173324Z
UID:10012614-1813084200-1813089600@regionalconnections.ca
SUMMARY:Conversation Circle Carman
DESCRIPTION:
URL:https://regionalconnections.ca/event/conversation-circle-carman/2027-06-15/
LOCATION:Boyne Regional Library\, Carman
ATTACH;FMTTYPE=image/png:https://regionalconnections.ca/wp-content/uploads/2026/01/Conversation-Circle-Carman-1.png
END:VEVENT
BEGIN:VEVENT
DTSTART;TZID=America/Winnipeg:20270706T183000
DTEND;TZID=America/Winnipeg:20270706T200000
DTSTAMP:20260421T081626
CREATED:20260107T192126Z
LAST-MODIFIED:20260107T192126Z
UID:10012674-1814898600-1814904000@regionalconnections.ca
SUMMARY:Conversation Circle Carman
DESCRIPTION:
URL:https://regionalconnections.ca/event/conversation-circle-carman-2/2027-07-06/
LOCATION:Boyne Regional Library\, Carman
ATTACH;FMTTYPE=image/png:https://regionalconnections.ca/wp-content/uploads/2026/01/Conversation-Circle-Carman.png
END:VEVENT
BEGIN:VEVENT
DTSTART;TZID=America/Winnipeg:20270720T183000
DTEND;TZID=America/Winnipeg:20270720T200000
DTSTAMP:20260421T081626
CREATED:20260107T191754Z
LAST-MODIFIED:20260112T173324Z
UID:10012615-1816108200-1816113600@regionalconnections.ca
SUMMARY:Conversation Circle Carman
DESCRIPTION:
URL:https://regionalconnections.ca/event/conversation-circle-carman/2027-07-20/
LOCATION:Boyne Regional Library\, Carman
ATTACH;FMTTYPE=image/png:https://regionalconnections.ca/wp-content/uploads/2026/01/Conversation-Circle-Carman-1.png
END:VEVENT
BEGIN:VEVENT
DTSTART;TZID=America/Winnipeg:20270803T183000
DTEND;TZID=America/Winnipeg:20270803T200000
DTSTAMP:20260421T081626
CREATED:20260107T192126Z
LAST-MODIFIED:20260107T192126Z
UID:10012675-1817317800-1817323200@regionalconnections.ca
SUMMARY:Conversation Circle Carman
DESCRIPTION:
URL:https://regionalconnections.ca/event/conversation-circle-carman-2/2027-08-03/
LOCATION:Boyne Regional Library\, Carman
ATTACH;FMTTYPE=image/png:https://regionalconnections.ca/wp-content/uploads/2026/01/Conversation-Circle-Carman.png
END:VEVENT
BEGIN:VEVENT
DTSTART;TZID=America/Winnipeg:20270817T183000
DTEND;TZID=America/Winnipeg:20270817T200000
DTSTAMP:20260421T081626
CREATED:20260107T191754Z
LAST-MODIFIED:20260112T173324Z
UID:10012616-1818527400-1818532800@regionalconnections.ca
SUMMARY:Conversation Circle Carman
DESCRIPTION:
URL:https://regionalconnections.ca/event/conversation-circle-carman/2027-08-17/
LOCATION:Boyne Regional Library\, Carman
ATTACH;FMTTYPE=image/png:https://regionalconnections.ca/wp-content/uploads/2026/01/Conversation-Circle-Carman-1.png
END:VEVENT
BEGIN:VEVENT
DTSTART;TZID=America/Winnipeg:20270907T183000
DTEND;TZID=America/Winnipeg:20270907T200000
DTSTAMP:20260421T081626
CREATED:20260107T192126Z
LAST-MODIFIED:20260107T192126Z
UID:10012676-1820341800-1820347200@regionalconnections.ca
SUMMARY:Conversation Circle Carman
DESCRIPTION:
URL:https://regionalconnections.ca/event/conversation-circle-carman-2/2027-09-07/
LOCATION:Boyne Regional Library\, Carman
ATTACH;FMTTYPE=image/png:https://regionalconnections.ca/wp-content/uploads/2026/01/Conversation-Circle-Carman.png
END:VEVENT
BEGIN:VEVENT
DTSTART;TZID=America/Winnipeg:20270921T183000
DTEND;TZID=America/Winnipeg:20270921T200000
DTSTAMP:20260421T081626
CREATED:20260107T191754Z
LAST-MODIFIED:20260112T173324Z
UID:10012617-1821551400-1821556800@regionalconnections.ca
SUMMARY:Conversation Circle Carman
DESCRIPTION:
URL:https://regionalconnections.ca/event/conversation-circle-carman/2027-09-21/
LOCATION:Boyne Regional Library\, Carman
ATTACH;FMTTYPE=image/png:https://regionalconnections.ca/wp-content/uploads/2026/01/Conversation-Circle-Carman-1.png
END:VEVENT
BEGIN:VEVENT
DTSTART;TZID=America/Winnipeg:20271005T183000
DTEND;TZID=America/Winnipeg:20271005T200000
DTSTAMP:20260421T081626
CREATED:20260107T192126Z
LAST-MODIFIED:20260107T192126Z
UID:10012677-1822761000-1822766400@regionalconnections.ca
SUMMARY:Conversation Circle Carman
DESCRIPTION:
URL:https://regionalconnections.ca/event/conversation-circle-carman-2/2027-10-05/
LOCATION:Boyne Regional Library\, Carman
ATTACH;FMTTYPE=image/png:https://regionalconnections.ca/wp-content/uploads/2026/01/Conversation-Circle-Carman.png
END:VEVENT
BEGIN:VEVENT
DTSTART;TZID=America/Winnipeg:20271019T183000
DTEND;TZID=America/Winnipeg:20271019T200000
DTSTAMP:20260421T081626
CREATED:20260107T191754Z
LAST-MODIFIED:20260112T173324Z
UID:10012618-1823970600-1823976000@regionalconnections.ca
SUMMARY:Conversation Circle Carman
DESCRIPTION:
URL:https://regionalconnections.ca/event/conversation-circle-carman/2027-10-19/
LOCATION:Boyne Regional Library\, Carman
ATTACH;FMTTYPE=image/png:https://regionalconnections.ca/wp-content/uploads/2026/01/Conversation-Circle-Carman-1.png
END:VEVENT
BEGIN:VEVENT
DTSTART;TZID=America/Winnipeg:20271102T183000
DTEND;TZID=America/Winnipeg:20271102T200000
DTSTAMP:20260421T081626
CREATED:20260107T192126Z
LAST-MODIFIED:20260107T192126Z
UID:10012678-1825180200-1825185600@regionalconnections.ca
SUMMARY:Conversation Circle Carman
DESCRIPTION:
URL:https://regionalconnections.ca/event/conversation-circle-carman-2/2027-11-02/
LOCATION:Boyne Regional Library\, Carman
ATTACH;FMTTYPE=image/png:https://regionalconnections.ca/wp-content/uploads/2026/01/Conversation-Circle-Carman.png
END:VEVENT
BEGIN:VEVENT
DTSTART;TZID=America/Winnipeg:20271116T183000
DTEND;TZID=America/Winnipeg:20271116T200000
DTSTAMP:20260421T081626
CREATED:20260107T191754Z
LAST-MODIFIED:20260112T173324Z
UID:10012619-1826389800-1826395200@regionalconnections.ca
SUMMARY:Conversation Circle Carman
DESCRIPTION:
URL:https://regionalconnections.ca/event/conversation-circle-carman/2027-11-16/
LOCATION:Boyne Regional Library\, Carman
ATTACH;FMTTYPE=image/png:https://regionalconnections.ca/wp-content/uploads/2026/01/Conversation-Circle-Carman-1.png
END:VEVENT
BEGIN:VEVENT
DTSTART;TZID=America/Winnipeg:20271207T183000
DTEND;TZID=America/Winnipeg:20271207T200000
DTSTAMP:20260421T081626
CREATED:20260107T192126Z
LAST-MODIFIED:20260107T192126Z
UID:10012679-1828204200-1828209600@regionalconnections.ca
SUMMARY:Conversation Circle Carman
DESCRIPTION:
URL:https://regionalconnections.ca/event/conversation-circle-carman-2/2027-12-07/
LOCATION:Boyne Regional Library\, Carman
ATTACH;FMTTYPE=image/png:https://regionalconnections.ca/wp-content/uploads/2026/01/Conversation-Circle-Carman.png
END:VEVENT
BEGIN:VEVENT
DTSTART;TZID=America/Winnipeg:20271221T183000
DTEND;TZID=America/Winnipeg:20271221T200000
DTSTAMP:20260421T081626
CREATED:20260107T191754Z
LAST-MODIFIED:20260112T173324Z
UID:10012620-1829413800-1829419200@regionalconnections.ca
SUMMARY:Conversation Circle Carman
DESCRIPTION:
URL:https://regionalconnections.ca/event/conversation-circle-carman/2027-12-21/
LOCATION:Boyne Regional Library\, Carman
ATTACH;FMTTYPE=image/png:https://regionalconnections.ca/wp-content/uploads/2026/01/Conversation-Circle-Carman-1.png
END:VEVENT
BEGIN:VEVENT
DTSTART;TZID=America/Winnipeg:20280104T183000
DTEND;TZID=America/Winnipeg:20280104T200000
DTSTAMP:20260421T081626
CREATED:20260107T192126Z
LAST-MODIFIED:20260107T192126Z
UID:10012680-1830623400-1830628800@regionalconnections.ca
SUMMARY:Conversation Circle Carman
DESCRIPTION:
URL:https://regionalconnections.ca/event/conversation-circle-carman-2/2028-01-04/
LOCATION:Boyne Regional Library\, Carman
ATTACH;FMTTYPE=image/png:https://regionalconnections.ca/wp-content/uploads/2026/01/Conversation-Circle-Carman.png
END:VEVENT
BEGIN:VEVENT
DTSTART;TZID=America/Winnipeg:20280118T183000
DTEND;TZID=America/Winnipeg:20280118T200000
DTSTAMP:20260421T081626
CREATED:20260107T191754Z
LAST-MODIFIED:20260112T173324Z
UID:10012621-1831833000-1831838400@regionalconnections.ca
SUMMARY:Conversation Circle Carman
DESCRIPTION:
URL:https://regionalconnections.ca/event/conversation-circle-carman/2028-01-18/
LOCATION:Boyne Regional Library\, Carman
ATTACH;FMTTYPE=image/png:https://regionalconnections.ca/wp-content/uploads/2026/01/Conversation-Circle-Carman-1.png
END:VEVENT
BEGIN:VEVENT
DTSTART;TZID=America/Winnipeg:20280201T183000
DTEND;TZID=America/Winnipeg:20280201T200000
DTSTAMP:20260421T081626
CREATED:20260107T192126Z
LAST-MODIFIED:20260107T192126Z
UID:10012681-1833042600-1833048000@regionalconnections.ca
SUMMARY:Conversation Circle Carman
DESCRIPTION:
URL:https://regionalconnections.ca/event/conversation-circle-carman-2/2028-02-01/
LOCATION:Boyne Regional Library\, Carman
ATTACH;FMTTYPE=image/png:https://regionalconnections.ca/wp-content/uploads/2026/01/Conversation-Circle-Carman.png
END:VEVENT
BEGIN:VEVENT
DTSTART;TZID=America/Winnipeg:20280215T183000
DTEND;TZID=America/Winnipeg:20280215T200000
DTSTAMP:20260421T081626
CREATED:20260107T191754Z
LAST-MODIFIED:20260112T173324Z
UID:10012622-1834252200-1834257600@regionalconnections.ca
SUMMARY:Conversation Circle Carman
DESCRIPTION:
URL:https://regionalconnections.ca/event/conversation-circle-carman/2028-02-15/
LOCATION:Boyne Regional Library\, Carman
ATTACH;FMTTYPE=image/png:https://regionalconnections.ca/wp-content/uploads/2026/01/Conversation-Circle-Carman-1.png
END:VEVENT
BEGIN:VEVENT
DTSTART;TZID=America/Winnipeg:20280307T183000
DTEND;TZID=America/Winnipeg:20280307T200000
DTSTAMP:20260421T081626
CREATED:20260107T192126Z
LAST-MODIFIED:20260107T192126Z
UID:10012682-1836066600-1836072000@regionalconnections.ca
SUMMARY:Conversation Circle Carman
DESCRIPTION:
URL:https://regionalconnections.ca/event/conversation-circle-carman-2/2028-03-07/
LOCATION:Boyne Regional Library\, Carman
ATTACH;FMTTYPE=image/png:https://regionalconnections.ca/wp-content/uploads/2026/01/Conversation-Circle-Carman.png
END:VEVENT
BEGIN:VEVENT
DTSTART;TZID=America/Winnipeg:20280321T183000
DTEND;TZID=America/Winnipeg:20280321T200000
DTSTAMP:20260421T081626
CREATED:20260107T191754Z
LAST-MODIFIED:20260112T173324Z
UID:10012623-1837276200-1837281600@regionalconnections.ca
SUMMARY:Conversation Circle Carman
DESCRIPTION:
URL:https://regionalconnections.ca/event/conversation-circle-carman/2028-03-21/
LOCATION:Boyne Regional Library\, Carman
ATTACH;FMTTYPE=image/png:https://regionalconnections.ca/wp-content/uploads/2026/01/Conversation-Circle-Carman-1.png
END:VEVENT
BEGIN:VEVENT
DTSTART;TZID=America/Winnipeg:20280404T183000
DTEND;TZID=America/Winnipeg:20280404T200000
DTSTAMP:20260421T081626
CREATED:20260107T192126Z
LAST-MODIFIED:20260107T192126Z
UID:10012683-1838485800-1838491200@regionalconnections.ca
SUMMARY:Conversation Circle Carman
DESCRIPTION:
URL:https://regionalconnections.ca/event/conversation-circle-carman-2/2028-04-04/
LOCATION:Boyne Regional Library\, Carman
ATTACH;FMTTYPE=image/png:https://regionalconnections.ca/wp-content/uploads/2026/01/Conversation-Circle-Carman.png
END:VEVENT
BEGIN:VEVENT
DTSTART;TZID=America/Winnipeg:20280418T183000
DTEND;TZID=America/Winnipeg:20280418T200000
DTSTAMP:20260421T081626
CREATED:20260107T191754Z
LAST-MODIFIED:20260112T173324Z
UID:10012624-1839695400-1839700800@regionalconnections.ca
SUMMARY:Conversation Circle Carman
DESCRIPTION:
URL:https://regionalconnections.ca/event/conversation-circle-carman/2028-04-18/
LOCATION:Boyne Regional Library\, Carman
ATTACH;FMTTYPE=image/png:https://regionalconnections.ca/wp-content/uploads/2026/01/Conversation-Circle-Carman-1.png
END:VEVENT
BEGIN:VEVENT
DTSTART;TZID=America/Winnipeg:20280502T183000
DTEND;TZID=America/Winnipeg:20280502T200000
DTSTAMP:20260421T081626
CREATED:20260107T192126Z
LAST-MODIFIED:20260107T192126Z
UID:10012684-1840905000-1840910400@regionalconnections.ca
SUMMARY:Conversation Circle Carman
DESCRIPTION:
URL:https://regionalconnections.ca/event/conversation-circle-carman-2/2028-05-02/
LOCATION:Boyne Regional Library\, Carman
ATTACH;FMTTYPE=image/png:https://regionalconnections.ca/wp-content/uploads/2026/01/Conversation-Circle-Carman.png
END:VEVENT
BEGIN:VEVENT
DTSTART;TZID=America/Winnipeg:20280516T183000
DTEND;TZID=America/Winnipeg:20280516T200000
DTSTAMP:20260421T081626
CREATED:20260107T191754Z
LAST-MODIFIED:20260112T173324Z
UID:10012625-1842114600-1842120000@regionalconnections.ca
SUMMARY:Conversation Circle Carman
DESCRIPTION:
URL:https://regionalconnections.ca/event/conversation-circle-carman/2028-05-16/
LOCATION:Boyne Regional Library\, Carman
ATTACH;FMTTYPE=image/png:https://regionalconnections.ca/wp-content/uploads/2026/01/Conversation-Circle-Carman-1.png
END:VEVENT
BEGIN:VEVENT
DTSTART;TZID=America/Winnipeg:20280606T183000
DTEND;TZID=America/Winnipeg:20280606T200000
DTSTAMP:20260421T081626
CREATED:20260107T192126Z
LAST-MODIFIED:20260107T192126Z
UID:10012685-1843929000-1843934400@regionalconnections.ca
SUMMARY:Conversation Circle Carman
DESCRIPTION:
URL:https://regionalconnections.ca/event/conversation-circle-carman-2/2028-06-06/
LOCATION:Boyne Regional Library\, Carman
ATTACH;FMTTYPE=image/png:https://regionalconnections.ca/wp-content/uploads/2026/01/Conversation-Circle-Carman.png
END:VEVENT
BEGIN:VEVENT
DTSTART;TZID=America/Winnipeg:20280620T183000
DTEND;TZID=America/Winnipeg:20280620T200000
DTSTAMP:20260421T081626
CREATED:20260107T191754Z
LAST-MODIFIED:20260112T173324Z
UID:10012626-1845138600-1845144000@regionalconnections.ca
SUMMARY:Conversation Circle Carman
DESCRIPTION:
URL:https://regionalconnections.ca/event/conversation-circle-carman/2028-06-20/
LOCATION:Boyne Regional Library\, Carman
ATTACH;FMTTYPE=image/png:https://regionalconnections.ca/wp-content/uploads/2026/01/Conversation-Circle-Carman-1.png
END:VEVENT
BEGIN:VEVENT
DTSTART;TZID=America/Winnipeg:20280704T183000
DTEND;TZID=America/Winnipeg:20280704T200000
DTSTAMP:20260421T081626
CREATED:20260107T192126Z
LAST-MODIFIED:20260107T192126Z
UID:10012686-1846348200-1846353600@regionalconnections.ca
SUMMARY:Conversation Circle Carman
DESCRIPTION:
URL:https://regionalconnections.ca/event/conversation-circle-carman-2/2028-07-04/
LOCATION:Boyne Regional Library\, Carman
ATTACH;FMTTYPE=image/png:https://regionalconnections.ca/wp-content/uploads/2026/01/Conversation-Circle-Carman.png
END:VEVENT
END:VCALENDAR