BEGIN:VCALENDAR
VERSION:2.0
PRODID:-//Regional Connections - ECPv6.15.18//NONSGML v1.0//EN
CALSCALE:GREGORIAN
METHOD:PUBLISH
X-WR-CALNAME:Regional Connections
X-ORIGINAL-URL:https://regionalconnections.ca
X-WR-CALDESC:Events for Regional Connections
REFRESH-INTERVAL;VALUE=DURATION:PT1H
X-Robots-Tag:noindex
X-PUBLISHED-TTL:PT1H
BEGIN:VTIMEZONE
TZID:America/Winnipeg
BEGIN:DAYLIGHT
TZOFFSETFROM:-0600
TZOFFSETTO:-0500
TZNAME:CDT
DTSTART:20250309T080000
END:DAYLIGHT
BEGIN:STANDARD
TZOFFSETFROM:-0500
TZOFFSETTO:-0600
TZNAME:CST
DTSTART:20251102T070000
END:STANDARD
BEGIN:DAYLIGHT
TZOFFSETFROM:-0600
TZOFFSETTO:-0500
TZNAME:CDT
DTSTART:20260308T080000
END:DAYLIGHT
BEGIN:STANDARD
TZOFFSETFROM:-0500
TZOFFSETTO:-0600
TZNAME:CST
DTSTART:20261101T070000
END:STANDARD
BEGIN:DAYLIGHT
TZOFFSETFROM:-0600
TZOFFSETTO:-0500
TZNAME:CDT
DTSTART:20270314T080000
END:DAYLIGHT
BEGIN:STANDARD
TZOFFSETFROM:-0500
TZOFFSETTO:-0600
TZNAME:CST
DTSTART:20271107T070000
END:STANDARD
END:VTIMEZONE
BEGIN:VEVENT
DTSTART;TZID=America/Winnipeg:20260128T190000
DTEND;TZID=America/Winnipeg:20260128T210000
DTSTAMP:20260423T091936
CREATED:20260114T191259Z
LAST-MODIFIED:20260114T191259Z
UID:10013977-1769626800-1769634000@regionalconnections.ca
SUMMARY:New Year = New Goals: Canadian Citizenship Information Session
DESCRIPTION:Join us to learn all about the process of applying for Canadian Citizenship. With clear simple steps\, this is the perfect session for you in order to prepare. Whether it is “Proof of Citizenship” with new changes to bill C-3\, or becoming a naturalized citizen. This session will help guide you towards your next step and to succeed.
URL:https://regionalconnections.ca/event/new-year-new-goals-canadian-citizenship-information-session/
LOCATION:Community Future’s Board Room (220 Main Street\, Morris)\, 220 Mais street\, Morris\, Manitoba\, Canada
ATTACH;FMTTYPE=image/png:https://regionalconnections.ca/wp-content/uploads/2026/01/Canadian-Citiz.png
END:VEVENT
END:VCALENDAR