BEGIN:VCALENDAR
VERSION:2.0
PRODID:-//Regional Connections - ECPv6.15.18//NONSGML v1.0//EN
CALSCALE:GREGORIAN
METHOD:PUBLISH
X-WR-CALNAME:Regional Connections
X-ORIGINAL-URL:https://regionalconnections.ca
X-WR-CALDESC:Events for Regional Connections
REFRESH-INTERVAL;VALUE=DURATION:PT1H
X-Robots-Tag:noindex
X-PUBLISHED-TTL:PT1H
BEGIN:VTIMEZONE
TZID:America/Winnipeg
BEGIN:DAYLIGHT
TZOFFSETFROM:-0600
TZOFFSETTO:-0500
TZNAME:CDT
DTSTART:20210314T080000
END:DAYLIGHT
BEGIN:STANDARD
TZOFFSETFROM:-0500
TZOFFSETTO:-0600
TZNAME:CST
DTSTART:20211107T070000
END:STANDARD
BEGIN:DAYLIGHT
TZOFFSETFROM:-0600
TZOFFSETTO:-0500
TZNAME:CDT
DTSTART:20220313T080000
END:DAYLIGHT
BEGIN:STANDARD
TZOFFSETFROM:-0500
TZOFFSETTO:-0600
TZNAME:CST
DTSTART:20221106T070000
END:STANDARD
BEGIN:DAYLIGHT
TZOFFSETFROM:-0600
TZOFFSETTO:-0500
TZNAME:CDT
DTSTART:20230312T080000
END:DAYLIGHT
BEGIN:STANDARD
TZOFFSETFROM:-0500
TZOFFSETTO:-0600
TZNAME:CST
DTSTART:20231105T070000
END:STANDARD
BEGIN:DAYLIGHT
TZOFFSETFROM:-0600
TZOFFSETTO:-0500
TZNAME:CDT
DTSTART:20240310T080000
END:DAYLIGHT
BEGIN:STANDARD
TZOFFSETFROM:-0500
TZOFFSETTO:-0600
TZNAME:CST
DTSTART:20241103T070000
END:STANDARD
END:VTIMEZONE
BEGIN:VEVENT
DTSTART;TZID=America/Winnipeg:20230527T130000
DTEND;TZID=America/Winnipeg:20230527T140000
DTSTAMP:20260422T023006
CREATED:20230328T184745Z
LAST-MODIFIED:20230505T191004Z
UID:10005664-1685192400-1685196000@regionalconnections.ca
SUMMARY:Dauphin - Library Tour - SWIS
DESCRIPTION:
URL:https://regionalconnections.ca/event/dauphin-library-tour-swis/
LOCATION:Dauphin Public Library\, 504 Main Street N.\, Dauphin\, Manitoba\, R7N 1C9\, Canada
ATTACH;FMTTYPE=image/png:https://regionalconnections.ca/wp-content/uploads/2023/03/Dauphin-SWIS-Library-Tour.png
END:VEVENT
BEGIN:VEVENT
DTSTART;TZID=America/Winnipeg:20220228T120000
DTEND;TZID=America/Winnipeg:20220228T190000
DTSTAMP:20260422T023006
CREATED:20220214T215350Z
LAST-MODIFIED:20220214T215518Z
UID:10005207-1646049600-1646074800@regionalconnections.ca
SUMMARY:More Than Just Books
DESCRIPTION:
URL:https://regionalconnections.ca/event/more-than-just-books/2022-02-28/
LOCATION:Dauphin Public Library\, 504 Main Street N.\, Dauphin\, Manitoba\, R7N 1C9\, Canada
ATTACH;FMTTYPE=image/png:https://regionalconnections.ca/wp-content/uploads/2022/02/More-Than-Just-Books-Dauphin.png
ORGANIZER;CN="Maureen":MAILTO:maureen@regionalconnections.ca
END:VEVENT
BEGIN:VEVENT
DTSTART;TZID=America/Winnipeg:20220225T120000
DTEND;TZID=America/Winnipeg:20220225T190000
DTSTAMP:20260422T023006
CREATED:20220214T215350Z
LAST-MODIFIED:20220214T215518Z
UID:10005206-1645790400-1645815600@regionalconnections.ca
SUMMARY:More Than Just Books
DESCRIPTION:
URL:https://regionalconnections.ca/event/more-than-just-books/2022-02-25/
LOCATION:Dauphin Public Library\, 504 Main Street N.\, Dauphin\, Manitoba\, R7N 1C9\, Canada
ATTACH;FMTTYPE=image/png:https://regionalconnections.ca/wp-content/uploads/2022/02/More-Than-Just-Books-Dauphin.png
ORGANIZER;CN="Maureen":MAILTO:maureen@regionalconnections.ca
END:VEVENT
BEGIN:VEVENT
DTSTART;TZID=America/Winnipeg:20220224T120000
DTEND;TZID=America/Winnipeg:20220224T190000
DTSTAMP:20260422T023006
CREATED:20220214T215350Z
LAST-MODIFIED:20220214T215518Z
UID:10005205-1645704000-1645729200@regionalconnections.ca
SUMMARY:More Than Just Books
DESCRIPTION:
URL:https://regionalconnections.ca/event/more-than-just-books/2022-02-24/
LOCATION:Dauphin Public Library\, 504 Main Street N.\, Dauphin\, Manitoba\, R7N 1C9\, Canada
ATTACH;FMTTYPE=image/png:https://regionalconnections.ca/wp-content/uploads/2022/02/More-Than-Just-Books-Dauphin.png
ORGANIZER;CN="Maureen":MAILTO:maureen@regionalconnections.ca
END:VEVENT
BEGIN:VEVENT
DTSTART;TZID=America/Winnipeg:20220223T120000
DTEND;TZID=America/Winnipeg:20220223T190000
DTSTAMP:20260422T023006
CREATED:20220214T215350Z
LAST-MODIFIED:20220214T215518Z
UID:10005204-1645617600-1645642800@regionalconnections.ca
SUMMARY:More Than Just Books
DESCRIPTION:
URL:https://regionalconnections.ca/event/more-than-just-books/2022-02-23/
LOCATION:Dauphin Public Library\, 504 Main Street N.\, Dauphin\, Manitoba\, R7N 1C9\, Canada
ATTACH;FMTTYPE=image/png:https://regionalconnections.ca/wp-content/uploads/2022/02/More-Than-Just-Books-Dauphin.png
ORGANIZER;CN="Maureen":MAILTO:maureen@regionalconnections.ca
END:VEVENT
BEGIN:VEVENT
DTSTART;TZID=America/Winnipeg:20220222T120000
DTEND;TZID=America/Winnipeg:20220222T190000
DTSTAMP:20260422T023006
CREATED:20220214T215350Z
LAST-MODIFIED:20220214T215518Z
UID:10005203-1645531200-1645556400@regionalconnections.ca
SUMMARY:More Than Just Books
DESCRIPTION:
URL:https://regionalconnections.ca/event/more-than-just-books/2022-02-22/
LOCATION:Dauphin Public Library\, 504 Main Street N.\, Dauphin\, Manitoba\, R7N 1C9\, Canada
ATTACH;FMTTYPE=image/png:https://regionalconnections.ca/wp-content/uploads/2022/02/More-Than-Just-Books-Dauphin.png
ORGANIZER;CN="Maureen":MAILTO:maureen@regionalconnections.ca
END:VEVENT
END:VCALENDAR