BEGIN:VCALENDAR
VERSION:2.0
PRODID:-//Regional Connections - ECPv6.15.18//NONSGML v1.0//EN
CALSCALE:GREGORIAN
METHOD:PUBLISH
X-WR-CALNAME:Regional Connections
X-ORIGINAL-URL:https://regionalconnections.ca
X-WR-CALDESC:Events for Regional Connections
REFRESH-INTERVAL;VALUE=DURATION:PT1H
X-Robots-Tag:noindex
X-PUBLISHED-TTL:PT1H
BEGIN:VTIMEZONE
TZID:America/Winnipeg
BEGIN:DAYLIGHT
TZOFFSETFROM:-0600
TZOFFSETTO:-0500
TZNAME:CDT
DTSTART:20180311T080000
END:DAYLIGHT
BEGIN:STANDARD
TZOFFSETFROM:-0500
TZOFFSETTO:-0600
TZNAME:CST
DTSTART:20181104T070000
END:STANDARD
BEGIN:DAYLIGHT
TZOFFSETFROM:-0600
TZOFFSETTO:-0500
TZNAME:CDT
DTSTART:20190310T080000
END:DAYLIGHT
BEGIN:STANDARD
TZOFFSETFROM:-0500
TZOFFSETTO:-0600
TZNAME:CST
DTSTART:20191103T070000
END:STANDARD
BEGIN:DAYLIGHT
TZOFFSETFROM:-0600
TZOFFSETTO:-0500
TZNAME:CDT
DTSTART:20200308T080000
END:DAYLIGHT
BEGIN:STANDARD
TZOFFSETFROM:-0500
TZOFFSETTO:-0600
TZNAME:CST
DTSTART:20201101T070000
END:STANDARD
END:VTIMEZONE
BEGIN:VEVENT
DTSTART;TZID=America/Winnipeg:20191211T100000
DTEND;TZID=America/Winnipeg:20191211T110000
DTSTAMP:20260423T123138
CREATED:20190828T185305Z
LAST-MODIFIED:20191105T160806Z
UID:10004834-1576058400-1576062000@regionalconnections.ca
SUMMARY:Parent and Child Stay & Play! - Winkler
DESCRIPTION:Come out and enjoy getting to know other parents while your child plays and learns with supervised child-minders.\nEnjoy a cup of coffee and a light snack while hearing from various local guest speakers discuss important topics like family health & safety\, recreation\nopportunities\, and more!
URL:https://regionalconnections.ca/event/parent-and-child-stay-play-winkler/2019-12-11/
LOCATION:Family Resource Centre\, 750 15th street\, Winkler\, Manitoba\, R6W 4A8\, Canada
ATTACH;FMTTYPE=image/png:https://regionalconnections.ca/wp-content/uploads/2019/08/Parents-and-Child-Stay-Play-Winkler.png
END:VEVENT
BEGIN:VEVENT
DTSTART;TZID=America/Winnipeg:20191204T100000
DTEND;TZID=America/Winnipeg:20191204T110000
DTSTAMP:20260423T123138
CREATED:20190828T185305Z
LAST-MODIFIED:20191105T160806Z
UID:10004833-1575453600-1575457200@regionalconnections.ca
SUMMARY:Parent and Child Stay & Play! - Winkler
DESCRIPTION:Come out and enjoy getting to know other parents while your child plays and learns with supervised child-minders.\nEnjoy a cup of coffee and a light snack while hearing from various local guest speakers discuss important topics like family health & safety\, recreation\nopportunities\, and more!
URL:https://regionalconnections.ca/event/parent-and-child-stay-play-winkler/2019-12-04/
LOCATION:Family Resource Centre\, 750 15th street\, Winkler\, Manitoba\, R6W 4A8\, Canada
ATTACH;FMTTYPE=image/png:https://regionalconnections.ca/wp-content/uploads/2019/08/Parents-and-Child-Stay-Play-Winkler.png
END:VEVENT
BEGIN:VEVENT
DTSTART;TZID=America/Winnipeg:20191127T100000
DTEND;TZID=America/Winnipeg:20191127T110000
DTSTAMP:20260423T123138
CREATED:20190828T185305Z
LAST-MODIFIED:20191105T160806Z
UID:10004832-1574848800-1574852400@regionalconnections.ca
SUMMARY:Parent and Child Stay & Play! - Winkler
DESCRIPTION:Come out and enjoy getting to know other parents while your child plays and learns with supervised child-minders.\nEnjoy a cup of coffee and a light snack while hearing from various local guest speakers discuss important topics like family health & safety\, recreation\nopportunities\, and more!
URL:https://regionalconnections.ca/event/parent-and-child-stay-play-winkler/2019-11-27/
LOCATION:Family Resource Centre\, 750 15th street\, Winkler\, Manitoba\, R6W 4A8\, Canada
ATTACH;FMTTYPE=image/png:https://regionalconnections.ca/wp-content/uploads/2019/08/Parents-and-Child-Stay-Play-Winkler.png
END:VEVENT
BEGIN:VEVENT
DTSTART;TZID=America/Winnipeg:20191120T100000
DTEND;TZID=America/Winnipeg:20191120T110000
DTSTAMP:20260423T123138
CREATED:20190828T185305Z
LAST-MODIFIED:20191105T160806Z
UID:10004831-1574244000-1574247600@regionalconnections.ca
SUMMARY:Parent and Child Stay & Play! - Winkler
DESCRIPTION:Come out and enjoy getting to know other parents while your child plays and learns with supervised child-minders.\nEnjoy a cup of coffee and a light snack while hearing from various local guest speakers discuss important topics like family health & safety\, recreation\nopportunities\, and more!
URL:https://regionalconnections.ca/event/parent-and-child-stay-play-winkler/2019-11-20/
LOCATION:Family Resource Centre\, 750 15th street\, Winkler\, Manitoba\, R6W 4A8\, Canada
ATTACH;FMTTYPE=image/png:https://regionalconnections.ca/wp-content/uploads/2019/08/Parents-and-Child-Stay-Play-Winkler.png
END:VEVENT
BEGIN:VEVENT
DTSTART;TZID=America/Winnipeg:20191113T100000
DTEND;TZID=America/Winnipeg:20191113T110000
DTSTAMP:20260423T123138
CREATED:20190828T185305Z
LAST-MODIFIED:20191105T160806Z
UID:10004830-1573639200-1573642800@regionalconnections.ca
SUMMARY:Parent and Child Stay & Play! - Winkler
DESCRIPTION:Come out and enjoy getting to know other parents while your child plays and learns with supervised child-minders.\nEnjoy a cup of coffee and a light snack while hearing from various local guest speakers discuss important topics like family health & safety\, recreation\nopportunities\, and more!
URL:https://regionalconnections.ca/event/parent-and-child-stay-play-winkler/2019-11-13/
LOCATION:Family Resource Centre\, 750 15th street\, Winkler\, Manitoba\, R6W 4A8\, Canada
ATTACH;FMTTYPE=image/png:https://regionalconnections.ca/wp-content/uploads/2019/08/Parents-and-Child-Stay-Play-Winkler.png
END:VEVENT
BEGIN:VEVENT
DTSTART;TZID=America/Winnipeg:20191106T100000
DTEND;TZID=America/Winnipeg:20191106T110000
DTSTAMP:20260423T123138
CREATED:20190828T185305Z
LAST-MODIFIED:20191105T160806Z
UID:10004829-1573034400-1573038000@regionalconnections.ca
SUMMARY:Parent and Child Stay & Play! - Winkler
DESCRIPTION:Come out and enjoy getting to know other parents while your child plays and learns with supervised child-minders.\nEnjoy a cup of coffee and a light snack while hearing from various local guest speakers discuss important topics like family health & safety\, recreation\nopportunities\, and more!
URL:https://regionalconnections.ca/event/parent-and-child-stay-play-winkler/2019-11-06/
LOCATION:Family Resource Centre\, 750 15th street\, Winkler\, Manitoba\, R6W 4A8\, Canada
ATTACH;FMTTYPE=image/png:https://regionalconnections.ca/wp-content/uploads/2019/08/Parents-and-Child-Stay-Play-Winkler.png
END:VEVENT
BEGIN:VEVENT
DTSTART;TZID=America/Winnipeg:20191030T100000
DTEND;TZID=America/Winnipeg:20191030T110000
DTSTAMP:20260423T123138
CREATED:20190828T185305Z
LAST-MODIFIED:20191105T160806Z
UID:10004828-1572429600-1572433200@regionalconnections.ca
SUMMARY:Parent and Child Stay & Play! - Winkler
DESCRIPTION:Come out and enjoy getting to know other parents while your child plays and learns with supervised child-minders.\nEnjoy a cup of coffee and a light snack while hearing from various local guest speakers discuss important topics like family health & safety\, recreation\nopportunities\, and more!
URL:https://regionalconnections.ca/event/parent-and-child-stay-play-winkler/2019-10-30/
LOCATION:Family Resource Centre\, 750 15th street\, Winkler\, Manitoba\, R6W 4A8\, Canada
ATTACH;FMTTYPE=image/png:https://regionalconnections.ca/wp-content/uploads/2019/08/Parents-and-Child-Stay-Play-Winkler.png
END:VEVENT
BEGIN:VEVENT
DTSTART;TZID=America/Winnipeg:20191023T100000
DTEND;TZID=America/Winnipeg:20191023T110000
DTSTAMP:20260423T123138
CREATED:20190828T185305Z
LAST-MODIFIED:20191105T160806Z
UID:10004827-1571824800-1571828400@regionalconnections.ca
SUMMARY:Parent and Child Stay & Play! - Winkler
DESCRIPTION:Come out and enjoy getting to know other parents while your child plays and learns with supervised child-minders.\nEnjoy a cup of coffee and a light snack while hearing from various local guest speakers discuss important topics like family health & safety\, recreation\nopportunities\, and more!
URL:https://regionalconnections.ca/event/parent-and-child-stay-play-winkler/2019-10-23/
LOCATION:Family Resource Centre\, 750 15th street\, Winkler\, Manitoba\, R6W 4A8\, Canada
ATTACH;FMTTYPE=image/png:https://regionalconnections.ca/wp-content/uploads/2019/08/Parents-and-Child-Stay-Play-Winkler.png
END:VEVENT
BEGIN:VEVENT
DTSTART;TZID=America/Winnipeg:20191016T100000
DTEND;TZID=America/Winnipeg:20191016T110000
DTSTAMP:20260423T123138
CREATED:20190828T185305Z
LAST-MODIFIED:20191105T160806Z
UID:10004826-1571220000-1571223600@regionalconnections.ca
SUMMARY:Parent and Child Stay & Play! - Winkler
DESCRIPTION:Come out and enjoy getting to know other parents while your child plays and learns with supervised child-minders.\nEnjoy a cup of coffee and a light snack while hearing from various local guest speakers discuss important topics like family health & safety\, recreation\nopportunities\, and more!
URL:https://regionalconnections.ca/event/parent-and-child-stay-play-winkler/2019-10-16/
LOCATION:Family Resource Centre\, 750 15th street\, Winkler\, Manitoba\, R6W 4A8\, Canada
ATTACH;FMTTYPE=image/png:https://regionalconnections.ca/wp-content/uploads/2019/08/Parents-and-Child-Stay-Play-Winkler.png
END:VEVENT
BEGIN:VEVENT
DTSTART;TZID=America/Winnipeg:20191009T100000
DTEND;TZID=America/Winnipeg:20191009T110000
DTSTAMP:20260423T123138
CREATED:20190828T185305Z
LAST-MODIFIED:20191105T160806Z
UID:10004825-1570615200-1570618800@regionalconnections.ca
SUMMARY:Parent and Child Stay & Play! - Winkler
DESCRIPTION:Come out and enjoy getting to know other parents while your child plays and learns with supervised child-minders.\nEnjoy a cup of coffee and a light snack while hearing from various local guest speakers discuss important topics like family health & safety\, recreation\nopportunities\, and more!
URL:https://regionalconnections.ca/event/parent-and-child-stay-play-winkler/2019-10-09/
LOCATION:Family Resource Centre\, 750 15th street\, Winkler\, Manitoba\, R6W 4A8\, Canada
ATTACH;FMTTYPE=image/png:https://regionalconnections.ca/wp-content/uploads/2019/08/Parents-and-Child-Stay-Play-Winkler.png
END:VEVENT
BEGIN:VEVENT
DTSTART;TZID=America/Winnipeg:20191002T100000
DTEND;TZID=America/Winnipeg:20191002T110000
DTSTAMP:20260423T123138
CREATED:20190828T185305Z
LAST-MODIFIED:20191105T160806Z
UID:10004824-1570010400-1570014000@regionalconnections.ca
SUMMARY:Parent and Child Stay & Play! - Winkler
DESCRIPTION:Come out and enjoy getting to know other parents while your child plays and learns with supervised child-minders.\nEnjoy a cup of coffee and a light snack while hearing from various local guest speakers discuss important topics like family health & safety\, recreation\nopportunities\, and more!
URL:https://regionalconnections.ca/event/parent-and-child-stay-play-winkler/2019-10-02/
LOCATION:Family Resource Centre\, 750 15th street\, Winkler\, Manitoba\, R6W 4A8\, Canada
ATTACH;FMTTYPE=image/png:https://regionalconnections.ca/wp-content/uploads/2019/08/Parents-and-Child-Stay-Play-Winkler.png
END:VEVENT
END:VCALENDAR