BEGIN:VCALENDAR
VERSION:2.0
PRODID:-//Regional Connections - ECPv6.15.18//NONSGML v1.0//EN
CALSCALE:GREGORIAN
METHOD:PUBLISH
X-ORIGINAL-URL:https://regionalconnections.ca
X-WR-CALDESC:Events for Regional Connections
REFRESH-INTERVAL;VALUE=DURATION:PT1H
X-Robots-Tag:noindex
X-PUBLISHED-TTL:PT1H
BEGIN:VTIMEZONE
TZID:America/Winnipeg
BEGIN:DAYLIGHT
TZOFFSETFROM:-0600
TZOFFSETTO:-0500
TZNAME:CDT
DTSTART:20210314T080000
END:DAYLIGHT
BEGIN:STANDARD
TZOFFSETFROM:-0500
TZOFFSETTO:-0600
TZNAME:CST
DTSTART:20211107T070000
END:STANDARD
BEGIN:DAYLIGHT
TZOFFSETFROM:-0600
TZOFFSETTO:-0500
TZNAME:CDT
DTSTART:20220313T080000
END:DAYLIGHT
BEGIN:STANDARD
TZOFFSETFROM:-0500
TZOFFSETTO:-0600
TZNAME:CST
DTSTART:20221106T070000
END:STANDARD
BEGIN:DAYLIGHT
TZOFFSETFROM:-0600
TZOFFSETTO:-0500
TZNAME:CDT
DTSTART:20230312T080000
END:DAYLIGHT
BEGIN:STANDARD
TZOFFSETFROM:-0500
TZOFFSETTO:-0600
TZNAME:CST
DTSTART:20231105T070000
END:STANDARD
END:VTIMEZONE
BEGIN:VEVENT
DTSTART;TZID=America/Winnipeg:20220608T180000
DTEND;TZID=America/Winnipeg:20220608T190000
DTSTAMP:20260421T224353
CREATED:20220513T164947Z
LAST-MODIFIED:20220513T164947Z
UID:10007821-1654711200-1654714800@regionalconnections.ca
SUMMARY:Drug and Internet Safety
DESCRIPTION:
URL:https://regionalconnections.ca/event/drug-and-internet-safety/
LOCATION:Garden Valley Collegiate\, 736 Main Street\, Winkler\, Manitoba\, R6W 4C8\, Canada
ATTACH;FMTTYPE=image/png:https://regionalconnections.ca/wp-content/uploads/2022/05/Drug-and-Internet-Safety.png
END:VEVENT
BEGIN:VEVENT
DTSTART;TZID=America/Winnipeg:20220530T183000
DTEND;TZID=America/Winnipeg:20220530T200000
DTSTAMP:20260421T224353
CREATED:20220513T164724Z
LAST-MODIFIED:20220513T164724Z
UID:10007820-1653935400-1653940800@regionalconnections.ca
SUMMARY:Severe Summer Weather Preparation
DESCRIPTION:
URL:https://regionalconnections.ca/event/severe-summer-weather-preparation/
LOCATION:Garden Valley Collegiate\, 736 Main Street\, Winkler\, Manitoba\, R6W 4C8\, Canada
ATTACH;FMTTYPE=image/png:https://regionalconnections.ca/wp-content/uploads/2022/05/SWIS-Severe-Weather-Preparation.png
END:VEVENT
END:VCALENDAR