BEGIN:VCALENDAR
VERSION:2.0
PRODID:-//Regional Connections - ECPv6.15.18//NONSGML v1.0//EN
CALSCALE:GREGORIAN
METHOD:PUBLISH
X-WR-CALNAME:Regional Connections
X-ORIGINAL-URL:https://regionalconnections.ca
X-WR-CALDESC:Events for Regional Connections
REFRESH-INTERVAL;VALUE=DURATION:PT1H
X-Robots-Tag:noindex
X-PUBLISHED-TTL:PT1H
BEGIN:VTIMEZONE
TZID:America/Winnipeg
BEGIN:DAYLIGHT
TZOFFSETFROM:-0600
TZOFFSETTO:-0500
TZNAME:CDT
DTSTART:20190310T080000
END:DAYLIGHT
BEGIN:STANDARD
TZOFFSETFROM:-0500
TZOFFSETTO:-0600
TZNAME:CST
DTSTART:20191103T070000
END:STANDARD
BEGIN:DAYLIGHT
TZOFFSETFROM:-0600
TZOFFSETTO:-0500
TZNAME:CDT
DTSTART:20200308T080000
END:DAYLIGHT
BEGIN:STANDARD
TZOFFSETFROM:-0500
TZOFFSETTO:-0600
TZNAME:CST
DTSTART:20201101T070000
END:STANDARD
BEGIN:DAYLIGHT
TZOFFSETFROM:-0600
TZOFFSETTO:-0500
TZNAME:CDT
DTSTART:20210314T080000
END:DAYLIGHT
BEGIN:STANDARD
TZOFFSETFROM:-0500
TZOFFSETTO:-0600
TZNAME:CST
DTSTART:20211107T070000
END:STANDARD
END:VTIMEZONE
BEGIN:VEVENT
DTSTART;TZID=America/Winnipeg:20200826T190000
DTEND;TZID=America/Winnipeg:20200826T200000
DTSTAMP:20260421T193546
CREATED:20200720T202022Z
LAST-MODIFIED:20200720T202304Z
UID:10007600-1598468400-1598472000@regionalconnections.ca
SUMMARY:Altona - Tea & Conversation
DESCRIPTION:
URL:https://regionalconnections.ca/event/altona-tea-conversation/2020-08-26/
LOCATION:Love Well Women’s Drop-In Centre\, 34 2nd Ave NE\, Altona\, Manitoba\, R0G 0B1\, Canada
ATTACH;FMTTYPE=image/png:https://regionalconnections.ca/wp-content/uploads/2020/07/Tea-and-Conversation-Altona.png
GEO:49.104444;-97.557238
X-APPLE-STRUCTURED-LOCATION;VALUE=URI;X-ADDRESS=Love Well Women’s Drop-In Centre 34 2nd Ave NE Altona Manitoba R0G 0B1 Canada;X-APPLE-RADIUS=500;X-TITLE=34 2nd Ave NE:geo:-97.557238,49.104444
END:VEVENT
BEGIN:VEVENT
DTSTART;TZID=America/Winnipeg:20200819T190000
DTEND;TZID=America/Winnipeg:20200819T200000
DTSTAMP:20260421T193546
CREATED:20200720T202022Z
LAST-MODIFIED:20200720T202304Z
UID:10007599-1597863600-1597867200@regionalconnections.ca
SUMMARY:Altona - Tea & Conversation
DESCRIPTION:
URL:https://regionalconnections.ca/event/altona-tea-conversation/2020-08-19/
LOCATION:Love Well Women’s Drop-In Centre\, 34 2nd Ave NE\, Altona\, Manitoba\, R0G 0B1\, Canada
ATTACH;FMTTYPE=image/png:https://regionalconnections.ca/wp-content/uploads/2020/07/Tea-and-Conversation-Altona.png
GEO:49.104444;-97.557238
X-APPLE-STRUCTURED-LOCATION;VALUE=URI;X-ADDRESS=Love Well Women’s Drop-In Centre 34 2nd Ave NE Altona Manitoba R0G 0B1 Canada;X-APPLE-RADIUS=500;X-TITLE=34 2nd Ave NE:geo:-97.557238,49.104444
END:VEVENT
BEGIN:VEVENT
DTSTART;TZID=America/Winnipeg:20200819T190000
DTEND;TZID=America/Winnipeg:20200819T190000
DTSTAMP:20260421T193546
CREATED:20200818T163216Z
LAST-MODIFIED:20200818T163216Z
UID:10004987-1597863600-1597863600@regionalconnections.ca
SUMMARY:Altona - Paint Night
DESCRIPTION:
URL:https://regionalconnections.ca/event/altona-paint-night/
LOCATION:Love Well Women’s Drop-In Centre\, 34 2nd Ave NE\, Altona\, Manitoba\, R0G 0B1\, Canada
ATTACH;FMTTYPE=image/jpeg:https://regionalconnections.ca/wp-content/uploads/2020/08/117876721_1455985167919095_7563229475280067242_o.jpg
GEO:49.104444;-97.557238
X-APPLE-STRUCTURED-LOCATION;VALUE=URI;X-ADDRESS=Love Well Women’s Drop-In Centre 34 2nd Ave NE Altona Manitoba R0G 0B1 Canada;X-APPLE-RADIUS=500;X-TITLE=34 2nd Ave NE:geo:-97.557238,49.104444
END:VEVENT
BEGIN:VEVENT
DTSTART;TZID=America/Winnipeg:20200812T190000
DTEND;TZID=America/Winnipeg:20200812T200000
DTSTAMP:20260421T193546
CREATED:20200720T202022Z
LAST-MODIFIED:20200720T202304Z
UID:10007598-1597258800-1597262400@regionalconnections.ca
SUMMARY:Altona - Tea & Conversation
DESCRIPTION:
URL:https://regionalconnections.ca/event/altona-tea-conversation/2020-08-12/
LOCATION:Love Well Women’s Drop-In Centre\, 34 2nd Ave NE\, Altona\, Manitoba\, R0G 0B1\, Canada
ATTACH;FMTTYPE=image/png:https://regionalconnections.ca/wp-content/uploads/2020/07/Tea-and-Conversation-Altona.png
GEO:49.104444;-97.557238
X-APPLE-STRUCTURED-LOCATION;VALUE=URI;X-ADDRESS=Love Well Women’s Drop-In Centre 34 2nd Ave NE Altona Manitoba R0G 0B1 Canada;X-APPLE-RADIUS=500;X-TITLE=34 2nd Ave NE:geo:-97.557238,49.104444
END:VEVENT
BEGIN:VEVENT
DTSTART;TZID=America/Winnipeg:20200805T190000
DTEND;TZID=America/Winnipeg:20200805T200000
DTSTAMP:20260421T193546
CREATED:20200720T202022Z
LAST-MODIFIED:20200720T202304Z
UID:10007597-1596654000-1596657600@regionalconnections.ca
SUMMARY:Altona - Tea & Conversation
DESCRIPTION:
URL:https://regionalconnections.ca/event/altona-tea-conversation/2020-08-05/
LOCATION:Love Well Women’s Drop-In Centre\, 34 2nd Ave NE\, Altona\, Manitoba\, R0G 0B1\, Canada
ATTACH;FMTTYPE=image/png:https://regionalconnections.ca/wp-content/uploads/2020/07/Tea-and-Conversation-Altona.png
GEO:49.104444;-97.557238
X-APPLE-STRUCTURED-LOCATION;VALUE=URI;X-ADDRESS=Love Well Women’s Drop-In Centre 34 2nd Ave NE Altona Manitoba R0G 0B1 Canada;X-APPLE-RADIUS=500;X-TITLE=34 2nd Ave NE:geo:-97.557238,49.104444
END:VEVENT
BEGIN:VEVENT
DTSTART;TZID=America/Winnipeg:20200729T190000
DTEND;TZID=America/Winnipeg:20200729T200000
DTSTAMP:20260421T193546
CREATED:20200720T202022Z
LAST-MODIFIED:20200720T202304Z
UID:10007596-1596049200-1596052800@regionalconnections.ca
SUMMARY:Altona - Tea & Conversation
DESCRIPTION:
URL:https://regionalconnections.ca/event/altona-tea-conversation/2020-07-29/
LOCATION:Love Well Women’s Drop-In Centre\, 34 2nd Ave NE\, Altona\, Manitoba\, R0G 0B1\, Canada
ATTACH;FMTTYPE=image/png:https://regionalconnections.ca/wp-content/uploads/2020/07/Tea-and-Conversation-Altona.png
GEO:49.104444;-97.557238
X-APPLE-STRUCTURED-LOCATION;VALUE=URI;X-ADDRESS=Love Well Women’s Drop-In Centre 34 2nd Ave NE Altona Manitoba R0G 0B1 Canada;X-APPLE-RADIUS=500;X-TITLE=34 2nd Ave NE:geo:-97.557238,49.104444
END:VEVENT
BEGIN:VEVENT
DTSTART;TZID=America/Winnipeg:20200722T190000
DTEND;TZID=America/Winnipeg:20200722T200000
DTSTAMP:20260421T193546
CREATED:20200720T202022Z
LAST-MODIFIED:20200720T202304Z
UID:10007595-1595444400-1595448000@regionalconnections.ca
SUMMARY:Altona - Tea & Conversation
DESCRIPTION:
URL:https://regionalconnections.ca/event/altona-tea-conversation/2020-07-22/
LOCATION:Love Well Women’s Drop-In Centre\, 34 2nd Ave NE\, Altona\, Manitoba\, R0G 0B1\, Canada
ATTACH;FMTTYPE=image/png:https://regionalconnections.ca/wp-content/uploads/2020/07/Tea-and-Conversation-Altona.png
GEO:49.104444;-97.557238
X-APPLE-STRUCTURED-LOCATION;VALUE=URI;X-ADDRESS=Love Well Women’s Drop-In Centre 34 2nd Ave NE Altona Manitoba R0G 0B1 Canada;X-APPLE-RADIUS=500;X-TITLE=34 2nd Ave NE:geo:-97.557238,49.104444
END:VEVENT
END:VCALENDAR