BEGIN:VCALENDAR
VERSION:2.0
PRODID:-//Regional Connections - ECPv6.15.18//NONSGML v1.0//EN
CALSCALE:GREGORIAN
METHOD:PUBLISH
X-ORIGINAL-URL:https://regionalconnections.ca
X-WR-CALDESC:Events for Regional Connections
REFRESH-INTERVAL;VALUE=DURATION:PT1H
X-Robots-Tag:noindex
X-PUBLISHED-TTL:PT1H
BEGIN:VTIMEZONE
TZID:America/Winnipeg
BEGIN:DAYLIGHT
TZOFFSETFROM:-0600
TZOFFSETTO:-0500
TZNAME:CDT
DTSTART:20210314T080000
END:DAYLIGHT
BEGIN:STANDARD
TZOFFSETFROM:-0500
TZOFFSETTO:-0600
TZNAME:CST
DTSTART:20211107T070000
END:STANDARD
BEGIN:DAYLIGHT
TZOFFSETFROM:-0600
TZOFFSETTO:-0500
TZNAME:CDT
DTSTART:20220313T080000
END:DAYLIGHT
BEGIN:STANDARD
TZOFFSETFROM:-0500
TZOFFSETTO:-0600
TZNAME:CST
DTSTART:20221106T070000
END:STANDARD
BEGIN:DAYLIGHT
TZOFFSETFROM:-0600
TZOFFSETTO:-0500
TZNAME:CDT
DTSTART:20230312T080000
END:DAYLIGHT
BEGIN:STANDARD
TZOFFSETFROM:-0500
TZOFFSETTO:-0600
TZNAME:CST
DTSTART:20231105T070000
END:STANDARD
BEGIN:DAYLIGHT
TZOFFSETFROM:-0600
TZOFFSETTO:-0500
TZNAME:CDT
DTSTART:20240310T080000
END:DAYLIGHT
BEGIN:STANDARD
TZOFFSETFROM:-0500
TZOFFSETTO:-0600
TZNAME:CST
DTSTART:20241103T070000
END:STANDARD
BEGIN:DAYLIGHT
TZOFFSETFROM:-0600
TZOFFSETTO:-0500
TZNAME:CDT
DTSTART:20250309T080000
END:DAYLIGHT
BEGIN:STANDARD
TZOFFSETFROM:-0500
TZOFFSETTO:-0600
TZNAME:CST
DTSTART:20251102T070000
END:STANDARD
BEGIN:DAYLIGHT
TZOFFSETFROM:-0600
TZOFFSETTO:-0500
TZNAME:CDT
DTSTART:20260308T080000
END:DAYLIGHT
BEGIN:STANDARD
TZOFFSETFROM:-0500
TZOFFSETTO:-0600
TZNAME:CST
DTSTART:20261101T070000
END:STANDARD
BEGIN:DAYLIGHT
TZOFFSETFROM:-0600
TZOFFSETTO:-0500
TZNAME:CDT
DTSTART:20270314T080000
END:DAYLIGHT
BEGIN:STANDARD
TZOFFSETFROM:-0500
TZOFFSETTO:-0600
TZNAME:CST
DTSTART:20271107T070000
END:STANDARD
END:VTIMEZONE
BEGIN:VEVENT
DTSTART;TZID=America/Winnipeg:20260207T130000
DTEND;TZID=America/Winnipeg:20260207T160000
DTSTAMP:20260421T193429
CREATED:20260130T210119Z
LAST-MODIFIED:20260130T210119Z
UID:10014033-1770469200-1770480000@regionalconnections.ca
SUMMARY:Discover diversity together-Family Fun Fest
DESCRIPTION:
URL:https://regionalconnections.ca/event/discover-diversity-together-family-fun-fest/
LOCATION:Maple Leaf School\, 225 12th Street\, Morden\, Manitoba\, R6M 1Z3\, Canada
ATTACH;FMTTYPE=image/png:https://regionalconnections.ca/wp-content/uploads/2026/01/DISC.png
END:VEVENT
BEGIN:VEVENT
DTSTART;TZID=America/Winnipeg:20231019T190000
DTEND;TZID=America/Winnipeg:20231019T200000
DTSTAMP:20260421T193429
CREATED:20231011T141533Z
LAST-MODIFIED:20231011T144847Z
UID:10006207-1697742000-1697745600@regionalconnections.ca
SUMMARY:Morden - Employment Opportunities at WSD
DESCRIPTION:Please register at this link: https://us10.list-manage.com/survey?u=be01328ebfdc1edeeb6f0116b&id=f510d61d7d&attribution=false
URL:https://regionalconnections.ca/event/morden-employment-opportunities-at-wsd/
LOCATION:Maple Leaf School\, 225 12th Street\, Morden\, Manitoba\, R6M 1Z3\, Canada
ATTACH;FMTTYPE=image/png:https://regionalconnections.ca/wp-content/uploads/2023/10/EMPLOYMENT-OPPORTUNITIES-AT-WESTERN-SCHOOL-DIVISION-1.png
END:VEVENT
BEGIN:VEVENT
DTSTART;TZID=America/Winnipeg:20220526T180000
DTEND;TZID=America/Winnipeg:20220526T190000
DTSTAMP:20260421T193429
CREATED:20220510T162254Z
LAST-MODIFIED:20220510T162254Z
UID:10007814-1653588000-1653591600@regionalconnections.ca
SUMMARY:Learn About Working in Schools
DESCRIPTION:
URL:https://regionalconnections.ca/event/learn-about-working-in-schools/
LOCATION:Maple Leaf School\, 225 12th Street\, Morden\, Manitoba\, R6M 1Z3\, Canada
ATTACH;FMTTYPE=image/png:https://regionalconnections.ca/wp-content/uploads/2022/05/Learn-About-Working-in-Schools.png
ORGANIZER;CN="Jered":MAILTO:rcemployment@regionalconnections.ca
END:VEVENT
END:VCALENDAR