BEGIN:VCALENDAR
VERSION:2.0
PRODID:-//Regional Connections - ECPv6.15.18//NONSGML v1.0//EN
CALSCALE:GREGORIAN
METHOD:PUBLISH
X-WR-CALNAME:Regional Connections
X-ORIGINAL-URL:https://regionalconnections.ca
X-WR-CALDESC:Events for Regional Connections
REFRESH-INTERVAL;VALUE=DURATION:PT1H
X-Robots-Tag:noindex
X-PUBLISHED-TTL:PT1H
BEGIN:VTIMEZONE
TZID:America/Winnipeg
BEGIN:DAYLIGHT
TZOFFSETFROM:-0600
TZOFFSETTO:-0500
TZNAME:CDT
DTSTART:20260308T080000
END:DAYLIGHT
BEGIN:STANDARD
TZOFFSETFROM:-0500
TZOFFSETTO:-0600
TZNAME:CST
DTSTART:20261101T070000
END:STANDARD
BEGIN:DAYLIGHT
TZOFFSETFROM:-0600
TZOFFSETTO:-0500
TZNAME:CDT
DTSTART:20270314T080000
END:DAYLIGHT
BEGIN:STANDARD
TZOFFSETFROM:-0500
TZOFFSETTO:-0600
TZNAME:CST
DTSTART:20271107T070000
END:STANDARD
BEGIN:DAYLIGHT
TZOFFSETFROM:-0600
TZOFFSETTO:-0500
TZNAME:CDT
DTSTART:20280312T080000
END:DAYLIGHT
BEGIN:STANDARD
TZOFFSETFROM:-0500
TZOFFSETTO:-0600
TZNAME:CST
DTSTART:20281105T070000
END:STANDARD
BEGIN:DAYLIGHT
TZOFFSETFROM:-0600
TZOFFSETTO:-0500
TZNAME:CDT
DTSTART:20290311T080000
END:DAYLIGHT
BEGIN:STANDARD
TZOFFSETFROM:-0500
TZOFFSETTO:-0600
TZNAME:CST
DTSTART:20291104T070000
END:STANDARD
BEGIN:DAYLIGHT
TZOFFSETFROM:-0600
TZOFFSETTO:-0500
TZNAME:CDT
DTSTART:20300310T080000
END:DAYLIGHT
BEGIN:STANDARD
TZOFFSETFROM:-0500
TZOFFSETTO:-0600
TZNAME:CST
DTSTART:20301103T070000
END:STANDARD
END:VTIMEZONE
BEGIN:VEVENT
DTSTART;TZID=America/Winnipeg:20271026T110000
DTEND;TZID=America/Winnipeg:20271026T130000
DTSTAMP:20260423T010614
CREATED:20260130T203618Z
LAST-MODIFIED:20260202T173527Z
UID:10014055-1824548400-1824555600@regionalconnections.ca
SUMMARY:Community Kitchen-Let's Get Cooking
DESCRIPTION:You are invited to join Many Hands and Regional Connections for a bi-weekly cooking class! Learn recipes from different cultures\, as well as how to use Canadian Foods on a fixed budget. Meet others from the community and practice your English conversation skills!
URL:https://regionalconnections.ca/event/lets-get-cooking-2-3/2027-10-26/
LOCATION:Morden Alliance Church\, 181 15th St\, Morden\, Manitoba\, R6M 1G3\, Canada
ATTACH;FMTTYPE=image/png:https://regionalconnections.ca/wp-content/uploads/2026/01/Cooking-Class-.png
END:VEVENT
BEGIN:VEVENT
DTSTART;TZID=America/Winnipeg:20271109T110000
DTEND;TZID=America/Winnipeg:20271109T130000
DTSTAMP:20260423T010614
CREATED:20260202T174816Z
LAST-MODIFIED:20260202T174816Z
UID:10014116-1825758000-1825765200@regionalconnections.ca
SUMMARY:Community Kitchen-Let's Get Cooking
DESCRIPTION:You are invited to join Many Hands and Regional Connections for a bi-weekly cooking class! Learn recipes from different cultures\, as well as how to use Canadian Foods on a fixed budget. Meet others from the community and practice your English conversation skills!
URL:https://regionalconnections.ca/event/community-kitchen-lets-get-cooking/2027-11-09/
LOCATION:Morden Alliance Church\, 181 15th St\, Morden\, Manitoba\, R6M 1G3\, Canada
ATTACH;FMTTYPE=image/png:https://regionalconnections.ca/wp-content/uploads/2026/01/Cooking-Class-.png
END:VEVENT
BEGIN:VEVENT
DTSTART;TZID=America/Winnipeg:20271123T110000
DTEND;TZID=America/Winnipeg:20271123T130000
DTSTAMP:20260423T010614
CREATED:20260130T203618Z
LAST-MODIFIED:20260202T173527Z
UID:10014056-1826967600-1826974800@regionalconnections.ca
SUMMARY:Community Kitchen-Let's Get Cooking
DESCRIPTION:You are invited to join Many Hands and Regional Connections for a bi-weekly cooking class! Learn recipes from different cultures\, as well as how to use Canadian Foods on a fixed budget. Meet others from the community and practice your English conversation skills!
URL:https://regionalconnections.ca/event/lets-get-cooking-2-3/2027-11-23/
LOCATION:Morden Alliance Church\, 181 15th St\, Morden\, Manitoba\, R6M 1G3\, Canada
ATTACH;FMTTYPE=image/png:https://regionalconnections.ca/wp-content/uploads/2026/01/Cooking-Class-.png
END:VEVENT
BEGIN:VEVENT
DTSTART;TZID=America/Winnipeg:20271214T110000
DTEND;TZID=America/Winnipeg:20271214T130000
DTSTAMP:20260423T010614
CREATED:20260202T174816Z
LAST-MODIFIED:20260202T174816Z
UID:10014117-1828782000-1828789200@regionalconnections.ca
SUMMARY:Community Kitchen-Let's Get Cooking
DESCRIPTION:You are invited to join Many Hands and Regional Connections for a bi-weekly cooking class! Learn recipes from different cultures\, as well as how to use Canadian Foods on a fixed budget. Meet others from the community and practice your English conversation skills!
URL:https://regionalconnections.ca/event/community-kitchen-lets-get-cooking/2027-12-14/
LOCATION:Morden Alliance Church\, 181 15th St\, Morden\, Manitoba\, R6M 1G3\, Canada
ATTACH;FMTTYPE=image/png:https://regionalconnections.ca/wp-content/uploads/2026/01/Cooking-Class-.png
END:VEVENT
BEGIN:VEVENT
DTSTART;TZID=America/Winnipeg:20271228T110000
DTEND;TZID=America/Winnipeg:20271228T130000
DTSTAMP:20260423T010614
CREATED:20260130T203618Z
LAST-MODIFIED:20260202T173527Z
UID:10014057-1829991600-1829998800@regionalconnections.ca
SUMMARY:Community Kitchen-Let's Get Cooking
DESCRIPTION:You are invited to join Many Hands and Regional Connections for a bi-weekly cooking class! Learn recipes from different cultures\, as well as how to use Canadian Foods on a fixed budget. Meet others from the community and practice your English conversation skills!
URL:https://regionalconnections.ca/event/lets-get-cooking-2-3/2027-12-28/
LOCATION:Morden Alliance Church\, 181 15th St\, Morden\, Manitoba\, R6M 1G3\, Canada
ATTACH;FMTTYPE=image/png:https://regionalconnections.ca/wp-content/uploads/2026/01/Cooking-Class-.png
END:VEVENT
BEGIN:VEVENT
DTSTART;TZID=America/Winnipeg:20280111T110000
DTEND;TZID=America/Winnipeg:20280111T130000
DTSTAMP:20260423T010614
CREATED:20260202T174816Z
LAST-MODIFIED:20260202T174816Z
UID:10014118-1831201200-1831208400@regionalconnections.ca
SUMMARY:Community Kitchen-Let's Get Cooking
DESCRIPTION:You are invited to join Many Hands and Regional Connections for a bi-weekly cooking class! Learn recipes from different cultures\, as well as how to use Canadian Foods on a fixed budget. Meet others from the community and practice your English conversation skills!
URL:https://regionalconnections.ca/event/community-kitchen-lets-get-cooking/2028-01-11/
LOCATION:Morden Alliance Church\, 181 15th St\, Morden\, Manitoba\, R6M 1G3\, Canada
ATTACH;FMTTYPE=image/png:https://regionalconnections.ca/wp-content/uploads/2026/01/Cooking-Class-.png
END:VEVENT
BEGIN:VEVENT
DTSTART;TZID=America/Winnipeg:20280125T110000
DTEND;TZID=America/Winnipeg:20280125T130000
DTSTAMP:20260423T010614
CREATED:20260130T203618Z
LAST-MODIFIED:20260202T173527Z
UID:10014058-1832410800-1832418000@regionalconnections.ca
SUMMARY:Community Kitchen-Let's Get Cooking
DESCRIPTION:You are invited to join Many Hands and Regional Connections for a bi-weekly cooking class! Learn recipes from different cultures\, as well as how to use Canadian Foods on a fixed budget. Meet others from the community and practice your English conversation skills!
URL:https://regionalconnections.ca/event/lets-get-cooking-2-3/2028-01-25/
LOCATION:Morden Alliance Church\, 181 15th St\, Morden\, Manitoba\, R6M 1G3\, Canada
ATTACH;FMTTYPE=image/png:https://regionalconnections.ca/wp-content/uploads/2026/01/Cooking-Class-.png
END:VEVENT
BEGIN:VEVENT
DTSTART;TZID=America/Winnipeg:20280208T110000
DTEND;TZID=America/Winnipeg:20280208T130000
DTSTAMP:20260423T010614
CREATED:20260202T174816Z
LAST-MODIFIED:20260202T174816Z
UID:10014119-1833620400-1833627600@regionalconnections.ca
SUMMARY:Community Kitchen-Let's Get Cooking
DESCRIPTION:You are invited to join Many Hands and Regional Connections for a bi-weekly cooking class! Learn recipes from different cultures\, as well as how to use Canadian Foods on a fixed budget. Meet others from the community and practice your English conversation skills!
URL:https://regionalconnections.ca/event/community-kitchen-lets-get-cooking/2028-02-08/
LOCATION:Morden Alliance Church\, 181 15th St\, Morden\, Manitoba\, R6M 1G3\, Canada
ATTACH;FMTTYPE=image/png:https://regionalconnections.ca/wp-content/uploads/2026/01/Cooking-Class-.png
END:VEVENT
BEGIN:VEVENT
DTSTART;TZID=America/Winnipeg:20280222T110000
DTEND;TZID=America/Winnipeg:20280222T130000
DTSTAMP:20260423T010614
CREATED:20260130T203618Z
LAST-MODIFIED:20260202T173527Z
UID:10014059-1834830000-1834837200@regionalconnections.ca
SUMMARY:Community Kitchen-Let's Get Cooking
DESCRIPTION:You are invited to join Many Hands and Regional Connections for a bi-weekly cooking class! Learn recipes from different cultures\, as well as how to use Canadian Foods on a fixed budget. Meet others from the community and practice your English conversation skills!
URL:https://regionalconnections.ca/event/lets-get-cooking-2-3/2028-02-22/
LOCATION:Morden Alliance Church\, 181 15th St\, Morden\, Manitoba\, R6M 1G3\, Canada
ATTACH;FMTTYPE=image/png:https://regionalconnections.ca/wp-content/uploads/2026/01/Cooking-Class-.png
END:VEVENT
BEGIN:VEVENT
DTSTART;TZID=America/Winnipeg:20280314T110000
DTEND;TZID=America/Winnipeg:20280314T130000
DTSTAMP:20260423T010614
CREATED:20260202T174816Z
LAST-MODIFIED:20260202T174816Z
UID:10014120-1836644400-1836651600@regionalconnections.ca
SUMMARY:Community Kitchen-Let's Get Cooking
DESCRIPTION:You are invited to join Many Hands and Regional Connections for a bi-weekly cooking class! Learn recipes from different cultures\, as well as how to use Canadian Foods on a fixed budget. Meet others from the community and practice your English conversation skills!
URL:https://regionalconnections.ca/event/community-kitchen-lets-get-cooking/2028-03-14/
LOCATION:Morden Alliance Church\, 181 15th St\, Morden\, Manitoba\, R6M 1G3\, Canada
ATTACH;FMTTYPE=image/png:https://regionalconnections.ca/wp-content/uploads/2026/01/Cooking-Class-.png
END:VEVENT
BEGIN:VEVENT
DTSTART;TZID=America/Winnipeg:20280328T110000
DTEND;TZID=America/Winnipeg:20280328T130000
DTSTAMP:20260423T010614
CREATED:20260130T203618Z
LAST-MODIFIED:20260202T173527Z
UID:10014060-1837854000-1837861200@regionalconnections.ca
SUMMARY:Community Kitchen-Let's Get Cooking
DESCRIPTION:You are invited to join Many Hands and Regional Connections for a bi-weekly cooking class! Learn recipes from different cultures\, as well as how to use Canadian Foods on a fixed budget. Meet others from the community and practice your English conversation skills!
URL:https://regionalconnections.ca/event/lets-get-cooking-2-3/2028-03-28/
LOCATION:Morden Alliance Church\, 181 15th St\, Morden\, Manitoba\, R6M 1G3\, Canada
ATTACH;FMTTYPE=image/png:https://regionalconnections.ca/wp-content/uploads/2026/01/Cooking-Class-.png
END:VEVENT
BEGIN:VEVENT
DTSTART;TZID=America/Winnipeg:20280411T110000
DTEND;TZID=America/Winnipeg:20280411T130000
DTSTAMP:20260423T010614
CREATED:20260202T174816Z
LAST-MODIFIED:20260202T174816Z
UID:10014121-1839063600-1839070800@regionalconnections.ca
SUMMARY:Community Kitchen-Let's Get Cooking
DESCRIPTION:You are invited to join Many Hands and Regional Connections for a bi-weekly cooking class! Learn recipes from different cultures\, as well as how to use Canadian Foods on a fixed budget. Meet others from the community and practice your English conversation skills!
URL:https://regionalconnections.ca/event/community-kitchen-lets-get-cooking/2028-04-11/
LOCATION:Morden Alliance Church\, 181 15th St\, Morden\, Manitoba\, R6M 1G3\, Canada
ATTACH;FMTTYPE=image/png:https://regionalconnections.ca/wp-content/uploads/2026/01/Cooking-Class-.png
END:VEVENT
BEGIN:VEVENT
DTSTART;TZID=America/Winnipeg:20280425T110000
DTEND;TZID=America/Winnipeg:20280425T130000
DTSTAMP:20260423T010614
CREATED:20260130T203618Z
LAST-MODIFIED:20260202T173527Z
UID:10014061-1840273200-1840280400@regionalconnections.ca
SUMMARY:Community Kitchen-Let's Get Cooking
DESCRIPTION:You are invited to join Many Hands and Regional Connections for a bi-weekly cooking class! Learn recipes from different cultures\, as well as how to use Canadian Foods on a fixed budget. Meet others from the community and practice your English conversation skills!
URL:https://regionalconnections.ca/event/lets-get-cooking-2-3/2028-04-25/
LOCATION:Morden Alliance Church\, 181 15th St\, Morden\, Manitoba\, R6M 1G3\, Canada
ATTACH;FMTTYPE=image/png:https://regionalconnections.ca/wp-content/uploads/2026/01/Cooking-Class-.png
END:VEVENT
BEGIN:VEVENT
DTSTART;TZID=America/Winnipeg:20280509T110000
DTEND;TZID=America/Winnipeg:20280509T130000
DTSTAMP:20260423T010614
CREATED:20260202T174816Z
LAST-MODIFIED:20260202T174816Z
UID:10014122-1841482800-1841490000@regionalconnections.ca
SUMMARY:Community Kitchen-Let's Get Cooking
DESCRIPTION:You are invited to join Many Hands and Regional Connections for a bi-weekly cooking class! Learn recipes from different cultures\, as well as how to use Canadian Foods on a fixed budget. Meet others from the community and practice your English conversation skills!
URL:https://regionalconnections.ca/event/community-kitchen-lets-get-cooking/2028-05-09/
LOCATION:Morden Alliance Church\, 181 15th St\, Morden\, Manitoba\, R6M 1G3\, Canada
ATTACH;FMTTYPE=image/png:https://regionalconnections.ca/wp-content/uploads/2026/01/Cooking-Class-.png
END:VEVENT
BEGIN:VEVENT
DTSTART;TZID=America/Winnipeg:20280523T110000
DTEND;TZID=America/Winnipeg:20280523T130000
DTSTAMP:20260423T010614
CREATED:20260130T203618Z
LAST-MODIFIED:20260202T173527Z
UID:10014062-1842692400-1842699600@regionalconnections.ca
SUMMARY:Community Kitchen-Let's Get Cooking
DESCRIPTION:You are invited to join Many Hands and Regional Connections for a bi-weekly cooking class! Learn recipes from different cultures\, as well as how to use Canadian Foods on a fixed budget. Meet others from the community and practice your English conversation skills!
URL:https://regionalconnections.ca/event/lets-get-cooking-2-3/2028-05-23/
LOCATION:Morden Alliance Church\, 181 15th St\, Morden\, Manitoba\, R6M 1G3\, Canada
ATTACH;FMTTYPE=image/png:https://regionalconnections.ca/wp-content/uploads/2026/01/Cooking-Class-.png
END:VEVENT
BEGIN:VEVENT
DTSTART;TZID=America/Winnipeg:20280613T110000
DTEND;TZID=America/Winnipeg:20280613T130000
DTSTAMP:20260423T010614
CREATED:20260202T174816Z
LAST-MODIFIED:20260202T174816Z
UID:10014123-1844506800-1844514000@regionalconnections.ca
SUMMARY:Community Kitchen-Let's Get Cooking
DESCRIPTION:You are invited to join Many Hands and Regional Connections for a bi-weekly cooking class! Learn recipes from different cultures\, as well as how to use Canadian Foods on a fixed budget. Meet others from the community and practice your English conversation skills!
URL:https://regionalconnections.ca/event/community-kitchen-lets-get-cooking/2028-06-13/
LOCATION:Morden Alliance Church\, 181 15th St\, Morden\, Manitoba\, R6M 1G3\, Canada
ATTACH;FMTTYPE=image/png:https://regionalconnections.ca/wp-content/uploads/2026/01/Cooking-Class-.png
END:VEVENT
BEGIN:VEVENT
DTSTART;TZID=America/Winnipeg:20280627T110000
DTEND;TZID=America/Winnipeg:20280627T130000
DTSTAMP:20260423T010614
CREATED:20260130T203618Z
LAST-MODIFIED:20260202T173527Z
UID:10014063-1845716400-1845723600@regionalconnections.ca
SUMMARY:Community Kitchen-Let's Get Cooking
DESCRIPTION:You are invited to join Many Hands and Regional Connections for a bi-weekly cooking class! Learn recipes from different cultures\, as well as how to use Canadian Foods on a fixed budget. Meet others from the community and practice your English conversation skills!
URL:https://regionalconnections.ca/event/lets-get-cooking-2-3/2028-06-27/
LOCATION:Morden Alliance Church\, 181 15th St\, Morden\, Manitoba\, R6M 1G3\, Canada
ATTACH;FMTTYPE=image/png:https://regionalconnections.ca/wp-content/uploads/2026/01/Cooking-Class-.png
END:VEVENT
BEGIN:VEVENT
DTSTART;TZID=America/Winnipeg:20280711T110000
DTEND;TZID=America/Winnipeg:20280711T130000
DTSTAMP:20260423T010614
CREATED:20260202T174816Z
LAST-MODIFIED:20260202T174816Z
UID:10014124-1846926000-1846933200@regionalconnections.ca
SUMMARY:Community Kitchen-Let's Get Cooking
DESCRIPTION:You are invited to join Many Hands and Regional Connections for a bi-weekly cooking class! Learn recipes from different cultures\, as well as how to use Canadian Foods on a fixed budget. Meet others from the community and practice your English conversation skills!
URL:https://regionalconnections.ca/event/community-kitchen-lets-get-cooking/2028-07-11/
LOCATION:Morden Alliance Church\, 181 15th St\, Morden\, Manitoba\, R6M 1G3\, Canada
ATTACH;FMTTYPE=image/png:https://regionalconnections.ca/wp-content/uploads/2026/01/Cooking-Class-.png
END:VEVENT
BEGIN:VEVENT
DTSTART;TZID=America/Winnipeg:20280725T110000
DTEND;TZID=America/Winnipeg:20280725T130000
DTSTAMP:20260423T010614
CREATED:20260130T203618Z
LAST-MODIFIED:20260202T173527Z
UID:10014064-1848135600-1848142800@regionalconnections.ca
SUMMARY:Community Kitchen-Let's Get Cooking
DESCRIPTION:You are invited to join Many Hands and Regional Connections for a bi-weekly cooking class! Learn recipes from different cultures\, as well as how to use Canadian Foods on a fixed budget. Meet others from the community and practice your English conversation skills!
URL:https://regionalconnections.ca/event/lets-get-cooking-2-3/2028-07-25/
LOCATION:Morden Alliance Church\, 181 15th St\, Morden\, Manitoba\, R6M 1G3\, Canada
ATTACH;FMTTYPE=image/png:https://regionalconnections.ca/wp-content/uploads/2026/01/Cooking-Class-.png
END:VEVENT
BEGIN:VEVENT
DTSTART;TZID=America/Winnipeg:20280808T110000
DTEND;TZID=America/Winnipeg:20280808T130000
DTSTAMP:20260423T010614
CREATED:20260202T174816Z
LAST-MODIFIED:20260202T174816Z
UID:10014125-1849345200-1849352400@regionalconnections.ca
SUMMARY:Community Kitchen-Let's Get Cooking
DESCRIPTION:You are invited to join Many Hands and Regional Connections for a bi-weekly cooking class! Learn recipes from different cultures\, as well as how to use Canadian Foods on a fixed budget. Meet others from the community and practice your English conversation skills!
URL:https://regionalconnections.ca/event/community-kitchen-lets-get-cooking/2028-08-08/
LOCATION:Morden Alliance Church\, 181 15th St\, Morden\, Manitoba\, R6M 1G3\, Canada
ATTACH;FMTTYPE=image/png:https://regionalconnections.ca/wp-content/uploads/2026/01/Cooking-Class-.png
END:VEVENT
BEGIN:VEVENT
DTSTART;TZID=America/Winnipeg:20280822T110000
DTEND;TZID=America/Winnipeg:20280822T130000
DTSTAMP:20260423T010614
CREATED:20260130T203618Z
LAST-MODIFIED:20260202T173527Z
UID:10014065-1850554800-1850562000@regionalconnections.ca
SUMMARY:Community Kitchen-Let's Get Cooking
DESCRIPTION:You are invited to join Many Hands and Regional Connections for a bi-weekly cooking class! Learn recipes from different cultures\, as well as how to use Canadian Foods on a fixed budget. Meet others from the community and practice your English conversation skills!
URL:https://regionalconnections.ca/event/lets-get-cooking-2-3/2028-08-22/
LOCATION:Morden Alliance Church\, 181 15th St\, Morden\, Manitoba\, R6M 1G3\, Canada
ATTACH;FMTTYPE=image/png:https://regionalconnections.ca/wp-content/uploads/2026/01/Cooking-Class-.png
END:VEVENT
BEGIN:VEVENT
DTSTART;TZID=America/Winnipeg:20280912T110000
DTEND;TZID=America/Winnipeg:20280912T130000
DTSTAMP:20260423T010614
CREATED:20260202T174816Z
LAST-MODIFIED:20260202T174816Z
UID:10014126-1852369200-1852376400@regionalconnections.ca
SUMMARY:Community Kitchen-Let's Get Cooking
DESCRIPTION:You are invited to join Many Hands and Regional Connections for a bi-weekly cooking class! Learn recipes from different cultures\, as well as how to use Canadian Foods on a fixed budget. Meet others from the community and practice your English conversation skills!
URL:https://regionalconnections.ca/event/community-kitchen-lets-get-cooking/2028-09-12/
LOCATION:Morden Alliance Church\, 181 15th St\, Morden\, Manitoba\, R6M 1G3\, Canada
ATTACH;FMTTYPE=image/png:https://regionalconnections.ca/wp-content/uploads/2026/01/Cooking-Class-.png
END:VEVENT
BEGIN:VEVENT
DTSTART;TZID=America/Winnipeg:20280926T110000
DTEND;TZID=America/Winnipeg:20280926T130000
DTSTAMP:20260423T010614
CREATED:20260130T203618Z
LAST-MODIFIED:20260202T173527Z
UID:10014066-1853578800-1853586000@regionalconnections.ca
SUMMARY:Community Kitchen-Let's Get Cooking
DESCRIPTION:You are invited to join Many Hands and Regional Connections for a bi-weekly cooking class! Learn recipes from different cultures\, as well as how to use Canadian Foods on a fixed budget. Meet others from the community and practice your English conversation skills!
URL:https://regionalconnections.ca/event/lets-get-cooking-2-3/2028-09-26/
LOCATION:Morden Alliance Church\, 181 15th St\, Morden\, Manitoba\, R6M 1G3\, Canada
ATTACH;FMTTYPE=image/png:https://regionalconnections.ca/wp-content/uploads/2026/01/Cooking-Class-.png
END:VEVENT
BEGIN:VEVENT
DTSTART;TZID=America/Winnipeg:20281010T110000
DTEND;TZID=America/Winnipeg:20281010T130000
DTSTAMP:20260423T010614
CREATED:20260202T174816Z
LAST-MODIFIED:20260202T174816Z
UID:10014127-1854788400-1854795600@regionalconnections.ca
SUMMARY:Community Kitchen-Let's Get Cooking
DESCRIPTION:You are invited to join Many Hands and Regional Connections for a bi-weekly cooking class! Learn recipes from different cultures\, as well as how to use Canadian Foods on a fixed budget. Meet others from the community and practice your English conversation skills!
URL:https://regionalconnections.ca/event/community-kitchen-lets-get-cooking/2028-10-10/
LOCATION:Morden Alliance Church\, 181 15th St\, Morden\, Manitoba\, R6M 1G3\, Canada
ATTACH;FMTTYPE=image/png:https://regionalconnections.ca/wp-content/uploads/2026/01/Cooking-Class-.png
END:VEVENT
BEGIN:VEVENT
DTSTART;TZID=America/Winnipeg:20281024T110000
DTEND;TZID=America/Winnipeg:20281024T130000
DTSTAMP:20260423T010614
CREATED:20260130T203618Z
LAST-MODIFIED:20260202T173527Z
UID:10014067-1855998000-1856005200@regionalconnections.ca
SUMMARY:Community Kitchen-Let's Get Cooking
DESCRIPTION:You are invited to join Many Hands and Regional Connections for a bi-weekly cooking class! Learn recipes from different cultures\, as well as how to use Canadian Foods on a fixed budget. Meet others from the community and practice your English conversation skills!
URL:https://regionalconnections.ca/event/lets-get-cooking-2-3/2028-10-24/
LOCATION:Morden Alliance Church\, 181 15th St\, Morden\, Manitoba\, R6M 1G3\, Canada
ATTACH;FMTTYPE=image/png:https://regionalconnections.ca/wp-content/uploads/2026/01/Cooking-Class-.png
END:VEVENT
BEGIN:VEVENT
DTSTART;TZID=America/Winnipeg:20281114T110000
DTEND;TZID=America/Winnipeg:20281114T130000
DTSTAMP:20260423T010614
CREATED:20260202T174816Z
LAST-MODIFIED:20260202T174816Z
UID:10014128-1857812400-1857819600@regionalconnections.ca
SUMMARY:Community Kitchen-Let's Get Cooking
DESCRIPTION:You are invited to join Many Hands and Regional Connections for a bi-weekly cooking class! Learn recipes from different cultures\, as well as how to use Canadian Foods on a fixed budget. Meet others from the community and practice your English conversation skills!
URL:https://regionalconnections.ca/event/community-kitchen-lets-get-cooking/2028-11-14/
LOCATION:Morden Alliance Church\, 181 15th St\, Morden\, Manitoba\, R6M 1G3\, Canada
ATTACH;FMTTYPE=image/png:https://regionalconnections.ca/wp-content/uploads/2026/01/Cooking-Class-.png
END:VEVENT
BEGIN:VEVENT
DTSTART;TZID=America/Winnipeg:20281128T110000
DTEND;TZID=America/Winnipeg:20281128T130000
DTSTAMP:20260423T010614
CREATED:20260130T203618Z
LAST-MODIFIED:20260202T173527Z
UID:10014068-1859022000-1859029200@regionalconnections.ca
SUMMARY:Community Kitchen-Let's Get Cooking
DESCRIPTION:You are invited to join Many Hands and Regional Connections for a bi-weekly cooking class! Learn recipes from different cultures\, as well as how to use Canadian Foods on a fixed budget. Meet others from the community and practice your English conversation skills!
URL:https://regionalconnections.ca/event/lets-get-cooking-2-3/2028-11-28/
LOCATION:Morden Alliance Church\, 181 15th St\, Morden\, Manitoba\, R6M 1G3\, Canada
ATTACH;FMTTYPE=image/png:https://regionalconnections.ca/wp-content/uploads/2026/01/Cooking-Class-.png
END:VEVENT
BEGIN:VEVENT
DTSTART;TZID=America/Winnipeg:20281212T110000
DTEND;TZID=America/Winnipeg:20281212T130000
DTSTAMP:20260423T010614
CREATED:20260202T174816Z
LAST-MODIFIED:20260202T174816Z
UID:10014129-1860231600-1860238800@regionalconnections.ca
SUMMARY:Community Kitchen-Let's Get Cooking
DESCRIPTION:You are invited to join Many Hands and Regional Connections for a bi-weekly cooking class! Learn recipes from different cultures\, as well as how to use Canadian Foods on a fixed budget. Meet others from the community and practice your English conversation skills!
URL:https://regionalconnections.ca/event/community-kitchen-lets-get-cooking/2028-12-12/
LOCATION:Morden Alliance Church\, 181 15th St\, Morden\, Manitoba\, R6M 1G3\, Canada
ATTACH;FMTTYPE=image/png:https://regionalconnections.ca/wp-content/uploads/2026/01/Cooking-Class-.png
END:VEVENT
BEGIN:VEVENT
DTSTART;TZID=America/Winnipeg:20281226T110000
DTEND;TZID=America/Winnipeg:20281226T130000
DTSTAMP:20260423T010614
CREATED:20260130T203618Z
LAST-MODIFIED:20260202T173527Z
UID:10014069-1861441200-1861448400@regionalconnections.ca
SUMMARY:Community Kitchen-Let's Get Cooking
DESCRIPTION:You are invited to join Many Hands and Regional Connections for a bi-weekly cooking class! Learn recipes from different cultures\, as well as how to use Canadian Foods on a fixed budget. Meet others from the community and practice your English conversation skills!
URL:https://regionalconnections.ca/event/lets-get-cooking-2-3/2028-12-26/
LOCATION:Morden Alliance Church\, 181 15th St\, Morden\, Manitoba\, R6M 1G3\, Canada
ATTACH;FMTTYPE=image/png:https://regionalconnections.ca/wp-content/uploads/2026/01/Cooking-Class-.png
END:VEVENT
BEGIN:VEVENT
DTSTART;TZID=America/Winnipeg:20290109T110000
DTEND;TZID=America/Winnipeg:20290109T130000
DTSTAMP:20260423T010614
CREATED:20260202T174816Z
LAST-MODIFIED:20260202T174816Z
UID:10014130-1862650800-1862658000@regionalconnections.ca
SUMMARY:Community Kitchen-Let's Get Cooking
DESCRIPTION:You are invited to join Many Hands and Regional Connections for a bi-weekly cooking class! Learn recipes from different cultures\, as well as how to use Canadian Foods on a fixed budget. Meet others from the community and practice your English conversation skills!
URL:https://regionalconnections.ca/event/community-kitchen-lets-get-cooking/2029-01-09/
LOCATION:Morden Alliance Church\, 181 15th St\, Morden\, Manitoba\, R6M 1G3\, Canada
ATTACH;FMTTYPE=image/png:https://regionalconnections.ca/wp-content/uploads/2026/01/Cooking-Class-.png
END:VEVENT
END:VCALENDAR