BEGIN:VCALENDAR
VERSION:2.0
PRODID:-//Regional Connections - ECPv6.15.18//NONSGML v1.0//EN
CALSCALE:GREGORIAN
METHOD:PUBLISH
X-ORIGINAL-URL:https://regionalconnections.ca
X-WR-CALDESC:Events for Regional Connections
REFRESH-INTERVAL;VALUE=DURATION:PT1H
X-Robots-Tag:noindex
X-PUBLISHED-TTL:PT1H
BEGIN:VTIMEZONE
TZID:America/Winnipeg
BEGIN:DAYLIGHT
TZOFFSETFROM:-0600
TZOFFSETTO:-0500
TZNAME:CDT
DTSTART:20270314T080000
END:DAYLIGHT
BEGIN:STANDARD
TZOFFSETFROM:-0500
TZOFFSETTO:-0600
TZNAME:CST
DTSTART:20271107T070000
END:STANDARD
BEGIN:DAYLIGHT
TZOFFSETFROM:-0600
TZOFFSETTO:-0500
TZNAME:CDT
DTSTART:20280312T080000
END:DAYLIGHT
BEGIN:STANDARD
TZOFFSETFROM:-0500
TZOFFSETTO:-0600
TZNAME:CST
DTSTART:20281105T070000
END:STANDARD
BEGIN:DAYLIGHT
TZOFFSETFROM:-0600
TZOFFSETTO:-0500
TZNAME:CDT
DTSTART:20290311T080000
END:DAYLIGHT
BEGIN:STANDARD
TZOFFSETFROM:-0500
TZOFFSETTO:-0600
TZNAME:CST
DTSTART:20291104T070000
END:STANDARD
BEGIN:DAYLIGHT
TZOFFSETFROM:-0600
TZOFFSETTO:-0500
TZNAME:CDT
DTSTART:20300310T080000
END:DAYLIGHT
BEGIN:STANDARD
TZOFFSETFROM:-0500
TZOFFSETTO:-0600
TZNAME:CST
DTSTART:20301103T070000
END:STANDARD
BEGIN:DAYLIGHT
TZOFFSETFROM:-0600
TZOFFSETTO:-0500
TZNAME:CDT
DTSTART:20310309T080000
END:DAYLIGHT
BEGIN:STANDARD
TZOFFSETFROM:-0500
TZOFFSETTO:-0600
TZNAME:CST
DTSTART:20311102T070000
END:STANDARD
END:VTIMEZONE
BEGIN:VEVENT
DTSTART;TZID=America/Winnipeg:20281024T110000
DTEND;TZID=America/Winnipeg:20281024T130000
DTSTAMP:20260423T040601
CREATED:20260130T203618Z
LAST-MODIFIED:20260202T173527Z
UID:10014067-1855998000-1856005200@regionalconnections.ca
SUMMARY:Community Kitchen-Let's Get Cooking
DESCRIPTION:You are invited to join Many Hands and Regional Connections for a bi-weekly cooking class! Learn recipes from different cultures\, as well as how to use Canadian Foods on a fixed budget. Meet others from the community and practice your English conversation skills!
URL:https://regionalconnections.ca/event/lets-get-cooking-2-3/2028-10-24/
LOCATION:Morden Alliance Church\, 181 15th St\, Morden\, Manitoba\, R6M 1G3\, Canada
ATTACH;FMTTYPE=image/png:https://regionalconnections.ca/wp-content/uploads/2026/01/Cooking-Class-.png
END:VEVENT
BEGIN:VEVENT
DTSTART;TZID=America/Winnipeg:20281114T110000
DTEND;TZID=America/Winnipeg:20281114T130000
DTSTAMP:20260423T040601
CREATED:20260202T174816Z
LAST-MODIFIED:20260202T174816Z
UID:10014128-1857812400-1857819600@regionalconnections.ca
SUMMARY:Community Kitchen-Let's Get Cooking
DESCRIPTION:You are invited to join Many Hands and Regional Connections for a bi-weekly cooking class! Learn recipes from different cultures\, as well as how to use Canadian Foods on a fixed budget. Meet others from the community and practice your English conversation skills!
URL:https://regionalconnections.ca/event/community-kitchen-lets-get-cooking/2028-11-14/
LOCATION:Morden Alliance Church\, 181 15th St\, Morden\, Manitoba\, R6M 1G3\, Canada
ATTACH;FMTTYPE=image/png:https://regionalconnections.ca/wp-content/uploads/2026/01/Cooking-Class-.png
END:VEVENT
BEGIN:VEVENT
DTSTART;TZID=America/Winnipeg:20281128T110000
DTEND;TZID=America/Winnipeg:20281128T130000
DTSTAMP:20260423T040601
CREATED:20260130T203618Z
LAST-MODIFIED:20260202T173527Z
UID:10014068-1859022000-1859029200@regionalconnections.ca
SUMMARY:Community Kitchen-Let's Get Cooking
DESCRIPTION:You are invited to join Many Hands and Regional Connections for a bi-weekly cooking class! Learn recipes from different cultures\, as well as how to use Canadian Foods on a fixed budget. Meet others from the community and practice your English conversation skills!
URL:https://regionalconnections.ca/event/lets-get-cooking-2-3/2028-11-28/
LOCATION:Morden Alliance Church\, 181 15th St\, Morden\, Manitoba\, R6M 1G3\, Canada
ATTACH;FMTTYPE=image/png:https://regionalconnections.ca/wp-content/uploads/2026/01/Cooking-Class-.png
END:VEVENT
BEGIN:VEVENT
DTSTART;TZID=America/Winnipeg:20281212T110000
DTEND;TZID=America/Winnipeg:20281212T130000
DTSTAMP:20260423T040601
CREATED:20260202T174816Z
LAST-MODIFIED:20260202T174816Z
UID:10014129-1860231600-1860238800@regionalconnections.ca
SUMMARY:Community Kitchen-Let's Get Cooking
DESCRIPTION:You are invited to join Many Hands and Regional Connections for a bi-weekly cooking class! Learn recipes from different cultures\, as well as how to use Canadian Foods on a fixed budget. Meet others from the community and practice your English conversation skills!
URL:https://regionalconnections.ca/event/community-kitchen-lets-get-cooking/2028-12-12/
LOCATION:Morden Alliance Church\, 181 15th St\, Morden\, Manitoba\, R6M 1G3\, Canada
ATTACH;FMTTYPE=image/png:https://regionalconnections.ca/wp-content/uploads/2026/01/Cooking-Class-.png
END:VEVENT
BEGIN:VEVENT
DTSTART;TZID=America/Winnipeg:20281226T110000
DTEND;TZID=America/Winnipeg:20281226T130000
DTSTAMP:20260423T040601
CREATED:20260130T203618Z
LAST-MODIFIED:20260202T173527Z
UID:10014069-1861441200-1861448400@regionalconnections.ca
SUMMARY:Community Kitchen-Let's Get Cooking
DESCRIPTION:You are invited to join Many Hands and Regional Connections for a bi-weekly cooking class! Learn recipes from different cultures\, as well as how to use Canadian Foods on a fixed budget. Meet others from the community and practice your English conversation skills!
URL:https://regionalconnections.ca/event/lets-get-cooking-2-3/2028-12-26/
LOCATION:Morden Alliance Church\, 181 15th St\, Morden\, Manitoba\, R6M 1G3\, Canada
ATTACH;FMTTYPE=image/png:https://regionalconnections.ca/wp-content/uploads/2026/01/Cooking-Class-.png
END:VEVENT
BEGIN:VEVENT
DTSTART;TZID=America/Winnipeg:20290109T110000
DTEND;TZID=America/Winnipeg:20290109T130000
DTSTAMP:20260423T040601
CREATED:20260202T174816Z
LAST-MODIFIED:20260202T174816Z
UID:10014130-1862650800-1862658000@regionalconnections.ca
SUMMARY:Community Kitchen-Let's Get Cooking
DESCRIPTION:You are invited to join Many Hands and Regional Connections for a bi-weekly cooking class! Learn recipes from different cultures\, as well as how to use Canadian Foods on a fixed budget. Meet others from the community and practice your English conversation skills!
URL:https://regionalconnections.ca/event/community-kitchen-lets-get-cooking/2029-01-09/
LOCATION:Morden Alliance Church\, 181 15th St\, Morden\, Manitoba\, R6M 1G3\, Canada
ATTACH;FMTTYPE=image/png:https://regionalconnections.ca/wp-content/uploads/2026/01/Cooking-Class-.png
END:VEVENT
BEGIN:VEVENT
DTSTART;TZID=America/Winnipeg:20290123T110000
DTEND;TZID=America/Winnipeg:20290123T130000
DTSTAMP:20260423T040601
CREATED:20260130T203618Z
LAST-MODIFIED:20260202T173527Z
UID:10014070-1863860400-1863867600@regionalconnections.ca
SUMMARY:Community Kitchen-Let's Get Cooking
DESCRIPTION:You are invited to join Many Hands and Regional Connections for a bi-weekly cooking class! Learn recipes from different cultures\, as well as how to use Canadian Foods on a fixed budget. Meet others from the community and practice your English conversation skills!
URL:https://regionalconnections.ca/event/lets-get-cooking-2-3/2029-01-23/
LOCATION:Morden Alliance Church\, 181 15th St\, Morden\, Manitoba\, R6M 1G3\, Canada
ATTACH;FMTTYPE=image/png:https://regionalconnections.ca/wp-content/uploads/2026/01/Cooking-Class-.png
END:VEVENT
BEGIN:VEVENT
DTSTART;TZID=America/Winnipeg:20290213T110000
DTEND;TZID=America/Winnipeg:20290213T130000
DTSTAMP:20260423T040601
CREATED:20260202T174816Z
LAST-MODIFIED:20260202T174816Z
UID:10014131-1865674800-1865682000@regionalconnections.ca
SUMMARY:Community Kitchen-Let's Get Cooking
DESCRIPTION:You are invited to join Many Hands and Regional Connections for a bi-weekly cooking class! Learn recipes from different cultures\, as well as how to use Canadian Foods on a fixed budget. Meet others from the community and practice your English conversation skills!
URL:https://regionalconnections.ca/event/community-kitchen-lets-get-cooking/2029-02-13/
LOCATION:Morden Alliance Church\, 181 15th St\, Morden\, Manitoba\, R6M 1G3\, Canada
ATTACH;FMTTYPE=image/png:https://regionalconnections.ca/wp-content/uploads/2026/01/Cooking-Class-.png
END:VEVENT
BEGIN:VEVENT
DTSTART;TZID=America/Winnipeg:20290227T110000
DTEND;TZID=America/Winnipeg:20290227T130000
DTSTAMP:20260423T040601
CREATED:20260130T203618Z
LAST-MODIFIED:20260202T173527Z
UID:10014071-1866884400-1866891600@regionalconnections.ca
SUMMARY:Community Kitchen-Let's Get Cooking
DESCRIPTION:You are invited to join Many Hands and Regional Connections for a bi-weekly cooking class! Learn recipes from different cultures\, as well as how to use Canadian Foods on a fixed budget. Meet others from the community and practice your English conversation skills!
URL:https://regionalconnections.ca/event/lets-get-cooking-2-3/2029-02-27/
LOCATION:Morden Alliance Church\, 181 15th St\, Morden\, Manitoba\, R6M 1G3\, Canada
ATTACH;FMTTYPE=image/png:https://regionalconnections.ca/wp-content/uploads/2026/01/Cooking-Class-.png
END:VEVENT
BEGIN:VEVENT
DTSTART;TZID=America/Winnipeg:20290313T110000
DTEND;TZID=America/Winnipeg:20290313T130000
DTSTAMP:20260423T040601
CREATED:20260202T174816Z
LAST-MODIFIED:20260202T174816Z
UID:10014132-1868094000-1868101200@regionalconnections.ca
SUMMARY:Community Kitchen-Let's Get Cooking
DESCRIPTION:You are invited to join Many Hands and Regional Connections for a bi-weekly cooking class! Learn recipes from different cultures\, as well as how to use Canadian Foods on a fixed budget. Meet others from the community and practice your English conversation skills!
URL:https://regionalconnections.ca/event/community-kitchen-lets-get-cooking/2029-03-13/
LOCATION:Morden Alliance Church\, 181 15th St\, Morden\, Manitoba\, R6M 1G3\, Canada
ATTACH;FMTTYPE=image/png:https://regionalconnections.ca/wp-content/uploads/2026/01/Cooking-Class-.png
END:VEVENT
BEGIN:VEVENT
DTSTART;TZID=America/Winnipeg:20290327T110000
DTEND;TZID=America/Winnipeg:20290327T130000
DTSTAMP:20260423T040601
CREATED:20260130T203618Z
LAST-MODIFIED:20260202T173527Z
UID:10014072-1869303600-1869310800@regionalconnections.ca
SUMMARY:Community Kitchen-Let's Get Cooking
DESCRIPTION:You are invited to join Many Hands and Regional Connections for a bi-weekly cooking class! Learn recipes from different cultures\, as well as how to use Canadian Foods on a fixed budget. Meet others from the community and practice your English conversation skills!
URL:https://regionalconnections.ca/event/lets-get-cooking-2-3/2029-03-27/
LOCATION:Morden Alliance Church\, 181 15th St\, Morden\, Manitoba\, R6M 1G3\, Canada
ATTACH;FMTTYPE=image/png:https://regionalconnections.ca/wp-content/uploads/2026/01/Cooking-Class-.png
END:VEVENT
BEGIN:VEVENT
DTSTART;TZID=America/Winnipeg:20290410T110000
DTEND;TZID=America/Winnipeg:20290410T130000
DTSTAMP:20260423T040601
CREATED:20260202T174816Z
LAST-MODIFIED:20260202T174816Z
UID:10014133-1870513200-1870520400@regionalconnections.ca
SUMMARY:Community Kitchen-Let's Get Cooking
DESCRIPTION:You are invited to join Many Hands and Regional Connections for a bi-weekly cooking class! Learn recipes from different cultures\, as well as how to use Canadian Foods on a fixed budget. Meet others from the community and practice your English conversation skills!
URL:https://regionalconnections.ca/event/community-kitchen-lets-get-cooking/2029-04-10/
LOCATION:Morden Alliance Church\, 181 15th St\, Morden\, Manitoba\, R6M 1G3\, Canada
ATTACH;FMTTYPE=image/png:https://regionalconnections.ca/wp-content/uploads/2026/01/Cooking-Class-.png
END:VEVENT
BEGIN:VEVENT
DTSTART;TZID=America/Winnipeg:20290424T110000
DTEND;TZID=America/Winnipeg:20290424T130000
DTSTAMP:20260423T040601
CREATED:20260130T203618Z
LAST-MODIFIED:20260202T173527Z
UID:10014073-1871722800-1871730000@regionalconnections.ca
SUMMARY:Community Kitchen-Let's Get Cooking
DESCRIPTION:You are invited to join Many Hands and Regional Connections for a bi-weekly cooking class! Learn recipes from different cultures\, as well as how to use Canadian Foods on a fixed budget. Meet others from the community and practice your English conversation skills!
URL:https://regionalconnections.ca/event/lets-get-cooking-2-3/2029-04-24/
LOCATION:Morden Alliance Church\, 181 15th St\, Morden\, Manitoba\, R6M 1G3\, Canada
ATTACH;FMTTYPE=image/png:https://regionalconnections.ca/wp-content/uploads/2026/01/Cooking-Class-.png
END:VEVENT
BEGIN:VEVENT
DTSTART;TZID=America/Winnipeg:20290508T110000
DTEND;TZID=America/Winnipeg:20290508T130000
DTSTAMP:20260423T040601
CREATED:20260202T174816Z
LAST-MODIFIED:20260202T174816Z
UID:10014134-1872932400-1872939600@regionalconnections.ca
SUMMARY:Community Kitchen-Let's Get Cooking
DESCRIPTION:You are invited to join Many Hands and Regional Connections for a bi-weekly cooking class! Learn recipes from different cultures\, as well as how to use Canadian Foods on a fixed budget. Meet others from the community and practice your English conversation skills!
URL:https://regionalconnections.ca/event/community-kitchen-lets-get-cooking/2029-05-08/
LOCATION:Morden Alliance Church\, 181 15th St\, Morden\, Manitoba\, R6M 1G3\, Canada
ATTACH;FMTTYPE=image/png:https://regionalconnections.ca/wp-content/uploads/2026/01/Cooking-Class-.png
END:VEVENT
BEGIN:VEVENT
DTSTART;TZID=America/Winnipeg:20290522T110000
DTEND;TZID=America/Winnipeg:20290522T130000
DTSTAMP:20260423T040601
CREATED:20260130T203618Z
LAST-MODIFIED:20260202T173527Z
UID:10014074-1874142000-1874149200@regionalconnections.ca
SUMMARY:Community Kitchen-Let's Get Cooking
DESCRIPTION:You are invited to join Many Hands and Regional Connections for a bi-weekly cooking class! Learn recipes from different cultures\, as well as how to use Canadian Foods on a fixed budget. Meet others from the community and practice your English conversation skills!
URL:https://regionalconnections.ca/event/lets-get-cooking-2-3/2029-05-22/
LOCATION:Morden Alliance Church\, 181 15th St\, Morden\, Manitoba\, R6M 1G3\, Canada
ATTACH;FMTTYPE=image/png:https://regionalconnections.ca/wp-content/uploads/2026/01/Cooking-Class-.png
END:VEVENT
BEGIN:VEVENT
DTSTART;TZID=America/Winnipeg:20290612T110000
DTEND;TZID=America/Winnipeg:20290612T130000
DTSTAMP:20260423T040601
CREATED:20260202T174816Z
LAST-MODIFIED:20260202T174816Z
UID:10014135-1875956400-1875963600@regionalconnections.ca
SUMMARY:Community Kitchen-Let's Get Cooking
DESCRIPTION:You are invited to join Many Hands and Regional Connections for a bi-weekly cooking class! Learn recipes from different cultures\, as well as how to use Canadian Foods on a fixed budget. Meet others from the community and practice your English conversation skills!
URL:https://regionalconnections.ca/event/community-kitchen-lets-get-cooking/2029-06-12/
LOCATION:Morden Alliance Church\, 181 15th St\, Morden\, Manitoba\, R6M 1G3\, Canada
ATTACH;FMTTYPE=image/png:https://regionalconnections.ca/wp-content/uploads/2026/01/Cooking-Class-.png
END:VEVENT
BEGIN:VEVENT
DTSTART;TZID=America/Winnipeg:20290626T110000
DTEND;TZID=America/Winnipeg:20290626T130000
DTSTAMP:20260423T040601
CREATED:20260130T203618Z
LAST-MODIFIED:20260202T173527Z
UID:10014075-1877166000-1877173200@regionalconnections.ca
SUMMARY:Community Kitchen-Let's Get Cooking
DESCRIPTION:You are invited to join Many Hands and Regional Connections for a bi-weekly cooking class! Learn recipes from different cultures\, as well as how to use Canadian Foods on a fixed budget. Meet others from the community and practice your English conversation skills!
URL:https://regionalconnections.ca/event/lets-get-cooking-2-3/2029-06-26/
LOCATION:Morden Alliance Church\, 181 15th St\, Morden\, Manitoba\, R6M 1G3\, Canada
ATTACH;FMTTYPE=image/png:https://regionalconnections.ca/wp-content/uploads/2026/01/Cooking-Class-.png
END:VEVENT
BEGIN:VEVENT
DTSTART;TZID=America/Winnipeg:20290710T110000
DTEND;TZID=America/Winnipeg:20290710T130000
DTSTAMP:20260423T040601
CREATED:20260202T174816Z
LAST-MODIFIED:20260202T174816Z
UID:10014136-1878375600-1878382800@regionalconnections.ca
SUMMARY:Community Kitchen-Let's Get Cooking
DESCRIPTION:You are invited to join Many Hands and Regional Connections for a bi-weekly cooking class! Learn recipes from different cultures\, as well as how to use Canadian Foods on a fixed budget. Meet others from the community and practice your English conversation skills!
URL:https://regionalconnections.ca/event/community-kitchen-lets-get-cooking/2029-07-10/
LOCATION:Morden Alliance Church\, 181 15th St\, Morden\, Manitoba\, R6M 1G3\, Canada
ATTACH;FMTTYPE=image/png:https://regionalconnections.ca/wp-content/uploads/2026/01/Cooking-Class-.png
END:VEVENT
BEGIN:VEVENT
DTSTART;TZID=America/Winnipeg:20290724T110000
DTEND;TZID=America/Winnipeg:20290724T130000
DTSTAMP:20260423T040601
CREATED:20260130T203618Z
LAST-MODIFIED:20260202T173527Z
UID:10014076-1879585200-1879592400@regionalconnections.ca
SUMMARY:Community Kitchen-Let's Get Cooking
DESCRIPTION:You are invited to join Many Hands and Regional Connections for a bi-weekly cooking class! Learn recipes from different cultures\, as well as how to use Canadian Foods on a fixed budget. Meet others from the community and practice your English conversation skills!
URL:https://regionalconnections.ca/event/lets-get-cooking-2-3/2029-07-24/
LOCATION:Morden Alliance Church\, 181 15th St\, Morden\, Manitoba\, R6M 1G3\, Canada
ATTACH;FMTTYPE=image/png:https://regionalconnections.ca/wp-content/uploads/2026/01/Cooking-Class-.png
END:VEVENT
BEGIN:VEVENT
DTSTART;TZID=America/Winnipeg:20290814T110000
DTEND;TZID=America/Winnipeg:20290814T130000
DTSTAMP:20260423T040601
CREATED:20260202T174816Z
LAST-MODIFIED:20260202T174816Z
UID:10014137-1881399600-1881406800@regionalconnections.ca
SUMMARY:Community Kitchen-Let's Get Cooking
DESCRIPTION:You are invited to join Many Hands and Regional Connections for a bi-weekly cooking class! Learn recipes from different cultures\, as well as how to use Canadian Foods on a fixed budget. Meet others from the community and practice your English conversation skills!
URL:https://regionalconnections.ca/event/community-kitchen-lets-get-cooking/2029-08-14/
LOCATION:Morden Alliance Church\, 181 15th St\, Morden\, Manitoba\, R6M 1G3\, Canada
ATTACH;FMTTYPE=image/png:https://regionalconnections.ca/wp-content/uploads/2026/01/Cooking-Class-.png
END:VEVENT
BEGIN:VEVENT
DTSTART;TZID=America/Winnipeg:20290828T110000
DTEND;TZID=America/Winnipeg:20290828T130000
DTSTAMP:20260423T040601
CREATED:20260130T203618Z
LAST-MODIFIED:20260202T173527Z
UID:10014077-1882609200-1882616400@regionalconnections.ca
SUMMARY:Community Kitchen-Let's Get Cooking
DESCRIPTION:You are invited to join Many Hands and Regional Connections for a bi-weekly cooking class! Learn recipes from different cultures\, as well as how to use Canadian Foods on a fixed budget. Meet others from the community and practice your English conversation skills!
URL:https://regionalconnections.ca/event/lets-get-cooking-2-3/2029-08-28/
LOCATION:Morden Alliance Church\, 181 15th St\, Morden\, Manitoba\, R6M 1G3\, Canada
ATTACH;FMTTYPE=image/png:https://regionalconnections.ca/wp-content/uploads/2026/01/Cooking-Class-.png
END:VEVENT
BEGIN:VEVENT
DTSTART;TZID=America/Winnipeg:20290911T110000
DTEND;TZID=America/Winnipeg:20290911T130000
DTSTAMP:20260423T040601
CREATED:20260202T174816Z
LAST-MODIFIED:20260202T174816Z
UID:10014138-1883818800-1883826000@regionalconnections.ca
SUMMARY:Community Kitchen-Let's Get Cooking
DESCRIPTION:You are invited to join Many Hands and Regional Connections for a bi-weekly cooking class! Learn recipes from different cultures\, as well as how to use Canadian Foods on a fixed budget. Meet others from the community and practice your English conversation skills!
URL:https://regionalconnections.ca/event/community-kitchen-lets-get-cooking/2029-09-11/
LOCATION:Morden Alliance Church\, 181 15th St\, Morden\, Manitoba\, R6M 1G3\, Canada
ATTACH;FMTTYPE=image/png:https://regionalconnections.ca/wp-content/uploads/2026/01/Cooking-Class-.png
END:VEVENT
BEGIN:VEVENT
DTSTART;TZID=America/Winnipeg:20290925T110000
DTEND;TZID=America/Winnipeg:20290925T130000
DTSTAMP:20260423T040601
CREATED:20260130T203618Z
LAST-MODIFIED:20260202T173527Z
UID:10014078-1885028400-1885035600@regionalconnections.ca
SUMMARY:Community Kitchen-Let's Get Cooking
DESCRIPTION:You are invited to join Many Hands and Regional Connections for a bi-weekly cooking class! Learn recipes from different cultures\, as well as how to use Canadian Foods on a fixed budget. Meet others from the community and practice your English conversation skills!
URL:https://regionalconnections.ca/event/lets-get-cooking-2-3/2029-09-25/
LOCATION:Morden Alliance Church\, 181 15th St\, Morden\, Manitoba\, R6M 1G3\, Canada
ATTACH;FMTTYPE=image/png:https://regionalconnections.ca/wp-content/uploads/2026/01/Cooking-Class-.png
END:VEVENT
BEGIN:VEVENT
DTSTART;TZID=America/Winnipeg:20291009T110000
DTEND;TZID=America/Winnipeg:20291009T130000
DTSTAMP:20260423T040601
CREATED:20260202T174816Z
LAST-MODIFIED:20260202T174816Z
UID:10014139-1886238000-1886245200@regionalconnections.ca
SUMMARY:Community Kitchen-Let's Get Cooking
DESCRIPTION:You are invited to join Many Hands and Regional Connections for a bi-weekly cooking class! Learn recipes from different cultures\, as well as how to use Canadian Foods on a fixed budget. Meet others from the community and practice your English conversation skills!
URL:https://regionalconnections.ca/event/community-kitchen-lets-get-cooking/2029-10-09/
LOCATION:Morden Alliance Church\, 181 15th St\, Morden\, Manitoba\, R6M 1G3\, Canada
ATTACH;FMTTYPE=image/png:https://regionalconnections.ca/wp-content/uploads/2026/01/Cooking-Class-.png
END:VEVENT
BEGIN:VEVENT
DTSTART;TZID=America/Winnipeg:20291023T110000
DTEND;TZID=America/Winnipeg:20291023T130000
DTSTAMP:20260423T040601
CREATED:20260130T203618Z
LAST-MODIFIED:20260202T173527Z
UID:10014079-1887447600-1887454800@regionalconnections.ca
SUMMARY:Community Kitchen-Let's Get Cooking
DESCRIPTION:You are invited to join Many Hands and Regional Connections for a bi-weekly cooking class! Learn recipes from different cultures\, as well as how to use Canadian Foods on a fixed budget. Meet others from the community and practice your English conversation skills!
URL:https://regionalconnections.ca/event/lets-get-cooking-2-3/2029-10-23/
LOCATION:Morden Alliance Church\, 181 15th St\, Morden\, Manitoba\, R6M 1G3\, Canada
ATTACH;FMTTYPE=image/png:https://regionalconnections.ca/wp-content/uploads/2026/01/Cooking-Class-.png
END:VEVENT
BEGIN:VEVENT
DTSTART;TZID=America/Winnipeg:20291113T110000
DTEND;TZID=America/Winnipeg:20291113T130000
DTSTAMP:20260423T040601
CREATED:20260202T174816Z
LAST-MODIFIED:20260202T174816Z
UID:10014140-1889262000-1889269200@regionalconnections.ca
SUMMARY:Community Kitchen-Let's Get Cooking
DESCRIPTION:You are invited to join Many Hands and Regional Connections for a bi-weekly cooking class! Learn recipes from different cultures\, as well as how to use Canadian Foods on a fixed budget. Meet others from the community and practice your English conversation skills!
URL:https://regionalconnections.ca/event/community-kitchen-lets-get-cooking/2029-11-13/
LOCATION:Morden Alliance Church\, 181 15th St\, Morden\, Manitoba\, R6M 1G3\, Canada
ATTACH;FMTTYPE=image/png:https://regionalconnections.ca/wp-content/uploads/2026/01/Cooking-Class-.png
END:VEVENT
BEGIN:VEVENT
DTSTART;TZID=America/Winnipeg:20291127T110000
DTEND;TZID=America/Winnipeg:20291127T130000
DTSTAMP:20260423T040601
CREATED:20260130T203618Z
LAST-MODIFIED:20260202T173527Z
UID:10014080-1890471600-1890478800@regionalconnections.ca
SUMMARY:Community Kitchen-Let's Get Cooking
DESCRIPTION:You are invited to join Many Hands and Regional Connections for a bi-weekly cooking class! Learn recipes from different cultures\, as well as how to use Canadian Foods on a fixed budget. Meet others from the community and practice your English conversation skills!
URL:https://regionalconnections.ca/event/lets-get-cooking-2-3/2029-11-27/
LOCATION:Morden Alliance Church\, 181 15th St\, Morden\, Manitoba\, R6M 1G3\, Canada
ATTACH;FMTTYPE=image/png:https://regionalconnections.ca/wp-content/uploads/2026/01/Cooking-Class-.png
END:VEVENT
BEGIN:VEVENT
DTSTART;TZID=America/Winnipeg:20291211T110000
DTEND;TZID=America/Winnipeg:20291211T130000
DTSTAMP:20260423T040601
CREATED:20260202T174816Z
LAST-MODIFIED:20260202T174816Z
UID:10014141-1891681200-1891688400@regionalconnections.ca
SUMMARY:Community Kitchen-Let's Get Cooking
DESCRIPTION:You are invited to join Many Hands and Regional Connections for a bi-weekly cooking class! Learn recipes from different cultures\, as well as how to use Canadian Foods on a fixed budget. Meet others from the community and practice your English conversation skills!
URL:https://regionalconnections.ca/event/community-kitchen-lets-get-cooking/2029-12-11/
LOCATION:Morden Alliance Church\, 181 15th St\, Morden\, Manitoba\, R6M 1G3\, Canada
ATTACH;FMTTYPE=image/png:https://regionalconnections.ca/wp-content/uploads/2026/01/Cooking-Class-.png
END:VEVENT
BEGIN:VEVENT
DTSTART;TZID=America/Winnipeg:20291225T110000
DTEND;TZID=America/Winnipeg:20291225T130000
DTSTAMP:20260423T040601
CREATED:20260130T203618Z
LAST-MODIFIED:20260202T173527Z
UID:10014081-1892890800-1892898000@regionalconnections.ca
SUMMARY:Community Kitchen-Let's Get Cooking
DESCRIPTION:You are invited to join Many Hands and Regional Connections for a bi-weekly cooking class! Learn recipes from different cultures\, as well as how to use Canadian Foods on a fixed budget. Meet others from the community and practice your English conversation skills!
URL:https://regionalconnections.ca/event/lets-get-cooking-2-3/2029-12-25/
LOCATION:Morden Alliance Church\, 181 15th St\, Morden\, Manitoba\, R6M 1G3\, Canada
ATTACH;FMTTYPE=image/png:https://regionalconnections.ca/wp-content/uploads/2026/01/Cooking-Class-.png
END:VEVENT
BEGIN:VEVENT
DTSTART;TZID=America/Winnipeg:20300108T110000
DTEND;TZID=America/Winnipeg:20300108T130000
DTSTAMP:20260423T040601
CREATED:20260202T174816Z
LAST-MODIFIED:20260202T174816Z
UID:10014142-1894100400-1894107600@regionalconnections.ca
SUMMARY:Community Kitchen-Let's Get Cooking
DESCRIPTION:You are invited to join Many Hands and Regional Connections for a bi-weekly cooking class! Learn recipes from different cultures\, as well as how to use Canadian Foods on a fixed budget. Meet others from the community and practice your English conversation skills!
URL:https://regionalconnections.ca/event/community-kitchen-lets-get-cooking/2030-01-08/
LOCATION:Morden Alliance Church\, 181 15th St\, Morden\, Manitoba\, R6M 1G3\, Canada
ATTACH;FMTTYPE=image/png:https://regionalconnections.ca/wp-content/uploads/2026/01/Cooking-Class-.png
END:VEVENT
END:VCALENDAR