BEGIN:VCALENDAR
VERSION:2.0
PRODID:-//Regional Connections - ECPv6.15.18//NONSGML v1.0//EN
CALSCALE:GREGORIAN
METHOD:PUBLISH
X-ORIGINAL-URL:https://regionalconnections.ca
X-WR-CALDESC:Events for Regional Connections
REFRESH-INTERVAL;VALUE=DURATION:PT1H
X-Robots-Tag:noindex
X-PUBLISHED-TTL:PT1H
BEGIN:VTIMEZONE
TZID:America/Winnipeg
BEGIN:DAYLIGHT
TZOFFSETFROM:-0600
TZOFFSETTO:-0500
TZNAME:CDT
DTSTART:20280312T080000
END:DAYLIGHT
BEGIN:STANDARD
TZOFFSETFROM:-0500
TZOFFSETTO:-0600
TZNAME:CST
DTSTART:20281105T070000
END:STANDARD
BEGIN:DAYLIGHT
TZOFFSETFROM:-0600
TZOFFSETTO:-0500
TZNAME:CDT
DTSTART:20290311T080000
END:DAYLIGHT
BEGIN:STANDARD
TZOFFSETFROM:-0500
TZOFFSETTO:-0600
TZNAME:CST
DTSTART:20291104T070000
END:STANDARD
BEGIN:DAYLIGHT
TZOFFSETFROM:-0600
TZOFFSETTO:-0500
TZNAME:CDT
DTSTART:20300310T080000
END:DAYLIGHT
BEGIN:STANDARD
TZOFFSETFROM:-0500
TZOFFSETTO:-0600
TZNAME:CST
DTSTART:20301103T070000
END:STANDARD
BEGIN:DAYLIGHT
TZOFFSETFROM:-0600
TZOFFSETTO:-0500
TZNAME:CDT
DTSTART:20310309T080000
END:DAYLIGHT
BEGIN:STANDARD
TZOFFSETFROM:-0500
TZOFFSETTO:-0600
TZNAME:CST
DTSTART:20311102T070000
END:STANDARD
BEGIN:DAYLIGHT
TZOFFSETFROM:-0600
TZOFFSETTO:-0500
TZNAME:CDT
DTSTART:20320314T080000
END:DAYLIGHT
BEGIN:STANDARD
TZOFFSETFROM:-0500
TZOFFSETTO:-0600
TZNAME:CST
DTSTART:20321107T070000
END:STANDARD
END:VTIMEZONE
BEGIN:VEVENT
DTSTART;TZID=America/Winnipeg:20291023T110000
DTEND;TZID=America/Winnipeg:20291023T130000
DTSTAMP:20260423T070411
CREATED:20260130T203618Z
LAST-MODIFIED:20260202T173527Z
UID:10014079-1887447600-1887454800@regionalconnections.ca
SUMMARY:Community Kitchen-Let's Get Cooking
DESCRIPTION:You are invited to join Many Hands and Regional Connections for a bi-weekly cooking class! Learn recipes from different cultures\, as well as how to use Canadian Foods on a fixed budget. Meet others from the community and practice your English conversation skills!
URL:https://regionalconnections.ca/event/lets-get-cooking-2-3/2029-10-23/
LOCATION:Morden Alliance Church\, 181 15th St\, Morden\, Manitoba\, R6M 1G3\, Canada
ATTACH;FMTTYPE=image/png:https://regionalconnections.ca/wp-content/uploads/2026/01/Cooking-Class-.png
END:VEVENT
BEGIN:VEVENT
DTSTART;TZID=America/Winnipeg:20291113T110000
DTEND;TZID=America/Winnipeg:20291113T130000
DTSTAMP:20260423T070411
CREATED:20260202T174816Z
LAST-MODIFIED:20260202T174816Z
UID:10014140-1889262000-1889269200@regionalconnections.ca
SUMMARY:Community Kitchen-Let's Get Cooking
DESCRIPTION:You are invited to join Many Hands and Regional Connections for a bi-weekly cooking class! Learn recipes from different cultures\, as well as how to use Canadian Foods on a fixed budget. Meet others from the community and practice your English conversation skills!
URL:https://regionalconnections.ca/event/community-kitchen-lets-get-cooking/2029-11-13/
LOCATION:Morden Alliance Church\, 181 15th St\, Morden\, Manitoba\, R6M 1G3\, Canada
ATTACH;FMTTYPE=image/png:https://regionalconnections.ca/wp-content/uploads/2026/01/Cooking-Class-.png
END:VEVENT
BEGIN:VEVENT
DTSTART;TZID=America/Winnipeg:20291127T110000
DTEND;TZID=America/Winnipeg:20291127T130000
DTSTAMP:20260423T070411
CREATED:20260130T203618Z
LAST-MODIFIED:20260202T173527Z
UID:10014080-1890471600-1890478800@regionalconnections.ca
SUMMARY:Community Kitchen-Let's Get Cooking
DESCRIPTION:You are invited to join Many Hands and Regional Connections for a bi-weekly cooking class! Learn recipes from different cultures\, as well as how to use Canadian Foods on a fixed budget. Meet others from the community and practice your English conversation skills!
URL:https://regionalconnections.ca/event/lets-get-cooking-2-3/2029-11-27/
LOCATION:Morden Alliance Church\, 181 15th St\, Morden\, Manitoba\, R6M 1G3\, Canada
ATTACH;FMTTYPE=image/png:https://regionalconnections.ca/wp-content/uploads/2026/01/Cooking-Class-.png
END:VEVENT
BEGIN:VEVENT
DTSTART;TZID=America/Winnipeg:20291211T110000
DTEND;TZID=America/Winnipeg:20291211T130000
DTSTAMP:20260423T070411
CREATED:20260202T174816Z
LAST-MODIFIED:20260202T174816Z
UID:10014141-1891681200-1891688400@regionalconnections.ca
SUMMARY:Community Kitchen-Let's Get Cooking
DESCRIPTION:You are invited to join Many Hands and Regional Connections for a bi-weekly cooking class! Learn recipes from different cultures\, as well as how to use Canadian Foods on a fixed budget. Meet others from the community and practice your English conversation skills!
URL:https://regionalconnections.ca/event/community-kitchen-lets-get-cooking/2029-12-11/
LOCATION:Morden Alliance Church\, 181 15th St\, Morden\, Manitoba\, R6M 1G3\, Canada
ATTACH;FMTTYPE=image/png:https://regionalconnections.ca/wp-content/uploads/2026/01/Cooking-Class-.png
END:VEVENT
BEGIN:VEVENT
DTSTART;TZID=America/Winnipeg:20291225T110000
DTEND;TZID=America/Winnipeg:20291225T130000
DTSTAMP:20260423T070411
CREATED:20260130T203618Z
LAST-MODIFIED:20260202T173527Z
UID:10014081-1892890800-1892898000@regionalconnections.ca
SUMMARY:Community Kitchen-Let's Get Cooking
DESCRIPTION:You are invited to join Many Hands and Regional Connections for a bi-weekly cooking class! Learn recipes from different cultures\, as well as how to use Canadian Foods on a fixed budget. Meet others from the community and practice your English conversation skills!
URL:https://regionalconnections.ca/event/lets-get-cooking-2-3/2029-12-25/
LOCATION:Morden Alliance Church\, 181 15th St\, Morden\, Manitoba\, R6M 1G3\, Canada
ATTACH;FMTTYPE=image/png:https://regionalconnections.ca/wp-content/uploads/2026/01/Cooking-Class-.png
END:VEVENT
BEGIN:VEVENT
DTSTART;TZID=America/Winnipeg:20300108T110000
DTEND;TZID=America/Winnipeg:20300108T130000
DTSTAMP:20260423T070411
CREATED:20260202T174816Z
LAST-MODIFIED:20260202T174816Z
UID:10014142-1894100400-1894107600@regionalconnections.ca
SUMMARY:Community Kitchen-Let's Get Cooking
DESCRIPTION:You are invited to join Many Hands and Regional Connections for a bi-weekly cooking class! Learn recipes from different cultures\, as well as how to use Canadian Foods on a fixed budget. Meet others from the community and practice your English conversation skills!
URL:https://regionalconnections.ca/event/community-kitchen-lets-get-cooking/2030-01-08/
LOCATION:Morden Alliance Church\, 181 15th St\, Morden\, Manitoba\, R6M 1G3\, Canada
ATTACH;FMTTYPE=image/png:https://regionalconnections.ca/wp-content/uploads/2026/01/Cooking-Class-.png
END:VEVENT
BEGIN:VEVENT
DTSTART;TZID=America/Winnipeg:20300122T110000
DTEND;TZID=America/Winnipeg:20300122T130000
DTSTAMP:20260423T070411
CREATED:20260130T203618Z
LAST-MODIFIED:20260202T173527Z
UID:10014082-1895310000-1895317200@regionalconnections.ca
SUMMARY:Community Kitchen-Let's Get Cooking
DESCRIPTION:You are invited to join Many Hands and Regional Connections for a bi-weekly cooking class! Learn recipes from different cultures\, as well as how to use Canadian Foods on a fixed budget. Meet others from the community and practice your English conversation skills!
URL:https://regionalconnections.ca/event/lets-get-cooking-2-3/2030-01-22/
LOCATION:Morden Alliance Church\, 181 15th St\, Morden\, Manitoba\, R6M 1G3\, Canada
ATTACH;FMTTYPE=image/png:https://regionalconnections.ca/wp-content/uploads/2026/01/Cooking-Class-.png
END:VEVENT
BEGIN:VEVENT
DTSTART;TZID=America/Winnipeg:20300212T110000
DTEND;TZID=America/Winnipeg:20300212T130000
DTSTAMP:20260423T070411
CREATED:20260202T174816Z
LAST-MODIFIED:20260202T174816Z
UID:10014143-1897124400-1897131600@regionalconnections.ca
SUMMARY:Community Kitchen-Let's Get Cooking
DESCRIPTION:You are invited to join Many Hands and Regional Connections for a bi-weekly cooking class! Learn recipes from different cultures\, as well as how to use Canadian Foods on a fixed budget. Meet others from the community and practice your English conversation skills!
URL:https://regionalconnections.ca/event/community-kitchen-lets-get-cooking/2030-02-12/
LOCATION:Morden Alliance Church\, 181 15th St\, Morden\, Manitoba\, R6M 1G3\, Canada
ATTACH;FMTTYPE=image/png:https://regionalconnections.ca/wp-content/uploads/2026/01/Cooking-Class-.png
END:VEVENT
BEGIN:VEVENT
DTSTART;TZID=America/Winnipeg:20300226T110000
DTEND;TZID=America/Winnipeg:20300226T130000
DTSTAMP:20260423T070411
CREATED:20260130T203618Z
LAST-MODIFIED:20260202T173527Z
UID:10014083-1898334000-1898341200@regionalconnections.ca
SUMMARY:Community Kitchen-Let's Get Cooking
DESCRIPTION:You are invited to join Many Hands and Regional Connections for a bi-weekly cooking class! Learn recipes from different cultures\, as well as how to use Canadian Foods on a fixed budget. Meet others from the community and practice your English conversation skills!
URL:https://regionalconnections.ca/event/lets-get-cooking-2-3/2030-02-26/
LOCATION:Morden Alliance Church\, 181 15th St\, Morden\, Manitoba\, R6M 1G3\, Canada
ATTACH;FMTTYPE=image/png:https://regionalconnections.ca/wp-content/uploads/2026/01/Cooking-Class-.png
END:VEVENT
BEGIN:VEVENT
DTSTART;TZID=America/Winnipeg:20300312T110000
DTEND;TZID=America/Winnipeg:20300312T130000
DTSTAMP:20260423T070411
CREATED:20260202T174816Z
LAST-MODIFIED:20260202T174816Z
UID:10014144-1899543600-1899550800@regionalconnections.ca
SUMMARY:Community Kitchen-Let's Get Cooking
DESCRIPTION:You are invited to join Many Hands and Regional Connections for a bi-weekly cooking class! Learn recipes from different cultures\, as well as how to use Canadian Foods on a fixed budget. Meet others from the community and practice your English conversation skills!
URL:https://regionalconnections.ca/event/community-kitchen-lets-get-cooking/2030-03-12/
LOCATION:Morden Alliance Church\, 181 15th St\, Morden\, Manitoba\, R6M 1G3\, Canada
ATTACH;FMTTYPE=image/png:https://regionalconnections.ca/wp-content/uploads/2026/01/Cooking-Class-.png
END:VEVENT
BEGIN:VEVENT
DTSTART;TZID=America/Winnipeg:20300326T110000
DTEND;TZID=America/Winnipeg:20300326T130000
DTSTAMP:20260423T070411
CREATED:20260130T203618Z
LAST-MODIFIED:20260202T173527Z
UID:10014084-1900753200-1900760400@regionalconnections.ca
SUMMARY:Community Kitchen-Let's Get Cooking
DESCRIPTION:You are invited to join Many Hands and Regional Connections for a bi-weekly cooking class! Learn recipes from different cultures\, as well as how to use Canadian Foods on a fixed budget. Meet others from the community and practice your English conversation skills!
URL:https://regionalconnections.ca/event/lets-get-cooking-2-3/2030-03-26/
LOCATION:Morden Alliance Church\, 181 15th St\, Morden\, Manitoba\, R6M 1G3\, Canada
ATTACH;FMTTYPE=image/png:https://regionalconnections.ca/wp-content/uploads/2026/01/Cooking-Class-.png
END:VEVENT
BEGIN:VEVENT
DTSTART;TZID=America/Winnipeg:20300409T110000
DTEND;TZID=America/Winnipeg:20300409T130000
DTSTAMP:20260423T070411
CREATED:20260202T174816Z
LAST-MODIFIED:20260202T174816Z
UID:10014145-1901962800-1901970000@regionalconnections.ca
SUMMARY:Community Kitchen-Let's Get Cooking
DESCRIPTION:You are invited to join Many Hands and Regional Connections for a bi-weekly cooking class! Learn recipes from different cultures\, as well as how to use Canadian Foods on a fixed budget. Meet others from the community and practice your English conversation skills!
URL:https://regionalconnections.ca/event/community-kitchen-lets-get-cooking/2030-04-09/
LOCATION:Morden Alliance Church\, 181 15th St\, Morden\, Manitoba\, R6M 1G3\, Canada
ATTACH;FMTTYPE=image/png:https://regionalconnections.ca/wp-content/uploads/2026/01/Cooking-Class-.png
END:VEVENT
BEGIN:VEVENT
DTSTART;TZID=America/Winnipeg:20300423T110000
DTEND;TZID=America/Winnipeg:20300423T130000
DTSTAMP:20260423T070411
CREATED:20260130T203618Z
LAST-MODIFIED:20260202T173527Z
UID:10014085-1903172400-1903179600@regionalconnections.ca
SUMMARY:Community Kitchen-Let's Get Cooking
DESCRIPTION:You are invited to join Many Hands and Regional Connections for a bi-weekly cooking class! Learn recipes from different cultures\, as well as how to use Canadian Foods on a fixed budget. Meet others from the community and practice your English conversation skills!
URL:https://regionalconnections.ca/event/lets-get-cooking-2-3/2030-04-23/
LOCATION:Morden Alliance Church\, 181 15th St\, Morden\, Manitoba\, R6M 1G3\, Canada
ATTACH;FMTTYPE=image/png:https://regionalconnections.ca/wp-content/uploads/2026/01/Cooking-Class-.png
END:VEVENT
BEGIN:VEVENT
DTSTART;TZID=America/Winnipeg:20300514T110000
DTEND;TZID=America/Winnipeg:20300514T130000
DTSTAMP:20260423T070411
CREATED:20260202T174816Z
LAST-MODIFIED:20260202T174816Z
UID:10014146-1904986800-1904994000@regionalconnections.ca
SUMMARY:Community Kitchen-Let's Get Cooking
DESCRIPTION:You are invited to join Many Hands and Regional Connections for a bi-weekly cooking class! Learn recipes from different cultures\, as well as how to use Canadian Foods on a fixed budget. Meet others from the community and practice your English conversation skills!
URL:https://regionalconnections.ca/event/community-kitchen-lets-get-cooking/2030-05-14/
LOCATION:Morden Alliance Church\, 181 15th St\, Morden\, Manitoba\, R6M 1G3\, Canada
ATTACH;FMTTYPE=image/png:https://regionalconnections.ca/wp-content/uploads/2026/01/Cooking-Class-.png
END:VEVENT
BEGIN:VEVENT
DTSTART;TZID=America/Winnipeg:20300528T110000
DTEND;TZID=America/Winnipeg:20300528T130000
DTSTAMP:20260423T070411
CREATED:20260130T203618Z
LAST-MODIFIED:20260202T173527Z
UID:10014086-1906196400-1906203600@regionalconnections.ca
SUMMARY:Community Kitchen-Let's Get Cooking
DESCRIPTION:You are invited to join Many Hands and Regional Connections for a bi-weekly cooking class! Learn recipes from different cultures\, as well as how to use Canadian Foods on a fixed budget. Meet others from the community and practice your English conversation skills!
URL:https://regionalconnections.ca/event/lets-get-cooking-2-3/2030-05-28/
LOCATION:Morden Alliance Church\, 181 15th St\, Morden\, Manitoba\, R6M 1G3\, Canada
ATTACH;FMTTYPE=image/png:https://regionalconnections.ca/wp-content/uploads/2026/01/Cooking-Class-.png
END:VEVENT
BEGIN:VEVENT
DTSTART;TZID=America/Winnipeg:20300611T110000
DTEND;TZID=America/Winnipeg:20300611T130000
DTSTAMP:20260423T070411
CREATED:20260202T174816Z
LAST-MODIFIED:20260202T174816Z
UID:10014147-1907406000-1907413200@regionalconnections.ca
SUMMARY:Community Kitchen-Let's Get Cooking
DESCRIPTION:You are invited to join Many Hands and Regional Connections for a bi-weekly cooking class! Learn recipes from different cultures\, as well as how to use Canadian Foods on a fixed budget. Meet others from the community and practice your English conversation skills!
URL:https://regionalconnections.ca/event/community-kitchen-lets-get-cooking/2030-06-11/
LOCATION:Morden Alliance Church\, 181 15th St\, Morden\, Manitoba\, R6M 1G3\, Canada
ATTACH;FMTTYPE=image/png:https://regionalconnections.ca/wp-content/uploads/2026/01/Cooking-Class-.png
END:VEVENT
BEGIN:VEVENT
DTSTART;TZID=America/Winnipeg:20300625T110000
DTEND;TZID=America/Winnipeg:20300625T130000
DTSTAMP:20260423T070411
CREATED:20260130T203618Z
LAST-MODIFIED:20260202T173527Z
UID:10014087-1908615600-1908622800@regionalconnections.ca
SUMMARY:Community Kitchen-Let's Get Cooking
DESCRIPTION:You are invited to join Many Hands and Regional Connections for a bi-weekly cooking class! Learn recipes from different cultures\, as well as how to use Canadian Foods on a fixed budget. Meet others from the community and practice your English conversation skills!
URL:https://regionalconnections.ca/event/lets-get-cooking-2-3/2030-06-25/
LOCATION:Morden Alliance Church\, 181 15th St\, Morden\, Manitoba\, R6M 1G3\, Canada
ATTACH;FMTTYPE=image/png:https://regionalconnections.ca/wp-content/uploads/2026/01/Cooking-Class-.png
END:VEVENT
BEGIN:VEVENT
DTSTART;TZID=America/Winnipeg:20300709T110000
DTEND;TZID=America/Winnipeg:20300709T130000
DTSTAMP:20260423T070411
CREATED:20260202T174816Z
LAST-MODIFIED:20260202T174816Z
UID:10014148-1909825200-1909832400@regionalconnections.ca
SUMMARY:Community Kitchen-Let's Get Cooking
DESCRIPTION:You are invited to join Many Hands and Regional Connections for a bi-weekly cooking class! Learn recipes from different cultures\, as well as how to use Canadian Foods on a fixed budget. Meet others from the community and practice your English conversation skills!
URL:https://regionalconnections.ca/event/community-kitchen-lets-get-cooking/2030-07-09/
LOCATION:Morden Alliance Church\, 181 15th St\, Morden\, Manitoba\, R6M 1G3\, Canada
ATTACH;FMTTYPE=image/png:https://regionalconnections.ca/wp-content/uploads/2026/01/Cooking-Class-.png
END:VEVENT
BEGIN:VEVENT
DTSTART;TZID=America/Winnipeg:20300723T110000
DTEND;TZID=America/Winnipeg:20300723T130000
DTSTAMP:20260423T070411
CREATED:20260130T203618Z
LAST-MODIFIED:20260202T173527Z
UID:10014088-1911034800-1911042000@regionalconnections.ca
SUMMARY:Community Kitchen-Let's Get Cooking
DESCRIPTION:You are invited to join Many Hands and Regional Connections for a bi-weekly cooking class! Learn recipes from different cultures\, as well as how to use Canadian Foods on a fixed budget. Meet others from the community and practice your English conversation skills!
URL:https://regionalconnections.ca/event/lets-get-cooking-2-3/2030-07-23/
LOCATION:Morden Alliance Church\, 181 15th St\, Morden\, Manitoba\, R6M 1G3\, Canada
ATTACH;FMTTYPE=image/png:https://regionalconnections.ca/wp-content/uploads/2026/01/Cooking-Class-.png
END:VEVENT
BEGIN:VEVENT
DTSTART;TZID=America/Winnipeg:20300813T110000
DTEND;TZID=America/Winnipeg:20300813T130000
DTSTAMP:20260423T070411
CREATED:20260202T174816Z
LAST-MODIFIED:20260202T174816Z
UID:10014149-1912849200-1912856400@regionalconnections.ca
SUMMARY:Community Kitchen-Let's Get Cooking
DESCRIPTION:You are invited to join Many Hands and Regional Connections for a bi-weekly cooking class! Learn recipes from different cultures\, as well as how to use Canadian Foods on a fixed budget. Meet others from the community and practice your English conversation skills!
URL:https://regionalconnections.ca/event/community-kitchen-lets-get-cooking/2030-08-13/
LOCATION:Morden Alliance Church\, 181 15th St\, Morden\, Manitoba\, R6M 1G3\, Canada
ATTACH;FMTTYPE=image/png:https://regionalconnections.ca/wp-content/uploads/2026/01/Cooking-Class-.png
END:VEVENT
BEGIN:VEVENT
DTSTART;TZID=America/Winnipeg:20300827T110000
DTEND;TZID=America/Winnipeg:20300827T130000
DTSTAMP:20260423T070411
CREATED:20260130T203618Z
LAST-MODIFIED:20260202T173527Z
UID:10014089-1914058800-1914066000@regionalconnections.ca
SUMMARY:Community Kitchen-Let's Get Cooking
DESCRIPTION:You are invited to join Many Hands and Regional Connections for a bi-weekly cooking class! Learn recipes from different cultures\, as well as how to use Canadian Foods on a fixed budget. Meet others from the community and practice your English conversation skills!
URL:https://regionalconnections.ca/event/lets-get-cooking-2-3/2030-08-27/
LOCATION:Morden Alliance Church\, 181 15th St\, Morden\, Manitoba\, R6M 1G3\, Canada
ATTACH;FMTTYPE=image/png:https://regionalconnections.ca/wp-content/uploads/2026/01/Cooking-Class-.png
END:VEVENT
BEGIN:VEVENT
DTSTART;TZID=America/Winnipeg:20300910T110000
DTEND;TZID=America/Winnipeg:20300910T130000
DTSTAMP:20260423T070411
CREATED:20260202T174816Z
LAST-MODIFIED:20260202T174816Z
UID:10014150-1915268400-1915275600@regionalconnections.ca
SUMMARY:Community Kitchen-Let's Get Cooking
DESCRIPTION:You are invited to join Many Hands and Regional Connections for a bi-weekly cooking class! Learn recipes from different cultures\, as well as how to use Canadian Foods on a fixed budget. Meet others from the community and practice your English conversation skills!
URL:https://regionalconnections.ca/event/community-kitchen-lets-get-cooking/2030-09-10/
LOCATION:Morden Alliance Church\, 181 15th St\, Morden\, Manitoba\, R6M 1G3\, Canada
ATTACH;FMTTYPE=image/png:https://regionalconnections.ca/wp-content/uploads/2026/01/Cooking-Class-.png
END:VEVENT
BEGIN:VEVENT
DTSTART;TZID=America/Winnipeg:20300924T110000
DTEND;TZID=America/Winnipeg:20300924T130000
DTSTAMP:20260423T070411
CREATED:20260130T203618Z
LAST-MODIFIED:20260202T173527Z
UID:10014090-1916478000-1916485200@regionalconnections.ca
SUMMARY:Community Kitchen-Let's Get Cooking
DESCRIPTION:You are invited to join Many Hands and Regional Connections for a bi-weekly cooking class! Learn recipes from different cultures\, as well as how to use Canadian Foods on a fixed budget. Meet others from the community and practice your English conversation skills!
URL:https://regionalconnections.ca/event/lets-get-cooking-2-3/2030-09-24/
LOCATION:Morden Alliance Church\, 181 15th St\, Morden\, Manitoba\, R6M 1G3\, Canada
ATTACH;FMTTYPE=image/png:https://regionalconnections.ca/wp-content/uploads/2026/01/Cooking-Class-.png
END:VEVENT
BEGIN:VEVENT
DTSTART;TZID=America/Winnipeg:20301008T110000
DTEND;TZID=America/Winnipeg:20301008T130000
DTSTAMP:20260423T070411
CREATED:20260202T174816Z
LAST-MODIFIED:20260202T174816Z
UID:10014151-1917687600-1917694800@regionalconnections.ca
SUMMARY:Community Kitchen-Let's Get Cooking
DESCRIPTION:You are invited to join Many Hands and Regional Connections for a bi-weekly cooking class! Learn recipes from different cultures\, as well as how to use Canadian Foods on a fixed budget. Meet others from the community and practice your English conversation skills!
URL:https://regionalconnections.ca/event/community-kitchen-lets-get-cooking/2030-10-08/
LOCATION:Morden Alliance Church\, 181 15th St\, Morden\, Manitoba\, R6M 1G3\, Canada
ATTACH;FMTTYPE=image/png:https://regionalconnections.ca/wp-content/uploads/2026/01/Cooking-Class-.png
END:VEVENT
BEGIN:VEVENT
DTSTART;TZID=America/Winnipeg:20301022T110000
DTEND;TZID=America/Winnipeg:20301022T130000
DTSTAMP:20260423T070411
CREATED:20260130T203618Z
LAST-MODIFIED:20260202T173527Z
UID:10014091-1918897200-1918904400@regionalconnections.ca
SUMMARY:Community Kitchen-Let's Get Cooking
DESCRIPTION:You are invited to join Many Hands and Regional Connections for a bi-weekly cooking class! Learn recipes from different cultures\, as well as how to use Canadian Foods on a fixed budget. Meet others from the community and practice your English conversation skills!
URL:https://regionalconnections.ca/event/lets-get-cooking-2-3/2030-10-22/
LOCATION:Morden Alliance Church\, 181 15th St\, Morden\, Manitoba\, R6M 1G3\, Canada
ATTACH;FMTTYPE=image/png:https://regionalconnections.ca/wp-content/uploads/2026/01/Cooking-Class-.png
END:VEVENT
BEGIN:VEVENT
DTSTART;TZID=America/Winnipeg:20301112T110000
DTEND;TZID=America/Winnipeg:20301112T130000
DTSTAMP:20260423T070411
CREATED:20260202T174816Z
LAST-MODIFIED:20260202T174816Z
UID:10014152-1920711600-1920718800@regionalconnections.ca
SUMMARY:Community Kitchen-Let's Get Cooking
DESCRIPTION:You are invited to join Many Hands and Regional Connections for a bi-weekly cooking class! Learn recipes from different cultures\, as well as how to use Canadian Foods on a fixed budget. Meet others from the community and practice your English conversation skills!
URL:https://regionalconnections.ca/event/community-kitchen-lets-get-cooking/2030-11-12/
LOCATION:Morden Alliance Church\, 181 15th St\, Morden\, Manitoba\, R6M 1G3\, Canada
ATTACH;FMTTYPE=image/png:https://regionalconnections.ca/wp-content/uploads/2026/01/Cooking-Class-.png
END:VEVENT
BEGIN:VEVENT
DTSTART;TZID=America/Winnipeg:20301126T110000
DTEND;TZID=America/Winnipeg:20301126T130000
DTSTAMP:20260423T070411
CREATED:20260130T203618Z
LAST-MODIFIED:20260202T173527Z
UID:10014092-1921921200-1921928400@regionalconnections.ca
SUMMARY:Community Kitchen-Let's Get Cooking
DESCRIPTION:You are invited to join Many Hands and Regional Connections for a bi-weekly cooking class! Learn recipes from different cultures\, as well as how to use Canadian Foods on a fixed budget. Meet others from the community and practice your English conversation skills!
URL:https://regionalconnections.ca/event/lets-get-cooking-2-3/2030-11-26/
LOCATION:Morden Alliance Church\, 181 15th St\, Morden\, Manitoba\, R6M 1G3\, Canada
ATTACH;FMTTYPE=image/png:https://regionalconnections.ca/wp-content/uploads/2026/01/Cooking-Class-.png
END:VEVENT
BEGIN:VEVENT
DTSTART;TZID=America/Winnipeg:20301210T110000
DTEND;TZID=America/Winnipeg:20301210T130000
DTSTAMP:20260423T070411
CREATED:20260202T174816Z
LAST-MODIFIED:20260202T174816Z
UID:10014153-1923130800-1923138000@regionalconnections.ca
SUMMARY:Community Kitchen-Let's Get Cooking
DESCRIPTION:You are invited to join Many Hands and Regional Connections for a bi-weekly cooking class! Learn recipes from different cultures\, as well as how to use Canadian Foods on a fixed budget. Meet others from the community and practice your English conversation skills!
URL:https://regionalconnections.ca/event/community-kitchen-lets-get-cooking/2030-12-10/
LOCATION:Morden Alliance Church\, 181 15th St\, Morden\, Manitoba\, R6M 1G3\, Canada
ATTACH;FMTTYPE=image/png:https://regionalconnections.ca/wp-content/uploads/2026/01/Cooking-Class-.png
END:VEVENT
BEGIN:VEVENT
DTSTART;TZID=America/Winnipeg:20301224T110000
DTEND;TZID=America/Winnipeg:20301224T130000
DTSTAMP:20260423T070411
CREATED:20260130T203618Z
LAST-MODIFIED:20260202T173527Z
UID:10014093-1924340400-1924347600@regionalconnections.ca
SUMMARY:Community Kitchen-Let's Get Cooking
DESCRIPTION:You are invited to join Many Hands and Regional Connections for a bi-weekly cooking class! Learn recipes from different cultures\, as well as how to use Canadian Foods on a fixed budget. Meet others from the community and practice your English conversation skills!
URL:https://regionalconnections.ca/event/lets-get-cooking-2-3/2030-12-24/
LOCATION:Morden Alliance Church\, 181 15th St\, Morden\, Manitoba\, R6M 1G3\, Canada
ATTACH;FMTTYPE=image/png:https://regionalconnections.ca/wp-content/uploads/2026/01/Cooking-Class-.png
END:VEVENT
BEGIN:VEVENT
DTSTART;TZID=America/Winnipeg:20310114T110000
DTEND;TZID=America/Winnipeg:20310114T130000
DTSTAMP:20260423T070411
CREATED:20260202T174816Z
LAST-MODIFIED:20260202T174816Z
UID:10014154-1926154800-1926162000@regionalconnections.ca
SUMMARY:Community Kitchen-Let's Get Cooking
DESCRIPTION:You are invited to join Many Hands and Regional Connections for a bi-weekly cooking class! Learn recipes from different cultures\, as well as how to use Canadian Foods on a fixed budget. Meet others from the community and practice your English conversation skills!
URL:https://regionalconnections.ca/event/community-kitchen-lets-get-cooking/2031-01-14/
LOCATION:Morden Alliance Church\, 181 15th St\, Morden\, Manitoba\, R6M 1G3\, Canada
ATTACH;FMTTYPE=image/png:https://regionalconnections.ca/wp-content/uploads/2026/01/Cooking-Class-.png
END:VEVENT
END:VCALENDAR