BEGIN:VCALENDAR
VERSION:2.0
PRODID:-//Regional Connections - ECPv6.15.18//NONSGML v1.0//EN
CALSCALE:GREGORIAN
METHOD:PUBLISH
X-WR-CALNAME:Regional Connections
X-ORIGINAL-URL:https://regionalconnections.ca
X-WR-CALDESC:Events for Regional Connections
REFRESH-INTERVAL;VALUE=DURATION:PT1H
X-Robots-Tag:noindex
X-PUBLISHED-TTL:PT1H
BEGIN:VTIMEZONE
TZID:America/Winnipeg
BEGIN:DAYLIGHT
TZOFFSETFROM:-0600
TZOFFSETTO:-0500
TZNAME:CDT
DTSTART:20220313T080000
END:DAYLIGHT
BEGIN:STANDARD
TZOFFSETFROM:-0500
TZOFFSETTO:-0600
TZNAME:CST
DTSTART:20221106T070000
END:STANDARD
BEGIN:DAYLIGHT
TZOFFSETFROM:-0600
TZOFFSETTO:-0500
TZNAME:CDT
DTSTART:20230312T080000
END:DAYLIGHT
BEGIN:STANDARD
TZOFFSETFROM:-0500
TZOFFSETTO:-0600
TZNAME:CST
DTSTART:20231105T070000
END:STANDARD
BEGIN:DAYLIGHT
TZOFFSETFROM:-0600
TZOFFSETTO:-0500
TZNAME:CDT
DTSTART:20240310T080000
END:DAYLIGHT
BEGIN:STANDARD
TZOFFSETFROM:-0500
TZOFFSETTO:-0600
TZNAME:CST
DTSTART:20241103T070000
END:STANDARD
END:VTIMEZONE
BEGIN:VEVENT
DTSTART;TZID=America/Winnipeg:20231107T190000
DTEND;TZID=America/Winnipeg:20231107T200000
DTSTAMP:20260424T062102
CREATED:20231006T155224Z
LAST-MODIFIED:20231031T195747Z
UID:10009022-1699383600-1699387200@regionalconnections.ca
SUMMARY:Morden - School Report Card Info Session
DESCRIPTION:Join us on Nov. 7th at Morden Collegiate for an information session on Report Cards. \nFAQ: What are they? Why are they important? How do I access my child’s report card? Who do I talk to about my child’s grade?
URL:https://regionalconnections.ca/event/morden-report-card-information-session/
LOCATION:Morden Collegiate\, 345 5th Street\, Morden\, Manitoba\, R6M 1Z1\, Canada
ATTACH;FMTTYPE=image/png:https://regionalconnections.ca/wp-content/uploads/2023/10/RCIS-1107-Post.png
END:VEVENT
END:VCALENDAR