BEGIN:VCALENDAR
VERSION:2.0
PRODID:-//Regional Connections - ECPv6.15.18//NONSGML v1.0//EN
CALSCALE:GREGORIAN
METHOD:PUBLISH
X-ORIGINAL-URL:https://regionalconnections.ca
X-WR-CALDESC:Events for Regional Connections
REFRESH-INTERVAL;VALUE=DURATION:PT1H
X-Robots-Tag:noindex
X-PUBLISHED-TTL:PT1H
BEGIN:VTIMEZONE
TZID:America/Winnipeg
BEGIN:DAYLIGHT
TZOFFSETFROM:-0600
TZOFFSETTO:-0500
TZNAME:CDT
DTSTART:20210314T080000
END:DAYLIGHT
BEGIN:STANDARD
TZOFFSETFROM:-0500
TZOFFSETTO:-0600
TZNAME:CST
DTSTART:20211107T070000
END:STANDARD
BEGIN:DAYLIGHT
TZOFFSETFROM:-0600
TZOFFSETTO:-0500
TZNAME:CDT
DTSTART:20220313T080000
END:DAYLIGHT
BEGIN:STANDARD
TZOFFSETFROM:-0500
TZOFFSETTO:-0600
TZNAME:CST
DTSTART:20221106T070000
END:STANDARD
BEGIN:DAYLIGHT
TZOFFSETFROM:-0600
TZOFFSETTO:-0500
TZNAME:CDT
DTSTART:20230312T080000
END:DAYLIGHT
BEGIN:STANDARD
TZOFFSETFROM:-0500
TZOFFSETTO:-0600
TZNAME:CST
DTSTART:20231105T070000
END:STANDARD
BEGIN:DAYLIGHT
TZOFFSETFROM:-0600
TZOFFSETTO:-0500
TZNAME:CDT
DTSTART:20240310T080000
END:DAYLIGHT
BEGIN:STANDARD
TZOFFSETFROM:-0500
TZOFFSETTO:-0600
TZNAME:CST
DTSTART:20241103T070000
END:STANDARD
END:VTIMEZONE
BEGIN:VEVENT
DTSTART;TZID=America/Winnipeg:20231123T180000
DTEND;TZID=America/Winnipeg:20231123T200000
DTSTAMP:20260422T005138
CREATED:20231020T174205Z
LAST-MODIFIED:20231026T160435Z
UID:10009026-1700762400-1700769600@regionalconnections.ca
SUMMARY:Morris - Pickleball
DESCRIPTION:Join us for a fun evening of Pickle Ball. This is a great chance to try a new sport and meet other people.
URL:https://regionalconnections.ca/event/morris-pickleball/
LOCATION:Morris Multiplex\, 380 Stampede Grounds\, Morris\, Manitoba\, Canada
ATTACH;FMTTYPE=image/png:https://regionalconnections.ca/wp-content/uploads/2023/10/Navy-and-Yellow-Minimalist-Pickleball-Tournamnet-Flyer-1.png
END:VEVENT
BEGIN:VEVENT
DTSTART;TZID=America/Winnipeg:20230125T090000
DTEND;TZID=America/Winnipeg:20230125T160000
DTSTAMP:20260422T005138
CREATED:20221213T201620Z
LAST-MODIFIED:20221220T160407Z
UID:10007996-1674637200-1674662400@regionalconnections.ca
SUMMARY:Morris - Temporary Foreign Workers
DESCRIPTION:Have questions about life in Canada and reside in the Morris area? If you need assistance\, come see us! Settlement and Referral services available\, all free of charge!
URL:https://regionalconnections.ca/event/morris-temporary-foreign-worker-info-session/2023-01-25/
LOCATION:Morris Multiplex\, 380 Stampede Grounds\, Morris\, Manitoba\, Canada
ATTACH;FMTTYPE=image/png:https://regionalconnections.ca/wp-content/uploads/2022/12/TFW-Morris.png
END:VEVENT
BEGIN:VEVENT
DTSTART;TZID=America/Winnipeg:20230111T090000
DTEND;TZID=America/Winnipeg:20230111T160000
DTSTAMP:20260422T005138
CREATED:20221213T201620Z
LAST-MODIFIED:20221220T160407Z
UID:10007995-1673427600-1673452800@regionalconnections.ca
SUMMARY:Morris - Temporary Foreign Workers
DESCRIPTION:Have questions about life in Canada and reside in the Morris area? If you need assistance\, come see us! Settlement and Referral services available\, all free of charge!
URL:https://regionalconnections.ca/event/morris-temporary-foreign-worker-info-session/2023-01-11/
LOCATION:Morris Multiplex\, 380 Stampede Grounds\, Morris\, Manitoba\, Canada
ATTACH;FMTTYPE=image/png:https://regionalconnections.ca/wp-content/uploads/2022/12/TFW-Morris.png
END:VEVENT
BEGIN:VEVENT
DTSTART;TZID=America/Winnipeg:20221221T090000
DTEND;TZID=America/Winnipeg:20221221T160000
DTSTAMP:20260422T005138
CREATED:20221213T201620Z
LAST-MODIFIED:20221220T160407Z
UID:10007994-1671613200-1671638400@regionalconnections.ca
SUMMARY:Morris - Temporary Foreign Workers
DESCRIPTION:Have questions about life in Canada and reside in the Morris area? If you need assistance\, come see us! Settlement and Referral services available\, all free of charge!
URL:https://regionalconnections.ca/event/morris-temporary-foreign-worker-info-session/2022-12-21/
LOCATION:Morris Multiplex\, 380 Stampede Grounds\, Morris\, Manitoba\, Canada
ATTACH;FMTTYPE=image/png:https://regionalconnections.ca/wp-content/uploads/2022/12/TFW-Morris.png
END:VEVENT
END:VCALENDAR