BEGIN:VCALENDAR
VERSION:2.0
PRODID:-//Regional Connections - ECPv6.15.18//NONSGML v1.0//EN
CALSCALE:GREGORIAN
METHOD:PUBLISH
X-WR-CALNAME:Regional Connections
X-ORIGINAL-URL:https://regionalconnections.ca
X-WR-CALDESC:Events for Regional Connections
REFRESH-INTERVAL;VALUE=DURATION:PT1H
X-Robots-Tag:noindex
X-PUBLISHED-TTL:PT1H
BEGIN:VTIMEZONE
TZID:America/Winnipeg
BEGIN:DAYLIGHT
TZOFFSETFROM:-0600
TZOFFSETTO:-0500
TZNAME:CDT
DTSTART:20240310T080000
END:DAYLIGHT
BEGIN:STANDARD
TZOFFSETFROM:-0500
TZOFFSETTO:-0600
TZNAME:CST
DTSTART:20241103T070000
END:STANDARD
BEGIN:DAYLIGHT
TZOFFSETFROM:-0600
TZOFFSETTO:-0500
TZNAME:CDT
DTSTART:20250309T080000
END:DAYLIGHT
BEGIN:STANDARD
TZOFFSETFROM:-0500
TZOFFSETTO:-0600
TZNAME:CST
DTSTART:20251102T070000
END:STANDARD
BEGIN:DAYLIGHT
TZOFFSETFROM:-0600
TZOFFSETTO:-0500
TZNAME:CDT
DTSTART:20260308T080000
END:DAYLIGHT
BEGIN:STANDARD
TZOFFSETFROM:-0500
TZOFFSETTO:-0600
TZNAME:CST
DTSTART:20261101T070000
END:STANDARD
BEGIN:DAYLIGHT
TZOFFSETFROM:-0600
TZOFFSETTO:-0500
TZNAME:CDT
DTSTART:20270314T080000
END:DAYLIGHT
BEGIN:STANDARD
TZOFFSETFROM:-0500
TZOFFSETTO:-0600
TZNAME:CST
DTSTART:20271107T070000
END:STANDARD
END:VTIMEZONE
BEGIN:VEVENT
DTSTART;TZID=America/Winnipeg:20260212T090000
DTEND;TZID=America/Winnipeg:20260212T120000
DTSTAMP:20260423T035506
CREATED:20260122T180220Z
LAST-MODIFIED:20260122T180336Z
UID:10013987-1770886800-1770897600@regionalconnections.ca
SUMMARY:Canadian Communication For International Professionals (Online) (6 sessions x 3 hours)
DESCRIPTION:Register: \n\n204 822 4387\nrcemployment@regionalconnections.ca\nhttps://us10.list-manage.com/survey?u=be01328ebfdc1edeeb6f0116b&id=770836e8ef&attribution=false
URL:https://regionalconnections.ca/event/canadian-communication-for-international-professionals-online-6-sessions-x-3-hours/2026-02-12/
LOCATION:Online\, 2-295 Perry St\, Winkler\, Manitoba\, R6W 0K9\, Canada
ATTACH;FMTTYPE=image/jpeg:https://regionalconnections.ca/wp-content/uploads/2026/01/A2.jpg
END:VEVENT
BEGIN:VEVENT
DTSTART;TZID=America/Winnipeg:20260211T090000
DTEND;TZID=America/Winnipeg:20260211T120000
DTSTAMP:20260423T035506
CREATED:20260122T180220Z
LAST-MODIFIED:20260122T180336Z
UID:10013986-1770800400-1770811200@regionalconnections.ca
SUMMARY:Canadian Communication For International Professionals (Online) (6 sessions x 3 hours)
DESCRIPTION:Register: \n\n204 822 4387\nrcemployment@regionalconnections.ca\nhttps://us10.list-manage.com/survey?u=be01328ebfdc1edeeb6f0116b&id=770836e8ef&attribution=false
URL:https://regionalconnections.ca/event/canadian-communication-for-international-professionals-online-6-sessions-x-3-hours/2026-02-11/
LOCATION:Online\, 2-295 Perry St\, Winkler\, Manitoba\, R6W 0K9\, Canada
ATTACH;FMTTYPE=image/jpeg:https://regionalconnections.ca/wp-content/uploads/2026/01/A2.jpg
END:VEVENT
BEGIN:VEVENT
DTSTART;TZID=America/Winnipeg:20260210T090000
DTEND;TZID=America/Winnipeg:20260210T120000
DTSTAMP:20260423T035506
CREATED:20260122T180220Z
LAST-MODIFIED:20260122T180336Z
UID:10013985-1770714000-1770724800@regionalconnections.ca
SUMMARY:Canadian Communication For International Professionals (Online) (6 sessions x 3 hours)
DESCRIPTION:Register: \n\n204 822 4387\nrcemployment@regionalconnections.ca\nhttps://us10.list-manage.com/survey?u=be01328ebfdc1edeeb6f0116b&id=770836e8ef&attribution=false
URL:https://regionalconnections.ca/event/canadian-communication-for-international-professionals-online-6-sessions-x-3-hours/2026-02-10/
LOCATION:Online\, 2-295 Perry St\, Winkler\, Manitoba\, R6W 0K9\, Canada
ATTACH;FMTTYPE=image/jpeg:https://regionalconnections.ca/wp-content/uploads/2026/01/A2.jpg
END:VEVENT
BEGIN:VEVENT
DTSTART;TZID=America/Winnipeg:20260209T090000
DTEND;TZID=America/Winnipeg:20260209T120000
DTSTAMP:20260423T035506
CREATED:20260122T180220Z
LAST-MODIFIED:20260122T180336Z
UID:10013984-1770627600-1770638400@regionalconnections.ca
SUMMARY:Canadian Communication For International Professionals (Online) (6 sessions x 3 hours)
DESCRIPTION:Register: \n\n204 822 4387\nrcemployment@regionalconnections.ca\nhttps://us10.list-manage.com/survey?u=be01328ebfdc1edeeb6f0116b&id=770836e8ef&attribution=false
URL:https://regionalconnections.ca/event/canadian-communication-for-international-professionals-online-6-sessions-x-3-hours/2026-02-09/
LOCATION:Online\, 2-295 Perry St\, Winkler\, Manitoba\, R6W 0K9\, Canada
ATTACH;FMTTYPE=image/jpeg:https://regionalconnections.ca/wp-content/uploads/2026/01/A2.jpg
END:VEVENT
BEGIN:VEVENT
DTSTART;TZID=America/Winnipeg:20260206T090000
DTEND;TZID=America/Winnipeg:20260206T120000
DTSTAMP:20260423T035506
CREATED:20260122T180220Z
LAST-MODIFIED:20260122T180336Z
UID:10013983-1770368400-1770379200@regionalconnections.ca
SUMMARY:Canadian Communication For International Professionals (Online) (6 sessions x 3 hours)
DESCRIPTION:Register: \n\n204 822 4387\nrcemployment@regionalconnections.ca\nhttps://us10.list-manage.com/survey?u=be01328ebfdc1edeeb6f0116b&id=770836e8ef&attribution=false
URL:https://regionalconnections.ca/event/canadian-communication-for-international-professionals-online-6-sessions-x-3-hours/2026-02-06/
LOCATION:Online\, 2-295 Perry St\, Winkler\, Manitoba\, R6W 0K9\, Canada
ATTACH;FMTTYPE=image/jpeg:https://regionalconnections.ca/wp-content/uploads/2026/01/A2.jpg
END:VEVENT
BEGIN:VEVENT
DTSTART;TZID=America/Winnipeg:20260205T090000
DTEND;TZID=America/Winnipeg:20260205T120000
DTSTAMP:20260423T035506
CREATED:20260122T180220Z
LAST-MODIFIED:20260122T180336Z
UID:10013982-1770282000-1770292800@regionalconnections.ca
SUMMARY:Canadian Communication For International Professionals (Online) (6 sessions x 3 hours)
DESCRIPTION:Register: \n\n204 822 4387\nrcemployment@regionalconnections.ca\nhttps://us10.list-manage.com/survey?u=be01328ebfdc1edeeb6f0116b&id=770836e8ef&attribution=false
URL:https://regionalconnections.ca/event/canadian-communication-for-international-professionals-online-6-sessions-x-3-hours/2026-02-05/
LOCATION:Online\, 2-295 Perry St\, Winkler\, Manitoba\, R6W 0K9\, Canada
ATTACH;FMTTYPE=image/jpeg:https://regionalconnections.ca/wp-content/uploads/2026/01/A2.jpg
END:VEVENT
BEGIN:VEVENT
DTSTART;TZID=America/Winnipeg:20251211T090000
DTEND;TZID=America/Winnipeg:20251211T120000
DTSTAMP:20260423T035506
CREATED:20251204T203707Z
LAST-MODIFIED:20251204T203707Z
UID:10010499-1765443600-1765454400@regionalconnections.ca
SUMMARY:Workshop: Success Strategies for International Professionals
DESCRIPTION:Success Strategies for International Professionals (6 sessions x 3 hours) \nWorking Well in Canada\nUnderstanding Canadian Workplace Culture\nClient Relations & Business Etiquette\nNetworking\, Small-talk\, & Relationship Building\nRefine Your Communication \nREGISTER\ncall: 204 822 4387\nemail: rcemployment@regionalconnections.ca\nonline: https://us10.list-manage.com/survey?u=be01328ebfdc1edeeb6f0116b&id=d8521074de&attribution=false
URL:https://regionalconnections.ca/event/workshop-success-strategies-for-international-professionals/2025-12-11/
LOCATION:Online\, 2-295 Perry St\, Winkler\, Manitoba\, R6W 0K9\, Canada
ATTACH;FMTTYPE=image/jpeg:https://regionalconnections.ca/wp-content/uploads/2025/12/cs.jpg
END:VEVENT
BEGIN:VEVENT
DTSTART;TZID=America/Winnipeg:20251210T090000
DTEND;TZID=America/Winnipeg:20251210T120000
DTSTAMP:20260423T035506
CREATED:20251204T203707Z
LAST-MODIFIED:20251204T203707Z
UID:10010498-1765357200-1765368000@regionalconnections.ca
SUMMARY:Workshop: Success Strategies for International Professionals
DESCRIPTION:Success Strategies for International Professionals (6 sessions x 3 hours) \nWorking Well in Canada\nUnderstanding Canadian Workplace Culture\nClient Relations & Business Etiquette\nNetworking\, Small-talk\, & Relationship Building\nRefine Your Communication \nREGISTER\ncall: 204 822 4387\nemail: rcemployment@regionalconnections.ca\nonline: https://us10.list-manage.com/survey?u=be01328ebfdc1edeeb6f0116b&id=d8521074de&attribution=false
URL:https://regionalconnections.ca/event/workshop-success-strategies-for-international-professionals/2025-12-10/
LOCATION:Online\, 2-295 Perry St\, Winkler\, Manitoba\, R6W 0K9\, Canada
ATTACH;FMTTYPE=image/jpeg:https://regionalconnections.ca/wp-content/uploads/2025/12/cs.jpg
END:VEVENT
BEGIN:VEVENT
DTSTART;TZID=America/Winnipeg:20251209T090000
DTEND;TZID=America/Winnipeg:20251209T120000
DTSTAMP:20260423T035506
CREATED:20251204T203707Z
LAST-MODIFIED:20251204T203707Z
UID:10010497-1765270800-1765281600@regionalconnections.ca
SUMMARY:Workshop: Success Strategies for International Professionals
DESCRIPTION:Success Strategies for International Professionals (6 sessions x 3 hours) \nWorking Well in Canada\nUnderstanding Canadian Workplace Culture\nClient Relations & Business Etiquette\nNetworking\, Small-talk\, & Relationship Building\nRefine Your Communication \nREGISTER\ncall: 204 822 4387\nemail: rcemployment@regionalconnections.ca\nonline: https://us10.list-manage.com/survey?u=be01328ebfdc1edeeb6f0116b&id=d8521074de&attribution=false
URL:https://regionalconnections.ca/event/workshop-success-strategies-for-international-professionals/2025-12-09/
LOCATION:Online\, 2-295 Perry St\, Winkler\, Manitoba\, R6W 0K9\, Canada
ATTACH;FMTTYPE=image/jpeg:https://regionalconnections.ca/wp-content/uploads/2025/12/cs.jpg
END:VEVENT
BEGIN:VEVENT
DTSTART;TZID=America/Winnipeg:20251208T090000
DTEND;TZID=America/Winnipeg:20251208T120000
DTSTAMP:20260423T035506
CREATED:20251204T203707Z
LAST-MODIFIED:20251204T203707Z
UID:10010496-1765184400-1765195200@regionalconnections.ca
SUMMARY:Workshop: Success Strategies for International Professionals
DESCRIPTION:Success Strategies for International Professionals (6 sessions x 3 hours) \nWorking Well in Canada\nUnderstanding Canadian Workplace Culture\nClient Relations & Business Etiquette\nNetworking\, Small-talk\, & Relationship Building\nRefine Your Communication \nREGISTER\ncall: 204 822 4387\nemail: rcemployment@regionalconnections.ca\nonline: https://us10.list-manage.com/survey?u=be01328ebfdc1edeeb6f0116b&id=d8521074de&attribution=false
URL:https://regionalconnections.ca/event/workshop-success-strategies-for-international-professionals/2025-12-08/
LOCATION:Online\, 2-295 Perry St\, Winkler\, Manitoba\, R6W 0K9\, Canada
ATTACH;FMTTYPE=image/jpeg:https://regionalconnections.ca/wp-content/uploads/2025/12/cs.jpg
END:VEVENT
BEGIN:VEVENT
DTSTART;TZID=America/Winnipeg:20251205T090000
DTEND;TZID=America/Winnipeg:20251205T120000
DTSTAMP:20260423T035506
CREATED:20251204T203707Z
LAST-MODIFIED:20251204T203707Z
UID:10010495-1764925200-1764936000@regionalconnections.ca
SUMMARY:Workshop: Success Strategies for International Professionals
DESCRIPTION:Success Strategies for International Professionals (6 sessions x 3 hours) \nWorking Well in Canada\nUnderstanding Canadian Workplace Culture\nClient Relations & Business Etiquette\nNetworking\, Small-talk\, & Relationship Building\nRefine Your Communication \nREGISTER\ncall: 204 822 4387\nemail: rcemployment@regionalconnections.ca\nonline: https://us10.list-manage.com/survey?u=be01328ebfdc1edeeb6f0116b&id=d8521074de&attribution=false
URL:https://regionalconnections.ca/event/workshop-success-strategies-for-international-professionals/2025-12-05/
LOCATION:Online\, 2-295 Perry St\, Winkler\, Manitoba\, R6W 0K9\, Canada
ATTACH;FMTTYPE=image/jpeg:https://regionalconnections.ca/wp-content/uploads/2025/12/cs.jpg
END:VEVENT
BEGIN:VEVENT
DTSTART;TZID=America/Winnipeg:20251204T090000
DTEND;TZID=America/Winnipeg:20251204T120000
DTSTAMP:20260423T035506
CREATED:20251204T203707Z
LAST-MODIFIED:20251204T203707Z
UID:10010494-1764838800-1764849600@regionalconnections.ca
SUMMARY:Workshop: Success Strategies for International Professionals
DESCRIPTION:Success Strategies for International Professionals (6 sessions x 3 hours) \nWorking Well in Canada\nUnderstanding Canadian Workplace Culture\nClient Relations & Business Etiquette\nNetworking\, Small-talk\, & Relationship Building\nRefine Your Communication \nREGISTER\ncall: 204 822 4387\nemail: rcemployment@regionalconnections.ca\nonline: https://us10.list-manage.com/survey?u=be01328ebfdc1edeeb6f0116b&id=d8521074de&attribution=false
URL:https://regionalconnections.ca/event/workshop-success-strategies-for-international-professionals/2025-12-04/
LOCATION:Online\, 2-295 Perry St\, Winkler\, Manitoba\, R6W 0K9\, Canada
ATTACH;FMTTYPE=image/jpeg:https://regionalconnections.ca/wp-content/uploads/2025/12/cs.jpg
END:VEVENT
BEGIN:VEVENT
DTSTART;TZID=America/Winnipeg:20250828T133000
DTEND;TZID=America/Winnipeg:20250828T150000
DTSTAMP:20260423T035506
CREATED:20250723T182537Z
LAST-MODIFIED:20250723T182724Z
UID:10010478-1756387800-1756393200@regionalconnections.ca
SUMMARY:RBC: Careers & Financial Literacy
DESCRIPTION:Ways to register: \n\ncall: 204 325 4059\nemail: rcemployment@regionalconnections.ca:\ncomplete the online form: https://us10.list-manage.com/survey?u=be01328ebfdc1edeeb6f0116b&id=7ceeee2d2b&attribution=false
URL:https://regionalconnections.ca/event/rbc-careers-financial-literacy/
LOCATION:Online\, 2-295 Perry St\, Winkler\, Manitoba\, R6W 0K9\, Canada
END:VEVENT
BEGIN:VEVENT
DTSTART;TZID=America/Winnipeg:20250815T093000
DTEND;TZID=America/Winnipeg:20250815T153000
DTSTAMP:20260423T035506
CREATED:20250808T172550Z
LAST-MODIFIED:20250808T172857Z
UID:10010488-1755250200-1755271800@regionalconnections.ca
SUMMARY:CRA: Support Clinic
DESCRIPTION:Services Provided: \n\nCanada Child Benefit status checks\nResolving issues with locked CRA accounts\nAddressing other tax-related concerns
URL:https://regionalconnections.ca/event/cra-support-clinic-5/
LOCATION:Online\, 2-295 Perry St\, Winkler\, Manitoba\, R6W 0K9\, Canada
ATTACH;FMTTYPE=image/png:https://regionalconnections.ca/wp-content/uploads/2025/08/Altona-Tax-Clinic-Aug-15-2025.png
END:VEVENT
BEGIN:VEVENT
DTSTART;TZID=America/Winnipeg:20250812T130000
DTEND;TZID=America/Winnipeg:20250812T143000
DTSTAMP:20260423T035506
CREATED:20250723T182856Z
LAST-MODIFIED:20250723T182856Z
UID:10010479-1755003600-1755009000@regionalconnections.ca
SUMMARY:Employment Law: Your Right to a Safe and Respectful Workplace
DESCRIPTION:Ways to register: \n\ncall: 204 325 4059\nemail: rcemployment@regionalconnections.ca:\ncomplete the online form: https://us10.list-manage.com/survey?u=be01328ebfdc1edeeb6f0116b&id=7ceeee2d2b&attribution=false
URL:https://regionalconnections.ca/event/employment-law-your-right-to-a-safe-and-respectful-workplace/
LOCATION:Online\, 2-295 Perry St\, Winkler\, Manitoba\, R6W 0K9\, Canada
ATTACH;FMTTYPE=image/jpeg:https://regionalconnections.ca/wp-content/uploads/2025/07/A3.jpg
END:VEVENT
BEGIN:VEVENT
DTSTART;TZID=America/Winnipeg:20250708T130000
DTEND;TZID=America/Winnipeg:20250708T140000
DTSTAMP:20260423T035506
CREATED:20250624T172152Z
LAST-MODIFIED:20250624T172152Z
UID:10010048-1751979600-1751983200@regionalconnections.ca
SUMMARY:EXPLORE CAREERS IN AVIATION
DESCRIPTION:EXPLORE CAREERS IN AVIATION \nMANITOBA AVIATION COUNCIL \nJULY 8 (TUESDAY) FROM 1:00 TO 2:00 PM \nONLINE \n*** \nRegister: \nOnline: https://us10.list-manage.com/survey?u=be01328ebfdc1edeeb6f0116b&id=776e8f9778&attribution=false \nEmail: rcemployment@regionalconnections.ca \nCall: 204 325 4059
URL:https://regionalconnections.ca/event/explore-careers-in-aviation/
LOCATION:Online\, 2-295 Perry St\, Winkler\, Manitoba\, R6W 0K9\, Canada
ATTACH;FMTTYPE=image/jpeg:https://regionalconnections.ca/wp-content/uploads/2025/06/cs-2.jpg
END:VEVENT
BEGIN:VEVENT
DTSTART;TZID=America/Winnipeg:20250702T133000
DTEND;TZID=America/Winnipeg:20250702T150000
DTSTAMP:20260423T035506
CREATED:20250624T171942Z
LAST-MODIFIED:20250624T171942Z
UID:10010047-1751463000-1751468400@regionalconnections.ca
SUMMARY:EXPLORE CAREERS IN LAW ENFORCEMENT
DESCRIPTION:EXPLORE CAREERS IN LAW ENFORCEMENT \nROYAL CANADIAN MOUNTED POLICE (RCMP) \nJULY 2 (WEDNESDAY) FROM 1:30 TO 3:00 PM \nONLINE \n*** \nRegister: \nOnline: https://us10.list-manage.com/survey?u=be01328ebfdc1edeeb6f0116b&id=776e8f9778&attribution=false \nEmail: rcemployment@regionalconnections.ca \nCall: 204 325 4059
URL:https://regionalconnections.ca/event/explore-careers-in-law-enforcement/
LOCATION:Online\, 2-295 Perry St\, Winkler\, Manitoba\, R6W 0K9\, Canada
ATTACH;FMTTYPE=image/jpeg:https://regionalconnections.ca/wp-content/uploads/2025/06/cs-2.jpg
END:VEVENT
BEGIN:VEVENT
DTSTART;TZID=America/Winnipeg:20250619T133000
DTEND;TZID=America/Winnipeg:20250619T150000
DTSTAMP:20260423T035506
CREATED:20250603T152555Z
LAST-MODIFIED:20250604T134959Z
UID:10010036-1750339800-1750345200@regionalconnections.ca
SUMMARY:RBC: Careers & Financial Literacy (Information Session)
DESCRIPTION:Register: https://us10.list-manage.com/survey?u=be01328ebfdc1edeeb6f0116b&id=61fc193de3&attribution=false
URL:https://regionalconnections.ca/event/rbc-careers-financial-literacy-information-session/
LOCATION:Online\, 2-295 Perry St\, Winkler\, Manitoba\, R6W 0K9\, Canada
ATTACH;FMTTYPE=image/jpeg:https://regionalconnections.ca/wp-content/uploads/2025/06/J3.jpg
END:VEVENT
BEGIN:VEVENT
DTSTART;TZID=America/Winnipeg:20250610T130000
DTEND;TZID=America/Winnipeg:20250610T140000
DTSTAMP:20260423T035506
CREATED:20250603T152350Z
LAST-MODIFIED:20250604T134926Z
UID:10010035-1749560400-1749564000@regionalconnections.ca
SUMMARY:MITT - Network & Systems Administration Diploma (Information Session)
DESCRIPTION:Register: https://us10.list-manage.com/survey?u=be01328ebfdc1edeeb6f0116b&id=61fc193de3&attribution=false
URL:https://regionalconnections.ca/event/mitt-network-systems-administration-diploma-information-session/
LOCATION:Online\, 2-295 Perry St\, Winkler\, Manitoba\, R6W 0K9\, Canada
ATTACH;FMTTYPE=image/jpeg:https://regionalconnections.ca/wp-content/uploads/2025/06/J2.jpg
END:VEVENT
BEGIN:VEVENT
DTSTART;TZID=America/Winnipeg:20250326T163000
DTEND;TZID=America/Winnipeg:20250326T173000
DTSTAMP:20260423T035506
CREATED:20230118T222418Z
LAST-MODIFIED:20241216T160606Z
UID:10008261-1743006600-1743010200@regionalconnections.ca
SUMMARY:Online - Conversation Group
DESCRIPTION:Would you like to meet new people and learn from community members? Join our weekly conversation group on Microsoft Teams!
URL:https://regionalconnections.ca/event/online-conversation-group-6/2025-03-26/
LOCATION:Online\, 2-295 Perry St\, Winkler\, Manitoba\, R6W 0K9\, Canada
ATTACH;FMTTYPE=image/png:https://regionalconnections.ca/wp-content/uploads/2023/01/Online-Conversation-Group-4.png
END:VEVENT
BEGIN:VEVENT
DTSTART;TZID=America/Winnipeg:20250319T163000
DTEND;TZID=America/Winnipeg:20250319T173000
DTSTAMP:20260423T035506
CREATED:20230118T222418Z
LAST-MODIFIED:20241216T160606Z
UID:10008260-1742401800-1742405400@regionalconnections.ca
SUMMARY:Online - Conversation Group
DESCRIPTION:Would you like to meet new people and learn from community members? Join our weekly conversation group on Microsoft Teams!
URL:https://regionalconnections.ca/event/online-conversation-group-6/2025-03-19/
LOCATION:Online\, 2-295 Perry St\, Winkler\, Manitoba\, R6W 0K9\, Canada
ATTACH;FMTTYPE=image/png:https://regionalconnections.ca/wp-content/uploads/2023/01/Online-Conversation-Group-4.png
END:VEVENT
BEGIN:VEVENT
DTSTART;TZID=America/Winnipeg:20250317T180000
DTEND;TZID=America/Winnipeg:20250317T203000
DTSTAMP:20260423T035506
CREATED:20250210T185032Z
LAST-MODIFIED:20250210T185032Z
UID:10009431-1742234400-1742243400@regionalconnections.ca
SUMMARY:Navigating a Diverse Workplace: Canadian Schools
DESCRIPTION:This is a 10-hour program tailored for internationally-educated teachers and aspiring educators\, helping participants enhance their intercultural and communication skills to thrive in the Canadian workplace. \n4 online sessions from 6 pm to 8:30 pm \n\nFebruary 24\, 2025 (MONDAY)\nMarch 3\, 2025 (MONDAY)\nMarch 10\, 2025 (MONDAY)\nMarch 17\, 2025 (MONDAY)\n\nRegister: https://us10.list-manage.com/survey?u=be01328ebfdc1edeeb6f0116b&id=f3dd6b9b42&attribution=false \n 
URL:https://regionalconnections.ca/event/navigating-a-diverse-workplace-canadian-schools/2025-03-17/
LOCATION:Online\, 2-295 Perry St\, Winkler\, Manitoba\, R6W 0K9\, Canada
END:VEVENT
BEGIN:VEVENT
DTSTART;TZID=America/Winnipeg:20250312T163000
DTEND;TZID=America/Winnipeg:20250312T173000
DTSTAMP:20260423T035506
CREATED:20230118T222418Z
LAST-MODIFIED:20241216T160606Z
UID:10008259-1741797000-1741800600@regionalconnections.ca
SUMMARY:Online - Conversation Group
DESCRIPTION:Would you like to meet new people and learn from community members? Join our weekly conversation group on Microsoft Teams!
URL:https://regionalconnections.ca/event/online-conversation-group-6/2025-03-12/
LOCATION:Online\, 2-295 Perry St\, Winkler\, Manitoba\, R6W 0K9\, Canada
ATTACH;FMTTYPE=image/png:https://regionalconnections.ca/wp-content/uploads/2023/01/Online-Conversation-Group-4.png
END:VEVENT
BEGIN:VEVENT
DTSTART;TZID=America/Winnipeg:20250310T180000
DTEND;TZID=America/Winnipeg:20250310T203000
DTSTAMP:20260423T035506
CREATED:20250210T185032Z
LAST-MODIFIED:20250210T185032Z
UID:10009430-1741629600-1741638600@regionalconnections.ca
SUMMARY:Navigating a Diverse Workplace: Canadian Schools
DESCRIPTION:This is a 10-hour program tailored for internationally-educated teachers and aspiring educators\, helping participants enhance their intercultural and communication skills to thrive in the Canadian workplace. \n4 online sessions from 6 pm to 8:30 pm \n\nFebruary 24\, 2025 (MONDAY)\nMarch 3\, 2025 (MONDAY)\nMarch 10\, 2025 (MONDAY)\nMarch 17\, 2025 (MONDAY)\n\nRegister: https://us10.list-manage.com/survey?u=be01328ebfdc1edeeb6f0116b&id=f3dd6b9b42&attribution=false \n 
URL:https://regionalconnections.ca/event/navigating-a-diverse-workplace-canadian-schools/2025-03-10/
LOCATION:Online\, 2-295 Perry St\, Winkler\, Manitoba\, R6W 0K9\, Canada
END:VEVENT
BEGIN:VEVENT
DTSTART;TZID=America/Winnipeg:20250305T163000
DTEND;TZID=America/Winnipeg:20250305T173000
DTSTAMP:20260423T035506
CREATED:20230118T222418Z
LAST-MODIFIED:20241216T160606Z
UID:10008258-1741192200-1741195800@regionalconnections.ca
SUMMARY:Online - Conversation Group
DESCRIPTION:Would you like to meet new people and learn from community members? Join our weekly conversation group on Microsoft Teams!
URL:https://regionalconnections.ca/event/online-conversation-group-6/2025-03-05/
LOCATION:Online\, 2-295 Perry St\, Winkler\, Manitoba\, R6W 0K9\, Canada
ATTACH;FMTTYPE=image/png:https://regionalconnections.ca/wp-content/uploads/2023/01/Online-Conversation-Group-4.png
END:VEVENT
BEGIN:VEVENT
DTSTART;TZID=America/Winnipeg:20250303T180000
DTEND;TZID=America/Winnipeg:20250303T203000
DTSTAMP:20260423T035507
CREATED:20250210T185032Z
LAST-MODIFIED:20250210T185032Z
UID:10009429-1741024800-1741033800@regionalconnections.ca
SUMMARY:Navigating a Diverse Workplace: Canadian Schools
DESCRIPTION:This is a 10-hour program tailored for internationally-educated teachers and aspiring educators\, helping participants enhance their intercultural and communication skills to thrive in the Canadian workplace. \n4 online sessions from 6 pm to 8:30 pm \n\nFebruary 24\, 2025 (MONDAY)\nMarch 3\, 2025 (MONDAY)\nMarch 10\, 2025 (MONDAY)\nMarch 17\, 2025 (MONDAY)\n\nRegister: https://us10.list-manage.com/survey?u=be01328ebfdc1edeeb6f0116b&id=f3dd6b9b42&attribution=false \n 
URL:https://regionalconnections.ca/event/navigating-a-diverse-workplace-canadian-schools/2025-03-03/
LOCATION:Online\, 2-295 Perry St\, Winkler\, Manitoba\, R6W 0K9\, Canada
END:VEVENT
BEGIN:VEVENT
DTSTART;TZID=America/Winnipeg:20250226T163000
DTEND;TZID=America/Winnipeg:20250226T173000
DTSTAMP:20260423T035507
CREATED:20230118T222418Z
LAST-MODIFIED:20241216T160606Z
UID:10008257-1740587400-1740591000@regionalconnections.ca
SUMMARY:Online - Conversation Group
DESCRIPTION:Would you like to meet new people and learn from community members? Join our weekly conversation group on Microsoft Teams!
URL:https://regionalconnections.ca/event/online-conversation-group-6/2025-02-26/
LOCATION:Online\, 2-295 Perry St\, Winkler\, Manitoba\, R6W 0K9\, Canada
ATTACH;FMTTYPE=image/png:https://regionalconnections.ca/wp-content/uploads/2023/01/Online-Conversation-Group-4.png
END:VEVENT
BEGIN:VEVENT
DTSTART;TZID=America/Winnipeg:20250224T180000
DTEND;TZID=America/Winnipeg:20250224T203000
DTSTAMP:20260423T035507
CREATED:20250210T185032Z
LAST-MODIFIED:20250210T185032Z
UID:10009428-1740420000-1740429000@regionalconnections.ca
SUMMARY:Navigating a Diverse Workplace: Canadian Schools
DESCRIPTION:This is a 10-hour program tailored for internationally-educated teachers and aspiring educators\, helping participants enhance their intercultural and communication skills to thrive in the Canadian workplace. \n4 online sessions from 6 pm to 8:30 pm \n\nFebruary 24\, 2025 (MONDAY)\nMarch 3\, 2025 (MONDAY)\nMarch 10\, 2025 (MONDAY)\nMarch 17\, 2025 (MONDAY)\n\nRegister: https://us10.list-manage.com/survey?u=be01328ebfdc1edeeb6f0116b&id=f3dd6b9b42&attribution=false \n 
URL:https://regionalconnections.ca/event/navigating-a-diverse-workplace-canadian-schools/2025-02-24/
LOCATION:Online\, 2-295 Perry St\, Winkler\, Manitoba\, R6W 0K9\, Canada
END:VEVENT
BEGIN:VEVENT
DTSTART;TZID=America/Winnipeg:20250219T163000
DTEND;TZID=America/Winnipeg:20250219T173000
DTSTAMP:20260423T035507
CREATED:20230118T222418Z
LAST-MODIFIED:20241216T160606Z
UID:10008256-1739982600-1739986200@regionalconnections.ca
SUMMARY:Online - Conversation Group
DESCRIPTION:Would you like to meet new people and learn from community members? Join our weekly conversation group on Microsoft Teams!
URL:https://regionalconnections.ca/event/online-conversation-group-6/2025-02-19/
LOCATION:Online\, 2-295 Perry St\, Winkler\, Manitoba\, R6W 0K9\, Canada
ATTACH;FMTTYPE=image/png:https://regionalconnections.ca/wp-content/uploads/2023/01/Online-Conversation-Group-4.png
END:VEVENT
BEGIN:VEVENT
DTSTART;TZID=America/Winnipeg:20250212T163000
DTEND;TZID=America/Winnipeg:20250212T173000
DTSTAMP:20260423T035507
CREATED:20230118T222418Z
LAST-MODIFIED:20241216T160606Z
UID:10008255-1739377800-1739381400@regionalconnections.ca
SUMMARY:Online - Conversation Group
DESCRIPTION:Would you like to meet new people and learn from community members? Join our weekly conversation group on Microsoft Teams!
URL:https://regionalconnections.ca/event/online-conversation-group-6/2025-02-12/
LOCATION:Online\, 2-295 Perry St\, Winkler\, Manitoba\, R6W 0K9\, Canada
ATTACH;FMTTYPE=image/png:https://regionalconnections.ca/wp-content/uploads/2023/01/Online-Conversation-Group-4.png
END:VEVENT
END:VCALENDAR