BEGIN:VCALENDAR
VERSION:2.0
PRODID:-//Regional Connections - ECPv6.15.18//NONSGML v1.0//EN
CALSCALE:GREGORIAN
METHOD:PUBLISH
X-ORIGINAL-URL:https://regionalconnections.ca
X-WR-CALDESC:Events for Regional Connections
REFRESH-INTERVAL;VALUE=DURATION:PT1H
X-Robots-Tag:noindex
X-PUBLISHED-TTL:PT1H
BEGIN:VTIMEZONE
TZID:America/Winnipeg
BEGIN:DAYLIGHT
TZOFFSETFROM:-0600
TZOFFSETTO:-0500
TZNAME:CDT
DTSTART:20220313T080000
END:DAYLIGHT
BEGIN:STANDARD
TZOFFSETFROM:-0500
TZOFFSETTO:-0600
TZNAME:CST
DTSTART:20221106T070000
END:STANDARD
BEGIN:DAYLIGHT
TZOFFSETFROM:-0600
TZOFFSETTO:-0500
TZNAME:CDT
DTSTART:20230312T080000
END:DAYLIGHT
BEGIN:STANDARD
TZOFFSETFROM:-0500
TZOFFSETTO:-0600
TZNAME:CST
DTSTART:20231105T070000
END:STANDARD
BEGIN:DAYLIGHT
TZOFFSETFROM:-0600
TZOFFSETTO:-0500
TZNAME:CDT
DTSTART:20240310T080000
END:DAYLIGHT
BEGIN:STANDARD
TZOFFSETFROM:-0500
TZOFFSETTO:-0600
TZNAME:CST
DTSTART:20241103T070000
END:STANDARD
END:VTIMEZONE
BEGIN:VEVENT
DTSTART;TZID=America/Winnipeg:20230621T180000
DTEND;TZID=America/Winnipeg:20230621T193000
DTSTAMP:20260422T024314
CREATED:20230504T152531Z
LAST-MODIFIED:20230504T152531Z
UID:10005700-1687370400-1687375800@regionalconnections.ca
SUMMARY:Winkler - SWIS Basketball Club
DESCRIPTION:Learn Drills Meet People Play Ball
URL:https://regionalconnections.ca/event/winkler-swis-basketball-club/2023-06-21/
LOCATION:Parkland Elementary School\, 1100 Roblin Blvd.\, Winkler\, Manitoba\, Canada
ATTACH;FMTTYPE=image/png:https://regionalconnections.ca/wp-content/uploads/2023/05/1.png
END:VEVENT
BEGIN:VEVENT
DTSTART;TZID=America/Winnipeg:20230614T180000
DTEND;TZID=America/Winnipeg:20230614T193000
DTSTAMP:20260422T024315
CREATED:20230504T152531Z
LAST-MODIFIED:20230504T152531Z
UID:10005699-1686765600-1686771000@regionalconnections.ca
SUMMARY:Winkler - SWIS Basketball Club
DESCRIPTION:Learn Drills Meet People Play Ball
URL:https://regionalconnections.ca/event/winkler-swis-basketball-club/2023-06-14/
LOCATION:Parkland Elementary School\, 1100 Roblin Blvd.\, Winkler\, Manitoba\, Canada
ATTACH;FMTTYPE=image/png:https://regionalconnections.ca/wp-content/uploads/2023/05/1.png
END:VEVENT
BEGIN:VEVENT
DTSTART;TZID=America/Winnipeg:20230607T180000
DTEND;TZID=America/Winnipeg:20230607T193000
DTSTAMP:20260422T024315
CREATED:20230504T152531Z
LAST-MODIFIED:20230504T152531Z
UID:10005698-1686160800-1686166200@regionalconnections.ca
SUMMARY:Winkler - SWIS Basketball Club
DESCRIPTION:Learn Drills Meet People Play Ball
URL:https://regionalconnections.ca/event/winkler-swis-basketball-club/2023-06-07/
LOCATION:Parkland Elementary School\, 1100 Roblin Blvd.\, Winkler\, Manitoba\, Canada
ATTACH;FMTTYPE=image/png:https://regionalconnections.ca/wp-content/uploads/2023/05/1.png
END:VEVENT
BEGIN:VEVENT
DTSTART;TZID=America/Winnipeg:20230531T180000
DTEND;TZID=America/Winnipeg:20230531T193000
DTSTAMP:20260422T024315
CREATED:20230504T152531Z
LAST-MODIFIED:20230504T152531Z
UID:10005697-1685556000-1685561400@regionalconnections.ca
SUMMARY:Winkler - SWIS Basketball Club
DESCRIPTION:Learn Drills Meet People Play Ball
URL:https://regionalconnections.ca/event/winkler-swis-basketball-club/2023-05-31/
LOCATION:Parkland Elementary School\, 1100 Roblin Blvd.\, Winkler\, Manitoba\, Canada
ATTACH;FMTTYPE=image/png:https://regionalconnections.ca/wp-content/uploads/2023/05/1.png
END:VEVENT
BEGIN:VEVENT
DTSTART;TZID=America/Winnipeg:20230524T180000
DTEND;TZID=America/Winnipeg:20230524T193000
DTSTAMP:20260422T024315
CREATED:20230504T152531Z
LAST-MODIFIED:20230504T152531Z
UID:10005696-1684951200-1684956600@regionalconnections.ca
SUMMARY:Winkler - SWIS Basketball Club
DESCRIPTION:Learn Drills Meet People Play Ball
URL:https://regionalconnections.ca/event/winkler-swis-basketball-club/2023-05-24/
LOCATION:Parkland Elementary School\, 1100 Roblin Blvd.\, Winkler\, Manitoba\, Canada
ATTACH;FMTTYPE=image/png:https://regionalconnections.ca/wp-content/uploads/2023/05/1.png
END:VEVENT
BEGIN:VEVENT
DTSTART;TZID=America/Winnipeg:20230517T180000
DTEND;TZID=America/Winnipeg:20230517T193000
DTSTAMP:20260422T024315
CREATED:20230504T152531Z
LAST-MODIFIED:20230504T152531Z
UID:10005695-1684346400-1684351800@regionalconnections.ca
SUMMARY:Winkler - SWIS Basketball Club
DESCRIPTION:Learn Drills Meet People Play Ball
URL:https://regionalconnections.ca/event/winkler-swis-basketball-club/2023-05-17/
LOCATION:Parkland Elementary School\, 1100 Roblin Blvd.\, Winkler\, Manitoba\, Canada
ATTACH;FMTTYPE=image/png:https://regionalconnections.ca/wp-content/uploads/2023/05/1.png
END:VEVENT
END:VCALENDAR