BEGIN:VCALENDAR
VERSION:2.0
PRODID:-//Regional Connections - ECPv6.15.18//NONSGML v1.0//EN
CALSCALE:GREGORIAN
METHOD:PUBLISH
X-ORIGINAL-URL:https://regionalconnections.ca
X-WR-CALDESC:Events for Regional Connections
REFRESH-INTERVAL;VALUE=DURATION:PT1H
X-Robots-Tag:noindex
X-PUBLISHED-TTL:PT1H
BEGIN:VTIMEZONE
TZID:America/Winnipeg
BEGIN:DAYLIGHT
TZOFFSETFROM:-0600
TZOFFSETTO:-0500
TZNAME:CDT
DTSTART:20210314T080000
END:DAYLIGHT
BEGIN:STANDARD
TZOFFSETFROM:-0500
TZOFFSETTO:-0600
TZNAME:CST
DTSTART:20211107T070000
END:STANDARD
BEGIN:DAYLIGHT
TZOFFSETFROM:-0600
TZOFFSETTO:-0500
TZNAME:CDT
DTSTART:20220313T080000
END:DAYLIGHT
BEGIN:STANDARD
TZOFFSETFROM:-0500
TZOFFSETTO:-0600
TZNAME:CST
DTSTART:20221106T070000
END:STANDARD
BEGIN:DAYLIGHT
TZOFFSETFROM:-0600
TZOFFSETTO:-0500
TZNAME:CDT
DTSTART:20230312T080000
END:DAYLIGHT
BEGIN:STANDARD
TZOFFSETFROM:-0500
TZOFFSETTO:-0600
TZNAME:CST
DTSTART:20231105T070000
END:STANDARD
END:VTIMEZONE
BEGIN:VEVENT
DTSTART;TZID=America/Winnipeg:20220720T190000
DTEND;TZID=America/Winnipeg:20220720T210000
DTSTAMP:20260421T142835
CREATED:20220620T162458Z
LAST-MODIFIED:20220627T181927Z
UID:10007831-1658343600-1658350800@regionalconnections.ca
SUMMARY:Drop-in Soccer
DESCRIPTION:
URL:https://regionalconnections.ca/event/drop-in-soccer-2/2022-07-20/
LOCATION:Parkside School South Soccer Field\, 155 5 St NW\, Altona\, Manitoba\, R0G 0B0\, Canada
ATTACH;FMTTYPE=image/png:https://regionalconnections.ca/wp-content/uploads/2022/06/Drop-in-Soccer.png
END:VEVENT
BEGIN:VEVENT
DTSTART;TZID=America/Winnipeg:20220717T180000
DTEND;TZID=America/Winnipeg:20220717T200000
DTSTAMP:20260421T142835
CREATED:20250206T221752Z
LAST-MODIFIED:20250206T221752Z
UID:10007842-1658080800-1658088000@regionalconnections.ca
SUMMARY:Drop-in Soccer
DESCRIPTION:
URL:https://regionalconnections.ca/event/drop-in-soccer-2/2022-07-17/
LOCATION:Parkside School South Soccer Field\, 155 5 St NW\, Altona\, Manitoba\, R0G 0B0\, Canada
ATTACH;FMTTYPE=image/png:https://regionalconnections.ca/wp-content/uploads/2022/06/Drop-in-Soccer.png
END:VEVENT
BEGIN:VEVENT
DTSTART;TZID=America/Winnipeg:20220713T190000
DTEND;TZID=America/Winnipeg:20220713T210000
DTSTAMP:20260421T142835
CREATED:20220620T162458Z
LAST-MODIFIED:20220627T181927Z
UID:10007830-1657738800-1657746000@regionalconnections.ca
SUMMARY:Drop-in Soccer
DESCRIPTION:
URL:https://regionalconnections.ca/event/drop-in-soccer-2/2022-07-13/
LOCATION:Parkside School South Soccer Field\, 155 5 St NW\, Altona\, Manitoba\, R0G 0B0\, Canada
ATTACH;FMTTYPE=image/png:https://regionalconnections.ca/wp-content/uploads/2022/06/Drop-in-Soccer.png
END:VEVENT
BEGIN:VEVENT
DTSTART;TZID=America/Winnipeg:20220710T180000
DTEND;TZID=America/Winnipeg:20220710T200000
DTSTAMP:20260421T142835
CREATED:20250206T221752Z
LAST-MODIFIED:20250206T221752Z
UID:10007841-1657476000-1657483200@regionalconnections.ca
SUMMARY:Drop-in Soccer
DESCRIPTION:
URL:https://regionalconnections.ca/event/drop-in-soccer-2/2022-07-10/
LOCATION:Parkside School South Soccer Field\, 155 5 St NW\, Altona\, Manitoba\, R0G 0B0\, Canada
ATTACH;FMTTYPE=image/png:https://regionalconnections.ca/wp-content/uploads/2022/06/Drop-in-Soccer.png
END:VEVENT
BEGIN:VEVENT
DTSTART;TZID=America/Winnipeg:20220706T190000
DTEND;TZID=America/Winnipeg:20220706T210000
DTSTAMP:20260421T142835
CREATED:20220620T162458Z
LAST-MODIFIED:20220627T181927Z
UID:10007829-1657134000-1657141200@regionalconnections.ca
SUMMARY:Drop-in Soccer
DESCRIPTION:
URL:https://regionalconnections.ca/event/drop-in-soccer-2/2022-07-06/
LOCATION:Parkside School South Soccer Field\, 155 5 St NW\, Altona\, Manitoba\, R0G 0B0\, Canada
ATTACH;FMTTYPE=image/png:https://regionalconnections.ca/wp-content/uploads/2022/06/Drop-in-Soccer.png
END:VEVENT
BEGIN:VEVENT
DTSTART;TZID=America/Winnipeg:20220703T180000
DTEND;TZID=America/Winnipeg:20220703T200000
DTSTAMP:20260421T142835
CREATED:20250206T221752Z
LAST-MODIFIED:20250206T221752Z
UID:10007840-1656871200-1656878400@regionalconnections.ca
SUMMARY:Drop-in Soccer
DESCRIPTION:
URL:https://regionalconnections.ca/event/drop-in-soccer-2/2022-07-03/
LOCATION:Parkside School South Soccer Field\, 155 5 St NW\, Altona\, Manitoba\, R0G 0B0\, Canada
ATTACH;FMTTYPE=image/png:https://regionalconnections.ca/wp-content/uploads/2022/06/Drop-in-Soccer.png
END:VEVENT
BEGIN:VEVENT
DTSTART;TZID=America/Winnipeg:20220629T190000
DTEND;TZID=America/Winnipeg:20220629T210000
DTSTAMP:20260421T142835
CREATED:20220620T162458Z
LAST-MODIFIED:20220627T181927Z
UID:10007828-1656529200-1656536400@regionalconnections.ca
SUMMARY:Drop-in Soccer
DESCRIPTION:
URL:https://regionalconnections.ca/event/drop-in-soccer-2/2022-06-29/
LOCATION:Parkside School South Soccer Field\, 155 5 St NW\, Altona\, Manitoba\, R0G 0B0\, Canada
ATTACH;FMTTYPE=image/png:https://regionalconnections.ca/wp-content/uploads/2022/06/Drop-in-Soccer.png
END:VEVENT
BEGIN:VEVENT
DTSTART;TZID=America/Winnipeg:20220626T180000
DTEND;TZID=America/Winnipeg:20220626T200000
DTSTAMP:20260421T142835
CREATED:20250206T221752Z
LAST-MODIFIED:20250206T221752Z
UID:10007839-1656266400-1656273600@regionalconnections.ca
SUMMARY:Drop-in Soccer
DESCRIPTION:
URL:https://regionalconnections.ca/event/drop-in-soccer-2/2022-06-26/
LOCATION:Parkside School South Soccer Field\, 155 5 St NW\, Altona\, Manitoba\, R0G 0B0\, Canada
ATTACH;FMTTYPE=image/png:https://regionalconnections.ca/wp-content/uploads/2022/06/Drop-in-Soccer.png
END:VEVENT
BEGIN:VEVENT
DTSTART;TZID=America/Winnipeg:20220622T190000
DTEND;TZID=America/Winnipeg:20220622T210000
DTSTAMP:20260421T142835
CREATED:20220620T162458Z
LAST-MODIFIED:20220627T181927Z
UID:10007827-1655924400-1655931600@regionalconnections.ca
SUMMARY:Drop-in Soccer
DESCRIPTION:
URL:https://regionalconnections.ca/event/drop-in-soccer-2/2022-06-22/
LOCATION:Parkside School South Soccer Field\, 155 5 St NW\, Altona\, Manitoba\, R0G 0B0\, Canada
ATTACH;FMTTYPE=image/png:https://regionalconnections.ca/wp-content/uploads/2022/06/Drop-in-Soccer.png
END:VEVENT
BEGIN:VEVENT
DTSTART;TZID=America/Winnipeg:20220619T180000
DTEND;TZID=America/Winnipeg:20220619T200000
DTSTAMP:20260421T142835
CREATED:20250206T221752Z
LAST-MODIFIED:20250206T221752Z
UID:10007838-1655661600-1655668800@regionalconnections.ca
SUMMARY:Drop-in Soccer
DESCRIPTION:
URL:https://regionalconnections.ca/event/drop-in-soccer-2/2022-06-19/
LOCATION:Parkside School South Soccer Field\, 155 5 St NW\, Altona\, Manitoba\, R0G 0B0\, Canada
ATTACH;FMTTYPE=image/png:https://regionalconnections.ca/wp-content/uploads/2022/06/Drop-in-Soccer.png
END:VEVENT
BEGIN:VEVENT
DTSTART;TZID=America/Winnipeg:20220615T190000
DTEND;TZID=America/Winnipeg:20220615T210000
DTSTAMP:20260421T142835
CREATED:20220620T162458Z
LAST-MODIFIED:20220627T181927Z
UID:10007826-1655319600-1655326800@regionalconnections.ca
SUMMARY:Drop-in Soccer
DESCRIPTION:
URL:https://regionalconnections.ca/event/drop-in-soccer-2/2022-06-15/
LOCATION:Parkside School South Soccer Field\, 155 5 St NW\, Altona\, Manitoba\, R0G 0B0\, Canada
ATTACH;FMTTYPE=image/png:https://regionalconnections.ca/wp-content/uploads/2022/06/Drop-in-Soccer.png
END:VEVENT
END:VCALENDAR