BEGIN:VCALENDAR
VERSION:2.0
PRODID:-//Regional Connections - ECPv6.15.18//NONSGML v1.0//EN
CALSCALE:GREGORIAN
METHOD:PUBLISH
X-ORIGINAL-URL:https://regionalconnections.ca
X-WR-CALDESC:Events for Regional Connections
REFRESH-INTERVAL;VALUE=DURATION:PT1H
X-Robots-Tag:noindex
X-PUBLISHED-TTL:PT1H
BEGIN:VTIMEZONE
TZID:America/Winnipeg
BEGIN:DAYLIGHT
TZOFFSETFROM:-0600
TZOFFSETTO:-0500
TZNAME:CDT
DTSTART:20180311T080000
END:DAYLIGHT
BEGIN:STANDARD
TZOFFSETFROM:-0500
TZOFFSETTO:-0600
TZNAME:CST
DTSTART:20181104T070000
END:STANDARD
BEGIN:DAYLIGHT
TZOFFSETFROM:-0600
TZOFFSETTO:-0500
TZNAME:CDT
DTSTART:20190310T080000
END:DAYLIGHT
BEGIN:STANDARD
TZOFFSETFROM:-0500
TZOFFSETTO:-0600
TZNAME:CST
DTSTART:20191103T070000
END:STANDARD
BEGIN:DAYLIGHT
TZOFFSETFROM:-0600
TZOFFSETTO:-0500
TZNAME:CDT
DTSTART:20200308T080000
END:DAYLIGHT
BEGIN:STANDARD
TZOFFSETFROM:-0500
TZOFFSETTO:-0600
TZNAME:CST
DTSTART:20201101T070000
END:STANDARD
BEGIN:DAYLIGHT
TZOFFSETFROM:-0600
TZOFFSETTO:-0500
TZNAME:CDT
DTSTART:20210314T080000
END:DAYLIGHT
BEGIN:STANDARD
TZOFFSETFROM:-0500
TZOFFSETTO:-0600
TZNAME:CST
DTSTART:20211107T070000
END:STANDARD
BEGIN:DAYLIGHT
TZOFFSETFROM:-0600
TZOFFSETTO:-0500
TZNAME:CDT
DTSTART:20220313T080000
END:DAYLIGHT
BEGIN:STANDARD
TZOFFSETFROM:-0500
TZOFFSETTO:-0600
TZNAME:CST
DTSTART:20221106T070000
END:STANDARD
BEGIN:DAYLIGHT
TZOFFSETFROM:-0600
TZOFFSETTO:-0500
TZNAME:CDT
DTSTART:20230312T080000
END:DAYLIGHT
BEGIN:STANDARD
TZOFFSETFROM:-0500
TZOFFSETTO:-0600
TZNAME:CST
DTSTART:20231105T070000
END:STANDARD
END:VTIMEZONE
BEGIN:VEVENT
DTSTART;TZID=America/Winnipeg:20220621T170000
DTEND;TZID=America/Winnipeg:20220621T180000
DTSTAMP:20260421T081626
CREATED:20220510T185802Z
LAST-MODIFIED:20220526T141800Z
UID:10007815-1655830800-1655834400@regionalconnections.ca
SUMMARY:Credentials Recognition Process - Morden
DESCRIPTION:
URL:https://regionalconnections.ca/event/credentials-recognition-process-morden/
LOCATION:Regiona Connections\, Morden\, 34 Stephen Street\, Morden\, Manitoba\, R6M 2G3
ATTACH;FMTTYPE=image/png:https://regionalconnections.ca/wp-content/uploads/2022/05/Credentials-Recognition-Process-Morden-1.png
GEO:49.18944;-98.09399
X-APPLE-STRUCTURED-LOCATION;VALUE=URI;X-ADDRESS=Regiona Connections Morden 34 Stephen Street Morden Manitoba R6M 2G3;X-APPLE-RADIUS=500;X-TITLE=34 Stephen Street:geo:-98.09399,49.18944
END:VEVENT
BEGIN:VEVENT
DTSTART;TZID=America/Winnipeg:20211117T190000
DTEND;TZID=America/Winnipeg:20211117T200000
DTSTAMP:20260421T081626
CREATED:20211026T193349Z
LAST-MODIFIED:20211101T155449Z
UID:10005170-1637175600-1637179200@regionalconnections.ca
SUMMARY:School Report Card Information (Morden)
DESCRIPTION:
URL:https://regionalconnections.ca/event/school-report-card-information-morden/
LOCATION:Regiona Connections\, Morden\, 34 Stephen Street\, Morden\, Manitoba\, R6M 2G3
ATTACH;FMTTYPE=image/png:https://regionalconnections.ca/wp-content/uploads/2021/10/SWIS-Report-Cards.png
GEO:49.18944;-98.09399
X-APPLE-STRUCTURED-LOCATION;VALUE=URI;X-ADDRESS=Regiona Connections Morden 34 Stephen Street Morden Manitoba R6M 2G3;X-APPLE-RADIUS=500;X-TITLE=34 Stephen Street:geo:-98.09399,49.18944
END:VEVENT
BEGIN:VEVENT
DTSTART;TZID=America/Winnipeg:20201030T140000
DTEND;TZID=America/Winnipeg:20201030T140000
DTSTAMP:20260421T081626
CREATED:20201009T161540Z
LAST-MODIFIED:20201016T172747Z
UID:10005006-1604066400-1604066400@regionalconnections.ca
SUMMARY:Altona (Online) – Getting Ready For Winter Expo Week
DESCRIPTION:
URL:https://regionalconnections.ca/event/altona-online-getting-ready-for-winter-expo-week-5/
LOCATION:Regiona Connections\, Morden\, 34 Stephen Street\, Morden\, Manitoba\, R6M 2G3
ATTACH;FMTTYPE=image/png:https://regionalconnections.ca/wp-content/uploads/2020/10/Getting-Ready-for-Winter-Expo-Week-October-2020-1.png
GEO:49.18944;-98.09399
X-APPLE-STRUCTURED-LOCATION;VALUE=URI;X-ADDRESS=Regiona Connections Morden 34 Stephen Street Morden Manitoba R6M 2G3;X-APPLE-RADIUS=500;X-TITLE=34 Stephen Street:geo:-98.09399,49.18944
END:VEVENT
BEGIN:VEVENT
DTSTART;TZID=America/Winnipeg:20201029T140000
DTEND;TZID=America/Winnipeg:20201029T140000
DTSTAMP:20260421T081626
CREATED:20201009T161459Z
LAST-MODIFIED:20201016T170530Z
UID:10005005-1603980000-1603980000@regionalconnections.ca
SUMMARY:Altona (Online) – Getting Ready For Winter Expo Week
DESCRIPTION:
URL:https://regionalconnections.ca/event/altona-online-getting-ready-for-winter-expo-week-4/
LOCATION:Regiona Connections\, Morden\, 34 Stephen Street\, Morden\, Manitoba\, R6M 2G3
ATTACH;FMTTYPE=image/png:https://regionalconnections.ca/wp-content/uploads/2020/10/Getting-Ready-for-Winter-Expo-Week-October-2020-1.png
GEO:49.18944;-98.09399
X-APPLE-STRUCTURED-LOCATION;VALUE=URI;X-ADDRESS=Regiona Connections Morden 34 Stephen Street Morden Manitoba R6M 2G3;X-APPLE-RADIUS=500;X-TITLE=34 Stephen Street:geo:-98.09399,49.18944
END:VEVENT
BEGIN:VEVENT
DTSTART;TZID=America/Winnipeg:20201029T140000
DTEND;TZID=America/Winnipeg:20201029T140000
DTSTAMP:20260421T081626
CREATED:20201009T155057Z
LAST-MODIFIED:20201016T170443Z
UID:10007625-1603980000-1603980000@regionalconnections.ca
SUMMARY:Morden (Online) – Getting Ready For Winter Expo Week
DESCRIPTION:
URL:https://regionalconnections.ca/event/morden-online-getting-ready-for-winter-expo-week-4/
LOCATION:Regiona Connections\, Morden\, 34 Stephen Street\, Morden\, Manitoba\, R6M 2G3
ATTACH;FMTTYPE=image/png:https://regionalconnections.ca/wp-content/uploads/2020/10/Getting-Ready-for-Winter-Expo-Week-October-2020-1.png
GEO:49.18944;-98.09399
X-APPLE-STRUCTURED-LOCATION;VALUE=URI;X-ADDRESS=Regiona Connections Morden 34 Stephen Street Morden Manitoba R6M 2G3;X-APPLE-RADIUS=500;X-TITLE=34 Stephen Street:geo:-98.09399,49.18944
END:VEVENT
BEGIN:VEVENT
DTSTART;TZID=America/Winnipeg:20201028T140000
DTEND;TZID=America/Winnipeg:20201028T140000
DTSTAMP:20260421T081626
CREATED:20201009T161030Z
LAST-MODIFIED:20201016T161704Z
UID:10005004-1603893600-1603893600@regionalconnections.ca
SUMMARY:Altona (Online) – Getting Ready For Winter Expo Week
DESCRIPTION:
URL:https://regionalconnections.ca/event/altona-online-getting-ready-for-winter-expo-week-3/
LOCATION:Regiona Connections\, Morden\, 34 Stephen Street\, Morden\, Manitoba\, R6M 2G3
ATTACH;FMTTYPE=image/png:https://regionalconnections.ca/wp-content/uploads/2020/10/Getting-Ready-for-Winter-Expo-Week-October-2020-1.png
GEO:49.18944;-98.09399
X-APPLE-STRUCTURED-LOCATION;VALUE=URI;X-ADDRESS=Regiona Connections Morden 34 Stephen Street Morden Manitoba R6M 2G3;X-APPLE-RADIUS=500;X-TITLE=34 Stephen Street:geo:-98.09399,49.18944
END:VEVENT
BEGIN:VEVENT
DTSTART;TZID=America/Winnipeg:20201028T140000
DTEND;TZID=America/Winnipeg:20201028T140000
DTSTAMP:20260421T081626
CREATED:20201009T154947Z
LAST-MODIFIED:20201016T161615Z
UID:10007624-1603893600-1603893600@regionalconnections.ca
SUMMARY:Morden (Online) – Getting Ready For Winter Expo Week
DESCRIPTION:
URL:https://regionalconnections.ca/event/morden-online-getting-ready-for-winter-expo-week-3/
LOCATION:Regiona Connections\, Morden\, 34 Stephen Street\, Morden\, Manitoba\, R6M 2G3
ATTACH;FMTTYPE=image/png:https://regionalconnections.ca/wp-content/uploads/2020/10/Getting-Ready-for-Winter-Expo-Week-October-2020-1.png
GEO:49.18944;-98.09399
X-APPLE-STRUCTURED-LOCATION;VALUE=URI;X-ADDRESS=Regiona Connections Morden 34 Stephen Street Morden Manitoba R6M 2G3;X-APPLE-RADIUS=500;X-TITLE=34 Stephen Street:geo:-98.09399,49.18944
END:VEVENT
BEGIN:VEVENT
DTSTART;TZID=America/Winnipeg:20201027T140000
DTEND;TZID=America/Winnipeg:20201027T140000
DTSTAMP:20260421T081626
CREATED:20201009T160922Z
LAST-MODIFIED:20201016T161123Z
UID:10005003-1603807200-1603807200@regionalconnections.ca
SUMMARY:Altona (Online) – Getting Ready For Winter Expo Week
DESCRIPTION:
URL:https://regionalconnections.ca/event/altona-online-getting-ready-for-winter-expo-week-2/
LOCATION:Regiona Connections\, Morden\, 34 Stephen Street\, Morden\, Manitoba\, R6M 2G3
ATTACH;FMTTYPE=image/png:https://regionalconnections.ca/wp-content/uploads/2020/10/Getting-Ready-for-Winter-Expo-Week-October-2020-1.png
GEO:49.18944;-98.09399
X-APPLE-STRUCTURED-LOCATION;VALUE=URI;X-ADDRESS=Regiona Connections Morden 34 Stephen Street Morden Manitoba R6M 2G3;X-APPLE-RADIUS=500;X-TITLE=34 Stephen Street:geo:-98.09399,49.18944
END:VEVENT
BEGIN:VEVENT
DTSTART;TZID=America/Winnipeg:20201027T140000
DTEND;TZID=America/Winnipeg:20201027T140000
DTSTAMP:20260421T081626
CREATED:20201009T154811Z
LAST-MODIFIED:20201016T161033Z
UID:10007623-1603807200-1603807200@regionalconnections.ca
SUMMARY:Morden (Online) – Getting Ready For Winter Expo Week
DESCRIPTION:
URL:https://regionalconnections.ca/event/morden-online-getting-ready-for-winter-expo-week-2/
LOCATION:Regiona Connections\, Morden\, 34 Stephen Street\, Morden\, Manitoba\, R6M 2G3
ATTACH;FMTTYPE=image/png:https://regionalconnections.ca/wp-content/uploads/2020/10/Getting-Ready-for-Winter-Expo-Week-October-2020-1.png
GEO:49.18944;-98.09399
X-APPLE-STRUCTURED-LOCATION;VALUE=URI;X-ADDRESS=Regiona Connections Morden 34 Stephen Street Morden Manitoba R6M 2G3;X-APPLE-RADIUS=500;X-TITLE=34 Stephen Street:geo:-98.09399,49.18944
END:VEVENT
BEGIN:VEVENT
DTSTART;TZID=America/Winnipeg:20201026T140000
DTEND;TZID=America/Winnipeg:20201026T140000
DTSTAMP:20260421T081626
CREATED:20201009T160828Z
LAST-MODIFIED:20201016T160823Z
UID:10005002-1603720800-1603720800@regionalconnections.ca
SUMMARY:Altona (Online) – Getting Ready For Winter Expo Week
DESCRIPTION:
URL:https://regionalconnections.ca/event/altona-online-getting-ready-for-winter-expo-week/
LOCATION:Regiona Connections\, Morden\, 34 Stephen Street\, Morden\, Manitoba\, R6M 2G3
ATTACH;FMTTYPE=image/png:https://regionalconnections.ca/wp-content/uploads/2020/10/Getting-Ready-for-Winter-Expo-Week-October-2020-1.png
GEO:49.18944;-98.09399
X-APPLE-STRUCTURED-LOCATION;VALUE=URI;X-ADDRESS=Regiona Connections Morden 34 Stephen Street Morden Manitoba R6M 2G3;X-APPLE-RADIUS=500;X-TITLE=34 Stephen Street:geo:-98.09399,49.18944
END:VEVENT
BEGIN:VEVENT
DTSTART;TZID=America/Winnipeg:20201026T140000
DTEND;TZID=America/Winnipeg:20201026T140000
DTSTAMP:20260421T081626
CREATED:20201009T154215Z
LAST-MODIFIED:20201016T160730Z
UID:10007622-1603720800-1603720800@regionalconnections.ca
SUMMARY:Morden (Online) - Getting Ready For Winter Expo Week
DESCRIPTION:
URL:https://regionalconnections.ca/event/morden-online-getting-ready-for-winter-expo-week/
LOCATION:Regiona Connections\, Morden\, 34 Stephen Street\, Morden\, Manitoba\, R6M 2G3
ATTACH;FMTTYPE=image/png:https://regionalconnections.ca/wp-content/uploads/2020/10/Getting-Ready-for-Winter-Expo-Week-October-2020-1.png
GEO:49.18944;-98.09399
X-APPLE-STRUCTURED-LOCATION;VALUE=URI;X-ADDRESS=Regiona Connections Morden 34 Stephen Street Morden Manitoba R6M 2G3;X-APPLE-RADIUS=500;X-TITLE=34 Stephen Street:geo:-98.09399,49.18944
END:VEVENT
BEGIN:VEVENT
DTSTART;TZID=America/Winnipeg:20201021T170000
DTEND;TZID=America/Winnipeg:20201021T170000
DTSTAMP:20260421T081627
CREATED:20201009T170939Z
LAST-MODIFIED:20201013T150230Z
UID:10007627-1603299600-1603299600@regionalconnections.ca
SUMMARY:Morden (Online)- Welcome To Canada Info Event
DESCRIPTION:
URL:https://regionalconnections.ca/event/welcome-to-canada-3/
LOCATION:Regiona Connections\, Morden\, 34 Stephen Street\, Morden\, Manitoba\, R6M 2G3
ATTACH;FMTTYPE=image/jpeg:https://regionalconnections.ca/wp-content/uploads/2020/10/Welcome-To-Canada-1.jpg
GEO:49.18944;-98.09399
X-APPLE-STRUCTURED-LOCATION;VALUE=URI;X-ADDRESS=Regiona Connections Morden 34 Stephen Street Morden Manitoba R6M 2G3;X-APPLE-RADIUS=500;X-TITLE=34 Stephen Street:geo:-98.09399,49.18944
END:VEVENT
BEGIN:VEVENT
DTSTART;TZID=America/Winnipeg:20201019T190000
DTEND;TZID=America/Winnipeg:20201019T190000
DTSTAMP:20260421T081627
CREATED:20201009T162557Z
LAST-MODIFIED:20201009T162557Z
UID:10005008-1603134000-1603134000@regionalconnections.ca
SUMMARY:Morden (Online) - Financial Literacy Series\, Credit Cards & Prepaid Cards
DESCRIPTION:
URL:https://regionalconnections.ca/event/morden-online-financial-literacy-series-credit-cards-prepaid-cards/
LOCATION:Regiona Connections\, Morden\, 34 Stephen Street\, Morden\, Manitoba\, R6M 2G3
ATTACH;FMTTYPE=image/png:https://regionalconnections.ca/wp-content/uploads/2020/10/Credit-Cards-Prepaid-Cards.png
GEO:49.18944;-98.09399
X-APPLE-STRUCTURED-LOCATION;VALUE=URI;X-ADDRESS=Regiona Connections Morden 34 Stephen Street Morden Manitoba R6M 2G3;X-APPLE-RADIUS=500;X-TITLE=34 Stephen Street:geo:-98.09399,49.18944
END:VEVENT
BEGIN:VEVENT
DTSTART;TZID=America/Winnipeg:20201006T163000
DTEND;TZID=America/Winnipeg:20201006T180000
DTSTAMP:20260421T081627
CREATED:20200901T194248Z
LAST-MODIFIED:20200901T194729Z
UID:10004990-1602001800-1602007200@regionalconnections.ca
SUMMARY:Morden (Online) – Online Job Fair
DESCRIPTION:
URL:https://regionalconnections.ca/event/regional-connections-morden-online-online-job-fair/
LOCATION:Regiona Connections\, Morden\, 34 Stephen Street\, Morden\, Manitoba\, R6M 2G3
ATTACH;FMTTYPE=image/jpeg:https://regionalconnections.ca/wp-content/uploads/2020/09/RC-Online-Job-Fair.jpeg
GEO:49.18944;-98.09399
X-APPLE-STRUCTURED-LOCATION;VALUE=URI;X-ADDRESS=Regiona Connections Morden 34 Stephen Street Morden Manitoba R6M 2G3;X-APPLE-RADIUS=500;X-TITLE=34 Stephen Street:geo:-98.09399,49.18944
END:VEVENT
BEGIN:VEVENT
DTSTART;TZID=America/Winnipeg:20200820T090000
DTEND;TZID=America/Winnipeg:20200820T160000
DTSTAMP:20260421T081627
CREATED:20200813T194537Z
LAST-MODIFIED:20200813T194537Z
UID:10007616-1597914000-1597939200@regionalconnections.ca
SUMMARY:Morden - English Class Registration
DESCRIPTION:
URL:https://regionalconnections.ca/event/morden-english-class-registration/
LOCATION:Regiona Connections\, Morden\, 34 Stephen Street\, Morden\, Manitoba\, R6M 2G3
ATTACH;FMTTYPE=image/jpeg:https://regionalconnections.ca/wp-content/uploads/2020/08/1-1.jpg
GEO:49.18944;-98.09399
X-APPLE-STRUCTURED-LOCATION;VALUE=URI;X-ADDRESS=Regiona Connections Morden 34 Stephen Street Morden Manitoba R6M 2G3;X-APPLE-RADIUS=500;X-TITLE=34 Stephen Street:geo:-98.09399,49.18944
END:VEVENT
BEGIN:VEVENT
DTSTART;TZID=America/Winnipeg:20200820T090000
DTEND;TZID=America/Winnipeg:20200820T120000
DTSTAMP:20260421T081627
CREATED:20200807T161055Z
LAST-MODIFIED:20200807T161155Z
UID:10007606-1597914000-1597924800@regionalconnections.ca
SUMMARY:Online - Law in Canada Question and Answer
DESCRIPTION:
URL:https://regionalconnections.ca/event/morden-online-law-in-canada-question-and-answer/
LOCATION:Regiona Connections\, Morden\, 34 Stephen Street\, Morden\, Manitoba\, R6M 2G3
ATTACH;FMTTYPE=image/png:https://regionalconnections.ca/wp-content/uploads/2020/08/Law-Question-Answer-August-2020.png
GEO:49.18944;-98.09399
X-APPLE-STRUCTURED-LOCATION;VALUE=URI;X-ADDRESS=Regiona Connections Morden 34 Stephen Street Morden Manitoba R6M 2G3;X-APPLE-RADIUS=500;X-TITLE=34 Stephen Street:geo:-98.09399,49.18944
END:VEVENT
BEGIN:VEVENT
DTSTART;TZID=America/Winnipeg:20200806T183000
DTEND;TZID=America/Winnipeg:20200806T200000
DTSTAMP:20260421T081627
CREATED:20200721T210323Z
LAST-MODIFIED:20200721T210323Z
UID:10004934-1596738600-1596744000@regionalconnections.ca
SUMMARY:Morden - Credential Recognition Information Session
DESCRIPTION:
URL:https://regionalconnections.ca/event/morden-credential-recognition-information-session/
LOCATION:Regiona Connections\, Morden\, 34 Stephen Street\, Morden\, Manitoba\, R6M 2G3
ATTACH;FMTTYPE=image/jpeg:https://regionalconnections.ca/wp-content/uploads/2020/07/Recognition-Counts-Info-Session-scaled.jpg
GEO:49.18944;-98.09399
X-APPLE-STRUCTURED-LOCATION;VALUE=URI;X-ADDRESS=Regiona Connections Morden 34 Stephen Street Morden Manitoba R6M 2G3;X-APPLE-RADIUS=500;X-TITLE=34 Stephen Street:geo:-98.09399,49.18944
END:VEVENT
BEGIN:VEVENT
DTSTART;TZID=America/Winnipeg:20200727T183000
DTEND;TZID=America/Winnipeg:20200727T183000
DTSTAMP:20260421T081627
CREATED:20200707T140959Z
LAST-MODIFIED:20200723T134145Z
UID:10007588-1595874600-1595874600@regionalconnections.ca
SUMMARY:Online - Employment Webinar
DESCRIPTION:
URL:https://regionalconnections.ca/event/morden-online-employment-webinar/
LOCATION:Regiona Connections\, Morden\, 34 Stephen Street\, Morden\, Manitoba\, R6M 2G3
ATTACH;FMTTYPE=image/jpeg:https://regionalconnections.ca/wp-content/uploads/2020/07/employment-resume-writing-webinar.jpg
GEO:49.18944;-98.09399
X-APPLE-STRUCTURED-LOCATION;VALUE=URI;X-ADDRESS=Regiona Connections Morden 34 Stephen Street Morden Manitoba R6M 2G3;X-APPLE-RADIUS=500;X-TITLE=34 Stephen Street:geo:-98.09399,49.18944
END:VEVENT
BEGIN:VEVENT
DTSTART;TZID=America/Winnipeg:20200708T100000
DTEND;TZID=America/Winnipeg:20200708T120000
DTSTAMP:20260421T081627
CREATED:20200623T140920Z
LAST-MODIFIED:20200630T202014Z
UID:10004929-1594202400-1594209600@regionalconnections.ca
SUMMARY:Morden (online and in-person) – Canadian Tax Benefit Information Session
DESCRIPTION:
URL:https://regionalconnections.ca/event/canadian-tax-benefit-information-session-2/
LOCATION:Regiona Connections\, Morden\, 34 Stephen Street\, Morden\, Manitoba\, R6M 2G3
ATTACH;FMTTYPE=image/png:https://regionalconnections.ca/wp-content/uploads/2020/06/Tax-Benefit-Information-Session.png
GEO:49.18944;-98.09399
X-APPLE-STRUCTURED-LOCATION;VALUE=URI;X-ADDRESS=Regiona Connections Morden 34 Stephen Street Morden Manitoba R6M 2G3;X-APPLE-RADIUS=500;X-TITLE=34 Stephen Street:geo:-98.09399,49.18944
END:VEVENT
BEGIN:VEVENT
DTSTART;TZID=America/Winnipeg:20200707T150000
DTEND;TZID=America/Winnipeg:20200707T150000
DTSTAMP:20260421T081627
CREATED:20200623T140751Z
LAST-MODIFIED:20200630T202317Z
UID:10004928-1594134000-1594134000@regionalconnections.ca
SUMMARY:Morden (online and in-person) - Canadian Tax Benefit Information Session
DESCRIPTION:
URL:https://regionalconnections.ca/event/canadian-tax-benefit-information-session/
LOCATION:Regiona Connections\, Morden\, 34 Stephen Street\, Morden\, Manitoba\, R6M 2G3
ATTACH;FMTTYPE=image/png:https://regionalconnections.ca/wp-content/uploads/2020/06/Tax-Benefit-Information-Session.png
GEO:49.18944;-98.09399
X-APPLE-STRUCTURED-LOCATION;VALUE=URI;X-ADDRESS=Regiona Connections Morden 34 Stephen Street Morden Manitoba R6M 2G3;X-APPLE-RADIUS=500;X-TITLE=34 Stephen Street:geo:-98.09399,49.18944
END:VEVENT
BEGIN:VEVENT
DTSTART;TZID=America/Winnipeg:20190710T190000
DTEND;TZID=America/Winnipeg:20190710T210000
DTSTAMP:20260421T081627
CREATED:20190627T190956Z
LAST-MODIFIED:20190627T190956Z
UID:10004806-1562785200-1562792400@regionalconnections.ca
SUMMARY:Newcomer Welcome Evening - Morden
DESCRIPTION:Interested in welcoming Morden’s newest arrivals? Come on out to our event we are having!
URL:https://regionalconnections.ca/event/newcomer-welcome-evening-morden-3/
LOCATION:Regiona Connections\, Morden\, 34 Stephen Street\, Morden\, Manitoba\, R6M 2G3
ATTACH;FMTTYPE=image/png:https://regionalconnections.ca/wp-content/uploads/2019/06/Screenshot-108.png
GEO:49.18944;-98.09399
X-APPLE-STRUCTURED-LOCATION;VALUE=URI;X-ADDRESS=Regiona Connections Morden 34 Stephen Street Morden Manitoba R6M 2G3;X-APPLE-RADIUS=500;X-TITLE=34 Stephen Street:geo:-98.09399,49.18944
END:VEVENT
END:VCALENDAR