BEGIN:VCALENDAR
VERSION:2.0
PRODID:-//Regional Connections - ECPv6.15.18//NONSGML v1.0//EN
CALSCALE:GREGORIAN
METHOD:PUBLISH
X-ORIGINAL-URL:https://regionalconnections.ca
X-WR-CALDESC:Events for Regional Connections
REFRESH-INTERVAL;VALUE=DURATION:PT1H
X-Robots-Tag:noindex
X-PUBLISHED-TTL:PT1H
BEGIN:VTIMEZONE
TZID:America/Winnipeg
BEGIN:DAYLIGHT
TZOFFSETFROM:-0600
TZOFFSETTO:-0500
TZNAME:CDT
DTSTART:20260308T080000
END:DAYLIGHT
BEGIN:STANDARD
TZOFFSETFROM:-0500
TZOFFSETTO:-0600
TZNAME:CST
DTSTART:20261101T070000
END:STANDARD
BEGIN:DAYLIGHT
TZOFFSETFROM:-0600
TZOFFSETTO:-0500
TZNAME:CDT
DTSTART:20270314T080000
END:DAYLIGHT
BEGIN:STANDARD
TZOFFSETFROM:-0500
TZOFFSETTO:-0600
TZNAME:CST
DTSTART:20271107T070000
END:STANDARD
BEGIN:DAYLIGHT
TZOFFSETFROM:-0600
TZOFFSETTO:-0500
TZNAME:CDT
DTSTART:20280312T080000
END:DAYLIGHT
BEGIN:STANDARD
TZOFFSETFROM:-0500
TZOFFSETTO:-0600
TZNAME:CST
DTSTART:20281105T070000
END:STANDARD
BEGIN:DAYLIGHT
TZOFFSETFROM:-0600
TZOFFSETTO:-0500
TZNAME:CDT
DTSTART:20290311T080000
END:DAYLIGHT
BEGIN:STANDARD
TZOFFSETFROM:-0500
TZOFFSETTO:-0600
TZNAME:CST
DTSTART:20291104T070000
END:STANDARD
BEGIN:DAYLIGHT
TZOFFSETFROM:-0600
TZOFFSETTO:-0500
TZNAME:CDT
DTSTART:20300310T080000
END:DAYLIGHT
BEGIN:STANDARD
TZOFFSETFROM:-0500
TZOFFSETTO:-0600
TZNAME:CST
DTSTART:20301103T070000
END:STANDARD
END:VTIMEZONE
BEGIN:VEVENT
DTSTART;TZID=America/Winnipeg:20270519T183000
DTEND;TZID=America/Winnipeg:20270519T193000
DTSTAMP:20260421T063528
CREATED:20260107T153319Z
LAST-MODIFIED:20260107T165425Z
UID:10012231-1810751400-1810755000@regionalconnections.ca
SUMMARY:Conversation Circle Morden
DESCRIPTION:
URL:https://regionalconnections.ca/event/conversation-circle-5/2027-05-19/
LOCATION:Regiona Connections\, Morden\, 34 Stephen Street\, Morden\, Manitoba\, R6M 2G3
ATTACH;FMTTYPE=image/png:https://regionalconnections.ca/wp-content/uploads/2026/01/Morden-Conv.-Circle.png
GEO:49.18944;-98.09399
X-APPLE-STRUCTURED-LOCATION;VALUE=URI;X-ADDRESS=Regiona Connections Morden 34 Stephen Street Morden Manitoba R6M 2G3;X-APPLE-RADIUS=500;X-TITLE=34 Stephen Street:geo:-98.09399,49.18944
END:VEVENT
BEGIN:VEVENT
DTSTART;TZID=America/Winnipeg:20270616T183000
DTEND;TZID=America/Winnipeg:20270616T193000
DTSTAMP:20260421T063528
CREATED:20260107T153319Z
LAST-MODIFIED:20260107T165425Z
UID:10012232-1813170600-1813174200@regionalconnections.ca
SUMMARY:Conversation Circle Morden
DESCRIPTION:
URL:https://regionalconnections.ca/event/conversation-circle-5/2027-06-16/
LOCATION:Regiona Connections\, Morden\, 34 Stephen Street\, Morden\, Manitoba\, R6M 2G3
ATTACH;FMTTYPE=image/png:https://regionalconnections.ca/wp-content/uploads/2026/01/Morden-Conv.-Circle.png
GEO:49.18944;-98.09399
X-APPLE-STRUCTURED-LOCATION;VALUE=URI;X-ADDRESS=Regiona Connections Morden 34 Stephen Street Morden Manitoba R6M 2G3;X-APPLE-RADIUS=500;X-TITLE=34 Stephen Street:geo:-98.09399,49.18944
END:VEVENT
BEGIN:VEVENT
DTSTART;TZID=America/Winnipeg:20270721T183000
DTEND;TZID=America/Winnipeg:20270721T193000
DTSTAMP:20260421T063528
CREATED:20260107T153319Z
LAST-MODIFIED:20260107T165425Z
UID:10012233-1816194600-1816198200@regionalconnections.ca
SUMMARY:Conversation Circle Morden
DESCRIPTION:
URL:https://regionalconnections.ca/event/conversation-circle-5/2027-07-21/
LOCATION:Regiona Connections\, Morden\, 34 Stephen Street\, Morden\, Manitoba\, R6M 2G3
ATTACH;FMTTYPE=image/png:https://regionalconnections.ca/wp-content/uploads/2026/01/Morden-Conv.-Circle.png
GEO:49.18944;-98.09399
X-APPLE-STRUCTURED-LOCATION;VALUE=URI;X-ADDRESS=Regiona Connections Morden 34 Stephen Street Morden Manitoba R6M 2G3;X-APPLE-RADIUS=500;X-TITLE=34 Stephen Street:geo:-98.09399,49.18944
END:VEVENT
BEGIN:VEVENT
DTSTART;TZID=America/Winnipeg:20270818T183000
DTEND;TZID=America/Winnipeg:20270818T193000
DTSTAMP:20260421T063528
CREATED:20260107T153319Z
LAST-MODIFIED:20260107T165425Z
UID:10012234-1818613800-1818617400@regionalconnections.ca
SUMMARY:Conversation Circle Morden
DESCRIPTION:
URL:https://regionalconnections.ca/event/conversation-circle-5/2027-08-18/
LOCATION:Regiona Connections\, Morden\, 34 Stephen Street\, Morden\, Manitoba\, R6M 2G3
ATTACH;FMTTYPE=image/png:https://regionalconnections.ca/wp-content/uploads/2026/01/Morden-Conv.-Circle.png
GEO:49.18944;-98.09399
X-APPLE-STRUCTURED-LOCATION;VALUE=URI;X-ADDRESS=Regiona Connections Morden 34 Stephen Street Morden Manitoba R6M 2G3;X-APPLE-RADIUS=500;X-TITLE=34 Stephen Street:geo:-98.09399,49.18944
END:VEVENT
BEGIN:VEVENT
DTSTART;TZID=America/Winnipeg:20270915T183000
DTEND;TZID=America/Winnipeg:20270915T193000
DTSTAMP:20260421T063528
CREATED:20260107T153319Z
LAST-MODIFIED:20260107T165425Z
UID:10012235-1821033000-1821036600@regionalconnections.ca
SUMMARY:Conversation Circle Morden
DESCRIPTION:
URL:https://regionalconnections.ca/event/conversation-circle-5/2027-09-15/
LOCATION:Regiona Connections\, Morden\, 34 Stephen Street\, Morden\, Manitoba\, R6M 2G3
ATTACH;FMTTYPE=image/png:https://regionalconnections.ca/wp-content/uploads/2026/01/Morden-Conv.-Circle.png
GEO:49.18944;-98.09399
X-APPLE-STRUCTURED-LOCATION;VALUE=URI;X-ADDRESS=Regiona Connections Morden 34 Stephen Street Morden Manitoba R6M 2G3;X-APPLE-RADIUS=500;X-TITLE=34 Stephen Street:geo:-98.09399,49.18944
END:VEVENT
BEGIN:VEVENT
DTSTART;TZID=America/Winnipeg:20271020T183000
DTEND;TZID=America/Winnipeg:20271020T193000
DTSTAMP:20260421T063528
CREATED:20260107T153319Z
LAST-MODIFIED:20260107T165425Z
UID:10012236-1824057000-1824060600@regionalconnections.ca
SUMMARY:Conversation Circle Morden
DESCRIPTION:
URL:https://regionalconnections.ca/event/conversation-circle-5/2027-10-20/
LOCATION:Regiona Connections\, Morden\, 34 Stephen Street\, Morden\, Manitoba\, R6M 2G3
ATTACH;FMTTYPE=image/png:https://regionalconnections.ca/wp-content/uploads/2026/01/Morden-Conv.-Circle.png
GEO:49.18944;-98.09399
X-APPLE-STRUCTURED-LOCATION;VALUE=URI;X-ADDRESS=Regiona Connections Morden 34 Stephen Street Morden Manitoba R6M 2G3;X-APPLE-RADIUS=500;X-TITLE=34 Stephen Street:geo:-98.09399,49.18944
END:VEVENT
BEGIN:VEVENT
DTSTART;TZID=America/Winnipeg:20271117T183000
DTEND;TZID=America/Winnipeg:20271117T193000
DTSTAMP:20260421T063528
CREATED:20260107T153319Z
LAST-MODIFIED:20260107T165425Z
UID:10012237-1826476200-1826479800@regionalconnections.ca
SUMMARY:Conversation Circle Morden
DESCRIPTION:
URL:https://regionalconnections.ca/event/conversation-circle-5/2027-11-17/
LOCATION:Regiona Connections\, Morden\, 34 Stephen Street\, Morden\, Manitoba\, R6M 2G3
ATTACH;FMTTYPE=image/png:https://regionalconnections.ca/wp-content/uploads/2026/01/Morden-Conv.-Circle.png
GEO:49.18944;-98.09399
X-APPLE-STRUCTURED-LOCATION;VALUE=URI;X-ADDRESS=Regiona Connections Morden 34 Stephen Street Morden Manitoba R6M 2G3;X-APPLE-RADIUS=500;X-TITLE=34 Stephen Street:geo:-98.09399,49.18944
END:VEVENT
BEGIN:VEVENT
DTSTART;TZID=America/Winnipeg:20271215T183000
DTEND;TZID=America/Winnipeg:20271215T193000
DTSTAMP:20260421T063528
CREATED:20260107T153319Z
LAST-MODIFIED:20260107T165425Z
UID:10012238-1828895400-1828899000@regionalconnections.ca
SUMMARY:Conversation Circle Morden
DESCRIPTION:
URL:https://regionalconnections.ca/event/conversation-circle-5/2027-12-15/
LOCATION:Regiona Connections\, Morden\, 34 Stephen Street\, Morden\, Manitoba\, R6M 2G3
ATTACH;FMTTYPE=image/png:https://regionalconnections.ca/wp-content/uploads/2026/01/Morden-Conv.-Circle.png
GEO:49.18944;-98.09399
X-APPLE-STRUCTURED-LOCATION;VALUE=URI;X-ADDRESS=Regiona Connections Morden 34 Stephen Street Morden Manitoba R6M 2G3;X-APPLE-RADIUS=500;X-TITLE=34 Stephen Street:geo:-98.09399,49.18944
END:VEVENT
BEGIN:VEVENT
DTSTART;TZID=America/Winnipeg:20280119T183000
DTEND;TZID=America/Winnipeg:20280119T193000
DTSTAMP:20260421T063528
CREATED:20260107T153319Z
LAST-MODIFIED:20260107T165425Z
UID:10012239-1831919400-1831923000@regionalconnections.ca
SUMMARY:Conversation Circle Morden
DESCRIPTION:
URL:https://regionalconnections.ca/event/conversation-circle-5/2028-01-19/
LOCATION:Regiona Connections\, Morden\, 34 Stephen Street\, Morden\, Manitoba\, R6M 2G3
ATTACH;FMTTYPE=image/png:https://regionalconnections.ca/wp-content/uploads/2026/01/Morden-Conv.-Circle.png
GEO:49.18944;-98.09399
X-APPLE-STRUCTURED-LOCATION;VALUE=URI;X-ADDRESS=Regiona Connections Morden 34 Stephen Street Morden Manitoba R6M 2G3;X-APPLE-RADIUS=500;X-TITLE=34 Stephen Street:geo:-98.09399,49.18944
END:VEVENT
BEGIN:VEVENT
DTSTART;TZID=America/Winnipeg:20280216T183000
DTEND;TZID=America/Winnipeg:20280216T193000
DTSTAMP:20260421T063528
CREATED:20260107T153319Z
LAST-MODIFIED:20260107T165425Z
UID:10012240-1834338600-1834342200@regionalconnections.ca
SUMMARY:Conversation Circle Morden
DESCRIPTION:
URL:https://regionalconnections.ca/event/conversation-circle-5/2028-02-16/
LOCATION:Regiona Connections\, Morden\, 34 Stephen Street\, Morden\, Manitoba\, R6M 2G3
ATTACH;FMTTYPE=image/png:https://regionalconnections.ca/wp-content/uploads/2026/01/Morden-Conv.-Circle.png
GEO:49.18944;-98.09399
X-APPLE-STRUCTURED-LOCATION;VALUE=URI;X-ADDRESS=Regiona Connections Morden 34 Stephen Street Morden Manitoba R6M 2G3;X-APPLE-RADIUS=500;X-TITLE=34 Stephen Street:geo:-98.09399,49.18944
END:VEVENT
BEGIN:VEVENT
DTSTART;TZID=America/Winnipeg:20280315T183000
DTEND;TZID=America/Winnipeg:20280315T193000
DTSTAMP:20260421T063528
CREATED:20260107T153319Z
LAST-MODIFIED:20260107T165425Z
UID:10012241-1836757800-1836761400@regionalconnections.ca
SUMMARY:Conversation Circle Morden
DESCRIPTION:
URL:https://regionalconnections.ca/event/conversation-circle-5/2028-03-15/
LOCATION:Regiona Connections\, Morden\, 34 Stephen Street\, Morden\, Manitoba\, R6M 2G3
ATTACH;FMTTYPE=image/png:https://regionalconnections.ca/wp-content/uploads/2026/01/Morden-Conv.-Circle.png
GEO:49.18944;-98.09399
X-APPLE-STRUCTURED-LOCATION;VALUE=URI;X-ADDRESS=Regiona Connections Morden 34 Stephen Street Morden Manitoba R6M 2G3;X-APPLE-RADIUS=500;X-TITLE=34 Stephen Street:geo:-98.09399,49.18944
END:VEVENT
BEGIN:VEVENT
DTSTART;TZID=America/Winnipeg:20280419T183000
DTEND;TZID=America/Winnipeg:20280419T193000
DTSTAMP:20260421T063528
CREATED:20260107T153319Z
LAST-MODIFIED:20260107T165425Z
UID:10012242-1839781800-1839785400@regionalconnections.ca
SUMMARY:Conversation Circle Morden
DESCRIPTION:
URL:https://regionalconnections.ca/event/conversation-circle-5/2028-04-19/
LOCATION:Regiona Connections\, Morden\, 34 Stephen Street\, Morden\, Manitoba\, R6M 2G3
ATTACH;FMTTYPE=image/png:https://regionalconnections.ca/wp-content/uploads/2026/01/Morden-Conv.-Circle.png
GEO:49.18944;-98.09399
X-APPLE-STRUCTURED-LOCATION;VALUE=URI;X-ADDRESS=Regiona Connections Morden 34 Stephen Street Morden Manitoba R6M 2G3;X-APPLE-RADIUS=500;X-TITLE=34 Stephen Street:geo:-98.09399,49.18944
END:VEVENT
BEGIN:VEVENT
DTSTART;TZID=America/Winnipeg:20280517T183000
DTEND;TZID=America/Winnipeg:20280517T193000
DTSTAMP:20260421T063528
CREATED:20260107T153319Z
LAST-MODIFIED:20260107T165425Z
UID:10012243-1842201000-1842204600@regionalconnections.ca
SUMMARY:Conversation Circle Morden
DESCRIPTION:
URL:https://regionalconnections.ca/event/conversation-circle-5/2028-05-17/
LOCATION:Regiona Connections\, Morden\, 34 Stephen Street\, Morden\, Manitoba\, R6M 2G3
ATTACH;FMTTYPE=image/png:https://regionalconnections.ca/wp-content/uploads/2026/01/Morden-Conv.-Circle.png
GEO:49.18944;-98.09399
X-APPLE-STRUCTURED-LOCATION;VALUE=URI;X-ADDRESS=Regiona Connections Morden 34 Stephen Street Morden Manitoba R6M 2G3;X-APPLE-RADIUS=500;X-TITLE=34 Stephen Street:geo:-98.09399,49.18944
END:VEVENT
BEGIN:VEVENT
DTSTART;TZID=America/Winnipeg:20280621T183000
DTEND;TZID=America/Winnipeg:20280621T193000
DTSTAMP:20260421T063528
CREATED:20260107T153319Z
LAST-MODIFIED:20260107T165425Z
UID:10012244-1845225000-1845228600@regionalconnections.ca
SUMMARY:Conversation Circle Morden
DESCRIPTION:
URL:https://regionalconnections.ca/event/conversation-circle-5/2028-06-21/
LOCATION:Regiona Connections\, Morden\, 34 Stephen Street\, Morden\, Manitoba\, R6M 2G3
ATTACH;FMTTYPE=image/png:https://regionalconnections.ca/wp-content/uploads/2026/01/Morden-Conv.-Circle.png
GEO:49.18944;-98.09399
X-APPLE-STRUCTURED-LOCATION;VALUE=URI;X-ADDRESS=Regiona Connections Morden 34 Stephen Street Morden Manitoba R6M 2G3;X-APPLE-RADIUS=500;X-TITLE=34 Stephen Street:geo:-98.09399,49.18944
END:VEVENT
BEGIN:VEVENT
DTSTART;TZID=America/Winnipeg:20280719T183000
DTEND;TZID=America/Winnipeg:20280719T193000
DTSTAMP:20260421T063528
CREATED:20260107T153319Z
LAST-MODIFIED:20260107T165425Z
UID:10012245-1847644200-1847647800@regionalconnections.ca
SUMMARY:Conversation Circle Morden
DESCRIPTION:
URL:https://regionalconnections.ca/event/conversation-circle-5/2028-07-19/
LOCATION:Regiona Connections\, Morden\, 34 Stephen Street\, Morden\, Manitoba\, R6M 2G3
ATTACH;FMTTYPE=image/png:https://regionalconnections.ca/wp-content/uploads/2026/01/Morden-Conv.-Circle.png
GEO:49.18944;-98.09399
X-APPLE-STRUCTURED-LOCATION;VALUE=URI;X-ADDRESS=Regiona Connections Morden 34 Stephen Street Morden Manitoba R6M 2G3;X-APPLE-RADIUS=500;X-TITLE=34 Stephen Street:geo:-98.09399,49.18944
END:VEVENT
BEGIN:VEVENT
DTSTART;TZID=America/Winnipeg:20280816T183000
DTEND;TZID=America/Winnipeg:20280816T193000
DTSTAMP:20260421T063528
CREATED:20260107T153319Z
LAST-MODIFIED:20260107T165425Z
UID:10012246-1850063400-1850067000@regionalconnections.ca
SUMMARY:Conversation Circle Morden
DESCRIPTION:
URL:https://regionalconnections.ca/event/conversation-circle-5/2028-08-16/
LOCATION:Regiona Connections\, Morden\, 34 Stephen Street\, Morden\, Manitoba\, R6M 2G3
ATTACH;FMTTYPE=image/png:https://regionalconnections.ca/wp-content/uploads/2026/01/Morden-Conv.-Circle.png
GEO:49.18944;-98.09399
X-APPLE-STRUCTURED-LOCATION;VALUE=URI;X-ADDRESS=Regiona Connections Morden 34 Stephen Street Morden Manitoba R6M 2G3;X-APPLE-RADIUS=500;X-TITLE=34 Stephen Street:geo:-98.09399,49.18944
END:VEVENT
BEGIN:VEVENT
DTSTART;TZID=America/Winnipeg:20280920T183000
DTEND;TZID=America/Winnipeg:20280920T193000
DTSTAMP:20260421T063528
CREATED:20260107T153319Z
LAST-MODIFIED:20260107T165425Z
UID:10012247-1853087400-1853091000@regionalconnections.ca
SUMMARY:Conversation Circle Morden
DESCRIPTION:
URL:https://regionalconnections.ca/event/conversation-circle-5/2028-09-20/
LOCATION:Regiona Connections\, Morden\, 34 Stephen Street\, Morden\, Manitoba\, R6M 2G3
ATTACH;FMTTYPE=image/png:https://regionalconnections.ca/wp-content/uploads/2026/01/Morden-Conv.-Circle.png
GEO:49.18944;-98.09399
X-APPLE-STRUCTURED-LOCATION;VALUE=URI;X-ADDRESS=Regiona Connections Morden 34 Stephen Street Morden Manitoba R6M 2G3;X-APPLE-RADIUS=500;X-TITLE=34 Stephen Street:geo:-98.09399,49.18944
END:VEVENT
BEGIN:VEVENT
DTSTART;TZID=America/Winnipeg:20281018T183000
DTEND;TZID=America/Winnipeg:20281018T193000
DTSTAMP:20260421T063528
CREATED:20260107T153319Z
LAST-MODIFIED:20260107T165425Z
UID:10012248-1855506600-1855510200@regionalconnections.ca
SUMMARY:Conversation Circle Morden
DESCRIPTION:
URL:https://regionalconnections.ca/event/conversation-circle-5/2028-10-18/
LOCATION:Regiona Connections\, Morden\, 34 Stephen Street\, Morden\, Manitoba\, R6M 2G3
ATTACH;FMTTYPE=image/png:https://regionalconnections.ca/wp-content/uploads/2026/01/Morden-Conv.-Circle.png
GEO:49.18944;-98.09399
X-APPLE-STRUCTURED-LOCATION;VALUE=URI;X-ADDRESS=Regiona Connections Morden 34 Stephen Street Morden Manitoba R6M 2G3;X-APPLE-RADIUS=500;X-TITLE=34 Stephen Street:geo:-98.09399,49.18944
END:VEVENT
BEGIN:VEVENT
DTSTART;TZID=America/Winnipeg:20281115T183000
DTEND;TZID=America/Winnipeg:20281115T193000
DTSTAMP:20260421T063528
CREATED:20260107T153319Z
LAST-MODIFIED:20260107T165425Z
UID:10012249-1857925800-1857929400@regionalconnections.ca
SUMMARY:Conversation Circle Morden
DESCRIPTION:
URL:https://regionalconnections.ca/event/conversation-circle-5/2028-11-15/
LOCATION:Regiona Connections\, Morden\, 34 Stephen Street\, Morden\, Manitoba\, R6M 2G3
ATTACH;FMTTYPE=image/png:https://regionalconnections.ca/wp-content/uploads/2026/01/Morden-Conv.-Circle.png
GEO:49.18944;-98.09399
X-APPLE-STRUCTURED-LOCATION;VALUE=URI;X-ADDRESS=Regiona Connections Morden 34 Stephen Street Morden Manitoba R6M 2G3;X-APPLE-RADIUS=500;X-TITLE=34 Stephen Street:geo:-98.09399,49.18944
END:VEVENT
BEGIN:VEVENT
DTSTART;TZID=America/Winnipeg:20281220T183000
DTEND;TZID=America/Winnipeg:20281220T193000
DTSTAMP:20260421T063528
CREATED:20260107T153319Z
LAST-MODIFIED:20260107T165425Z
UID:10012250-1860949800-1860953400@regionalconnections.ca
SUMMARY:Conversation Circle Morden
DESCRIPTION:
URL:https://regionalconnections.ca/event/conversation-circle-5/2028-12-20/
LOCATION:Regiona Connections\, Morden\, 34 Stephen Street\, Morden\, Manitoba\, R6M 2G3
ATTACH;FMTTYPE=image/png:https://regionalconnections.ca/wp-content/uploads/2026/01/Morden-Conv.-Circle.png
GEO:49.18944;-98.09399
X-APPLE-STRUCTURED-LOCATION;VALUE=URI;X-ADDRESS=Regiona Connections Morden 34 Stephen Street Morden Manitoba R6M 2G3;X-APPLE-RADIUS=500;X-TITLE=34 Stephen Street:geo:-98.09399,49.18944
END:VEVENT
BEGIN:VEVENT
DTSTART;TZID=America/Winnipeg:20290117T183000
DTEND;TZID=America/Winnipeg:20290117T193000
DTSTAMP:20260421T063528
CREATED:20260107T153319Z
LAST-MODIFIED:20260107T165425Z
UID:10012251-1863369000-1863372600@regionalconnections.ca
SUMMARY:Conversation Circle Morden
DESCRIPTION:
URL:https://regionalconnections.ca/event/conversation-circle-5/2029-01-17/
LOCATION:Regiona Connections\, Morden\, 34 Stephen Street\, Morden\, Manitoba\, R6M 2G3
ATTACH;FMTTYPE=image/png:https://regionalconnections.ca/wp-content/uploads/2026/01/Morden-Conv.-Circle.png
GEO:49.18944;-98.09399
X-APPLE-STRUCTURED-LOCATION;VALUE=URI;X-ADDRESS=Regiona Connections Morden 34 Stephen Street Morden Manitoba R6M 2G3;X-APPLE-RADIUS=500;X-TITLE=34 Stephen Street:geo:-98.09399,49.18944
END:VEVENT
BEGIN:VEVENT
DTSTART;TZID=America/Winnipeg:20290221T183000
DTEND;TZID=America/Winnipeg:20290221T193000
DTSTAMP:20260421T063528
CREATED:20260107T153319Z
LAST-MODIFIED:20260107T165425Z
UID:10012252-1866393000-1866396600@regionalconnections.ca
SUMMARY:Conversation Circle Morden
DESCRIPTION:
URL:https://regionalconnections.ca/event/conversation-circle-5/2029-02-21/
LOCATION:Regiona Connections\, Morden\, 34 Stephen Street\, Morden\, Manitoba\, R6M 2G3
ATTACH;FMTTYPE=image/png:https://regionalconnections.ca/wp-content/uploads/2026/01/Morden-Conv.-Circle.png
GEO:49.18944;-98.09399
X-APPLE-STRUCTURED-LOCATION;VALUE=URI;X-ADDRESS=Regiona Connections Morden 34 Stephen Street Morden Manitoba R6M 2G3;X-APPLE-RADIUS=500;X-TITLE=34 Stephen Street:geo:-98.09399,49.18944
END:VEVENT
BEGIN:VEVENT
DTSTART;TZID=America/Winnipeg:20290321T183000
DTEND;TZID=America/Winnipeg:20290321T193000
DTSTAMP:20260421T063528
CREATED:20260107T153319Z
LAST-MODIFIED:20260107T165425Z
UID:10012253-1868812200-1868815800@regionalconnections.ca
SUMMARY:Conversation Circle Morden
DESCRIPTION:
URL:https://regionalconnections.ca/event/conversation-circle-5/2029-03-21/
LOCATION:Regiona Connections\, Morden\, 34 Stephen Street\, Morden\, Manitoba\, R6M 2G3
ATTACH;FMTTYPE=image/png:https://regionalconnections.ca/wp-content/uploads/2026/01/Morden-Conv.-Circle.png
GEO:49.18944;-98.09399
X-APPLE-STRUCTURED-LOCATION;VALUE=URI;X-ADDRESS=Regiona Connections Morden 34 Stephen Street Morden Manitoba R6M 2G3;X-APPLE-RADIUS=500;X-TITLE=34 Stephen Street:geo:-98.09399,49.18944
END:VEVENT
BEGIN:VEVENT
DTSTART;TZID=America/Winnipeg:20290418T183000
DTEND;TZID=America/Winnipeg:20290418T193000
DTSTAMP:20260421T063528
CREATED:20260107T153319Z
LAST-MODIFIED:20260107T165425Z
UID:10012254-1871231400-1871235000@regionalconnections.ca
SUMMARY:Conversation Circle Morden
DESCRIPTION:
URL:https://regionalconnections.ca/event/conversation-circle-5/2029-04-18/
LOCATION:Regiona Connections\, Morden\, 34 Stephen Street\, Morden\, Manitoba\, R6M 2G3
ATTACH;FMTTYPE=image/png:https://regionalconnections.ca/wp-content/uploads/2026/01/Morden-Conv.-Circle.png
GEO:49.18944;-98.09399
X-APPLE-STRUCTURED-LOCATION;VALUE=URI;X-ADDRESS=Regiona Connections Morden 34 Stephen Street Morden Manitoba R6M 2G3;X-APPLE-RADIUS=500;X-TITLE=34 Stephen Street:geo:-98.09399,49.18944
END:VEVENT
BEGIN:VEVENT
DTSTART;TZID=America/Winnipeg:20290516T183000
DTEND;TZID=America/Winnipeg:20290516T193000
DTSTAMP:20260421T063528
CREATED:20260107T153319Z
LAST-MODIFIED:20260107T165425Z
UID:10012255-1873650600-1873654200@regionalconnections.ca
SUMMARY:Conversation Circle Morden
DESCRIPTION:
URL:https://regionalconnections.ca/event/conversation-circle-5/2029-05-16/
LOCATION:Regiona Connections\, Morden\, 34 Stephen Street\, Morden\, Manitoba\, R6M 2G3
ATTACH;FMTTYPE=image/png:https://regionalconnections.ca/wp-content/uploads/2026/01/Morden-Conv.-Circle.png
GEO:49.18944;-98.09399
X-APPLE-STRUCTURED-LOCATION;VALUE=URI;X-ADDRESS=Regiona Connections Morden 34 Stephen Street Morden Manitoba R6M 2G3;X-APPLE-RADIUS=500;X-TITLE=34 Stephen Street:geo:-98.09399,49.18944
END:VEVENT
BEGIN:VEVENT
DTSTART;TZID=America/Winnipeg:20290620T183000
DTEND;TZID=America/Winnipeg:20290620T193000
DTSTAMP:20260421T063528
CREATED:20260107T153319Z
LAST-MODIFIED:20260107T165425Z
UID:10012256-1876674600-1876678200@regionalconnections.ca
SUMMARY:Conversation Circle Morden
DESCRIPTION:
URL:https://regionalconnections.ca/event/conversation-circle-5/2029-06-20/
LOCATION:Regiona Connections\, Morden\, 34 Stephen Street\, Morden\, Manitoba\, R6M 2G3
ATTACH;FMTTYPE=image/png:https://regionalconnections.ca/wp-content/uploads/2026/01/Morden-Conv.-Circle.png
GEO:49.18944;-98.09399
X-APPLE-STRUCTURED-LOCATION;VALUE=URI;X-ADDRESS=Regiona Connections Morden 34 Stephen Street Morden Manitoba R6M 2G3;X-APPLE-RADIUS=500;X-TITLE=34 Stephen Street:geo:-98.09399,49.18944
END:VEVENT
BEGIN:VEVENT
DTSTART;TZID=America/Winnipeg:20290718T183000
DTEND;TZID=America/Winnipeg:20290718T193000
DTSTAMP:20260421T063528
CREATED:20260107T153319Z
LAST-MODIFIED:20260107T165425Z
UID:10012257-1879093800-1879097400@regionalconnections.ca
SUMMARY:Conversation Circle Morden
DESCRIPTION:
URL:https://regionalconnections.ca/event/conversation-circle-5/2029-07-18/
LOCATION:Regiona Connections\, Morden\, 34 Stephen Street\, Morden\, Manitoba\, R6M 2G3
ATTACH;FMTTYPE=image/png:https://regionalconnections.ca/wp-content/uploads/2026/01/Morden-Conv.-Circle.png
GEO:49.18944;-98.09399
X-APPLE-STRUCTURED-LOCATION;VALUE=URI;X-ADDRESS=Regiona Connections Morden 34 Stephen Street Morden Manitoba R6M 2G3;X-APPLE-RADIUS=500;X-TITLE=34 Stephen Street:geo:-98.09399,49.18944
END:VEVENT
BEGIN:VEVENT
DTSTART;TZID=America/Winnipeg:20290815T183000
DTEND;TZID=America/Winnipeg:20290815T193000
DTSTAMP:20260421T063528
CREATED:20260107T153319Z
LAST-MODIFIED:20260107T165425Z
UID:10012258-1881513000-1881516600@regionalconnections.ca
SUMMARY:Conversation Circle Morden
DESCRIPTION:
URL:https://regionalconnections.ca/event/conversation-circle-5/2029-08-15/
LOCATION:Regiona Connections\, Morden\, 34 Stephen Street\, Morden\, Manitoba\, R6M 2G3
ATTACH;FMTTYPE=image/png:https://regionalconnections.ca/wp-content/uploads/2026/01/Morden-Conv.-Circle.png
GEO:49.18944;-98.09399
X-APPLE-STRUCTURED-LOCATION;VALUE=URI;X-ADDRESS=Regiona Connections Morden 34 Stephen Street Morden Manitoba R6M 2G3;X-APPLE-RADIUS=500;X-TITLE=34 Stephen Street:geo:-98.09399,49.18944
END:VEVENT
BEGIN:VEVENT
DTSTART;TZID=America/Winnipeg:20290919T183000
DTEND;TZID=America/Winnipeg:20290919T193000
DTSTAMP:20260421T063528
CREATED:20260107T153319Z
LAST-MODIFIED:20260107T165425Z
UID:10012259-1884537000-1884540600@regionalconnections.ca
SUMMARY:Conversation Circle Morden
DESCRIPTION:
URL:https://regionalconnections.ca/event/conversation-circle-5/2029-09-19/
LOCATION:Regiona Connections\, Morden\, 34 Stephen Street\, Morden\, Manitoba\, R6M 2G3
ATTACH;FMTTYPE=image/png:https://regionalconnections.ca/wp-content/uploads/2026/01/Morden-Conv.-Circle.png
GEO:49.18944;-98.09399
X-APPLE-STRUCTURED-LOCATION;VALUE=URI;X-ADDRESS=Regiona Connections Morden 34 Stephen Street Morden Manitoba R6M 2G3;X-APPLE-RADIUS=500;X-TITLE=34 Stephen Street:geo:-98.09399,49.18944
END:VEVENT
BEGIN:VEVENT
DTSTART;TZID=America/Winnipeg:20291017T183000
DTEND;TZID=America/Winnipeg:20291017T193000
DTSTAMP:20260421T063528
CREATED:20260107T153319Z
LAST-MODIFIED:20260107T165425Z
UID:10012260-1886956200-1886959800@regionalconnections.ca
SUMMARY:Conversation Circle Morden
DESCRIPTION:
URL:https://regionalconnections.ca/event/conversation-circle-5/2029-10-17/
LOCATION:Regiona Connections\, Morden\, 34 Stephen Street\, Morden\, Manitoba\, R6M 2G3
ATTACH;FMTTYPE=image/png:https://regionalconnections.ca/wp-content/uploads/2026/01/Morden-Conv.-Circle.png
GEO:49.18944;-98.09399
X-APPLE-STRUCTURED-LOCATION;VALUE=URI;X-ADDRESS=Regiona Connections Morden 34 Stephen Street Morden Manitoba R6M 2G3;X-APPLE-RADIUS=500;X-TITLE=34 Stephen Street:geo:-98.09399,49.18944
END:VEVENT
END:VCALENDAR