BEGIN:VCALENDAR
VERSION:2.0
PRODID:-//Regional Connections - ECPv6.15.18//NONSGML v1.0//EN
CALSCALE:GREGORIAN
METHOD:PUBLISH
X-ORIGINAL-URL:https://regionalconnections.ca
X-WR-CALDESC:Events for Regional Connections
REFRESH-INTERVAL;VALUE=DURATION:PT1H
X-Robots-Tag:noindex
X-PUBLISHED-TTL:PT1H
BEGIN:VTIMEZONE
TZID:America/Winnipeg
BEGIN:DAYLIGHT
TZOFFSETFROM:-0600
TZOFFSETTO:-0500
TZNAME:CDT
DTSTART:20180311T080000
END:DAYLIGHT
BEGIN:STANDARD
TZOFFSETFROM:-0500
TZOFFSETTO:-0600
TZNAME:CST
DTSTART:20181104T070000
END:STANDARD
BEGIN:DAYLIGHT
TZOFFSETFROM:-0600
TZOFFSETTO:-0500
TZNAME:CDT
DTSTART:20190310T080000
END:DAYLIGHT
BEGIN:STANDARD
TZOFFSETFROM:-0500
TZOFFSETTO:-0600
TZNAME:CST
DTSTART:20191103T070000
END:STANDARD
BEGIN:DAYLIGHT
TZOFFSETFROM:-0600
TZOFFSETTO:-0500
TZNAME:CDT
DTSTART:20200308T080000
END:DAYLIGHT
BEGIN:STANDARD
TZOFFSETFROM:-0500
TZOFFSETTO:-0600
TZNAME:CST
DTSTART:20201101T070000
END:STANDARD
BEGIN:DAYLIGHT
TZOFFSETFROM:-0600
TZOFFSETTO:-0500
TZNAME:CDT
DTSTART:20210314T080000
END:DAYLIGHT
BEGIN:STANDARD
TZOFFSETFROM:-0500
TZOFFSETTO:-0600
TZNAME:CST
DTSTART:20211107T070000
END:STANDARD
BEGIN:DAYLIGHT
TZOFFSETFROM:-0600
TZOFFSETTO:-0500
TZNAME:CDT
DTSTART:20220313T080000
END:DAYLIGHT
BEGIN:STANDARD
TZOFFSETFROM:-0500
TZOFFSETTO:-0600
TZNAME:CST
DTSTART:20221106T070000
END:STANDARD
BEGIN:DAYLIGHT
TZOFFSETFROM:-0600
TZOFFSETTO:-0500
TZNAME:CDT
DTSTART:20230312T080000
END:DAYLIGHT
BEGIN:STANDARD
TZOFFSETFROM:-0500
TZOFFSETTO:-0600
TZNAME:CST
DTSTART:20231105T070000
END:STANDARD
BEGIN:DAYLIGHT
TZOFFSETFROM:-0600
TZOFFSETTO:-0500
TZNAME:CDT
DTSTART:20240310T080000
END:DAYLIGHT
BEGIN:STANDARD
TZOFFSETFROM:-0500
TZOFFSETTO:-0600
TZNAME:CST
DTSTART:20241103T070000
END:STANDARD
BEGIN:DAYLIGHT
TZOFFSETFROM:-0600
TZOFFSETTO:-0500
TZNAME:CDT
DTSTART:20250309T080000
END:DAYLIGHT
BEGIN:STANDARD
TZOFFSETFROM:-0500
TZOFFSETTO:-0600
TZNAME:CST
DTSTART:20251102T070000
END:STANDARD
BEGIN:DAYLIGHT
TZOFFSETFROM:-0600
TZOFFSETTO:-0500
TZNAME:CDT
DTSTART:20260308T080000
END:DAYLIGHT
BEGIN:STANDARD
TZOFFSETFROM:-0500
TZOFFSETTO:-0600
TZNAME:CST
DTSTART:20261101T070000
END:STANDARD
BEGIN:DAYLIGHT
TZOFFSETFROM:-0600
TZOFFSETTO:-0500
TZNAME:CDT
DTSTART:20270314T080000
END:DAYLIGHT
BEGIN:STANDARD
TZOFFSETFROM:-0500
TZOFFSETTO:-0600
TZNAME:CST
DTSTART:20271107T070000
END:STANDARD
END:VTIMEZONE
BEGIN:VEVENT
DTSTART;TZID=America/Winnipeg:20260311T183000
DTEND;TZID=America/Winnipeg:20260311T193000
DTSTAMP:20260423T052100
CREATED:20260303T164059Z
LAST-MODIFIED:20260303T164349Z
UID:10014170-1773253800-1773257400@regionalconnections.ca
SUMMARY:International Women’s Day: Bloom together
DESCRIPTION:Join us for a special International Women’s Day celebration where we come together to paint\, connect\, and celebrate the strength of women in our community. Like flowers\, we all bloom in our own way.
URL:https://regionalconnections.ca/event/international-womens-day-bloom-together/
LOCATION:Regional Connections\, Altona\, 67 2nd Street NE\, Altona\, Manitoba\, R0G 0B1\, Canada
ATTACH;FMTTYPE=image/jpeg:https://regionalconnections.ca/wp-content/uploads/2026/03/International-Womens-Day.jpg
GEO:49.10538;-97.55604
X-APPLE-STRUCTURED-LOCATION;VALUE=URI;X-ADDRESS=Regional Connections Altona 67 2nd Street NE Altona Manitoba R0G 0B1 Canada;X-APPLE-RADIUS=500;X-TITLE=67 2nd Street NE:geo:-97.55604,49.10538
END:VEVENT
BEGIN:VEVENT
DTSTART;TZID=America/Winnipeg:20241121T103000
DTEND;TZID=America/Winnipeg:20241121T160000
DTSTAMP:20260423T052100
CREATED:20241101T194956Z
LAST-MODIFIED:20241101T194956Z
UID:10009268-1732185000-1732204800@regionalconnections.ca
SUMMARY:Career Exploration Day: Inside Altona's In-Demand Industries
DESCRIPTION:REGISTER AT THIS LINK:\nhttps://us10.list-manage.com/survey?u=be01328ebfdc1edeeb6f0116b&id=c94b6f8b13&attribution=false\nOTHER WAYS TO REGISTER:\nEMAIL: RCEMPLOYMENT@REGIONALCONNECTIONS.CA\nCALL: 204 325 4059
URL:https://regionalconnections.ca/event/career-exploration-day-inside-altonas-in-demand-industries/
LOCATION:Regional Connections\, Altona\, 67 2nd Street NE\, Altona\, Manitoba\, R0G 0B1\, Canada
ATTACH;FMTTYPE=image/jpeg:https://regionalconnections.ca/wp-content/uploads/2024/11/9.jpg
GEO:49.10538;-97.55604
X-APPLE-STRUCTURED-LOCATION;VALUE=URI;X-ADDRESS=Regional Connections Altona 67 2nd Street NE Altona Manitoba R0G 0B1 Canada;X-APPLE-RADIUS=500;X-TITLE=67 2nd Street NE:geo:-97.55604,49.10538
END:VEVENT
BEGIN:VEVENT
DTSTART;TZID=America/Winnipeg:20220823T083000
DTEND;TZID=America/Winnipeg:20220823T163000
DTSTAMP:20260423T052100
CREATED:20220719T134425Z
LAST-MODIFIED:20220719T135203Z
UID:10005453-1661243400-1661272200@regionalconnections.ca
SUMMARY:English Class Registration
DESCRIPTION:
URL:https://regionalconnections.ca/event/english-class-registration-2/
LOCATION:Regional Connections\, Altona\, 67 2nd Street NE\, Altona\, Manitoba\, R0G 0B1\, Canada
GEO:49.10538;-97.55604
X-APPLE-STRUCTURED-LOCATION;VALUE=URI;X-ADDRESS=Regional Connections Altona 67 2nd Street NE Altona Manitoba R0G 0B1 Canada;X-APPLE-RADIUS=500;X-TITLE=67 2nd Street NE:geo:-97.55604,49.10538
END:VEVENT
BEGIN:VEVENT
DTSTART;TZID=America/Winnipeg:20220720T060000
DTEND;TZID=America/Winnipeg:20220720T190000
DTSTAMP:20260423T052100
CREATED:20220627T191042Z
LAST-MODIFIED:20220627T191042Z
UID:10005426-1658296800-1658343600@regionalconnections.ca
SUMMARY:Men's Conversation Group - Altona
DESCRIPTION:
URL:https://regionalconnections.ca/event/mens-conversation-group-altona-2/
LOCATION:Regional Connections\, Altona\, 67 2nd Street NE\, Altona\, Manitoba\, R0G 0B1\, Canada
ATTACH;FMTTYPE=image/png:https://regionalconnections.ca/wp-content/uploads/2022/06/Mens-Conversation-Group-Altona-1.png
GEO:49.10538;-97.55604
X-APPLE-STRUCTURED-LOCATION;VALUE=URI;X-ADDRESS=Regional Connections Altona 67 2nd Street NE Altona Manitoba R0G 0B1 Canada;X-APPLE-RADIUS=500;X-TITLE=67 2nd Street NE:geo:-97.55604,49.10538
END:VEVENT
BEGIN:VEVENT
DTSTART;TZID=America/Winnipeg:20201021T170000
DTEND;TZID=America/Winnipeg:20201021T170000
DTSTAMP:20260423T052100
CREATED:20201013T150437Z
LAST-MODIFIED:20201013T150437Z
UID:10007631-1603299600-1603299600@regionalconnections.ca
SUMMARY:Altona (Online)- Welcome To Canada Info Event
DESCRIPTION:
URL:https://regionalconnections.ca/event/altona-online-welcome-to-canada-info-event/
LOCATION:Regional Connections\, Altona\, 67 2nd Street NE\, Altona\, Manitoba\, R0G 0B1\, Canada
ATTACH;FMTTYPE=image/jpeg:https://regionalconnections.ca/wp-content/uploads/2020/10/Welcome-To-Canada-1.jpg
GEO:49.10538;-97.55604
X-APPLE-STRUCTURED-LOCATION;VALUE=URI;X-ADDRESS=Regional Connections Altona 67 2nd Street NE Altona Manitoba R0G 0B1 Canada;X-APPLE-RADIUS=500;X-TITLE=67 2nd Street NE:geo:-97.55604,49.10538
END:VEVENT
BEGIN:VEVENT
DTSTART;TZID=America/Winnipeg:20201019T190000
DTEND;TZID=America/Winnipeg:20201019T190000
DTSTAMP:20260423T052100
CREATED:20201009T162643Z
LAST-MODIFIED:20201009T162643Z
UID:10005009-1603134000-1603134000@regionalconnections.ca
SUMMARY:Altona (Online) - Financial Literacy Series\, Credit Cards & Prepaid Cards
DESCRIPTION:
URL:https://regionalconnections.ca/event/altona-online-financial-literacy-series-credit-cards-prepaid-cards/
LOCATION:Regional Connections\, Altona\, 67 2nd Street NE\, Altona\, Manitoba\, R0G 0B1\, Canada
ATTACH;FMTTYPE=image/png:https://regionalconnections.ca/wp-content/uploads/2020/10/Credit-Cards-Prepaid-Cards.png
GEO:49.10538;-97.55604
X-APPLE-STRUCTURED-LOCATION;VALUE=URI;X-ADDRESS=Regional Connections Altona 67 2nd Street NE Altona Manitoba R0G 0B1 Canada;X-APPLE-RADIUS=500;X-TITLE=67 2nd Street NE:geo:-97.55604,49.10538
END:VEVENT
BEGIN:VEVENT
DTSTART;TZID=America/Winnipeg:20201006T163000
DTEND;TZID=America/Winnipeg:20201006T183000
DTSTAMP:20260423T052100
CREATED:20200901T194827Z
LAST-MODIFIED:20200901T194839Z
UID:10004991-1602001800-1602009000@regionalconnections.ca
SUMMARY:Altona (Online) – Online Job Fair
DESCRIPTION:
URL:https://regionalconnections.ca/event/altona-online-online-job-fair/
LOCATION:Regional Connections\, Altona\, 67 2nd Street NE\, Altona\, Manitoba\, R0G 0B1\, Canada
ATTACH;FMTTYPE=image/jpeg:https://regionalconnections.ca/wp-content/uploads/2020/09/RC-Online-Job-Fair.jpeg
GEO:49.10538;-97.55604
X-APPLE-STRUCTURED-LOCATION;VALUE=URI;X-ADDRESS=Regional Connections Altona 67 2nd Street NE Altona Manitoba R0G 0B1 Canada;X-APPLE-RADIUS=500;X-TITLE=67 2nd Street NE:geo:-97.55604,49.10538
END:VEVENT
BEGIN:VEVENT
DTSTART;TZID=America/Winnipeg:20200818T090000
DTEND;TZID=America/Winnipeg:20200818T160000
DTSTAMP:20260423T052100
CREATED:20200813T194100Z
LAST-MODIFIED:20200813T194414Z
UID:10007614-1597741200-1597766400@regionalconnections.ca
SUMMARY:Altona - English Class Registration
DESCRIPTION:
URL:https://regionalconnections.ca/event/altona-english-class-registration-by-appointment/
LOCATION:Regional Connections\, Altona\, 67 2nd Street NE\, Altona\, Manitoba\, R0G 0B1\, Canada
ATTACH;FMTTYPE=image/jpeg:https://regionalconnections.ca/wp-content/uploads/2020/08/1-1.jpg
GEO:49.10538;-97.55604
X-APPLE-STRUCTURED-LOCATION;VALUE=URI;X-ADDRESS=Regional Connections Altona 67 2nd Street NE Altona Manitoba R0G 0B1 Canada;X-APPLE-RADIUS=500;X-TITLE=67 2nd Street NE:geo:-97.55604,49.10538
END:VEVENT
BEGIN:VEVENT
DTSTART;TZID=America/Winnipeg:20200813T190000
DTEND;TZID=America/Winnipeg:20200813T200000
DTSTAMP:20260423T052100
CREATED:20200728T142032Z
LAST-MODIFIED:20200807T153542Z
UID:10004960-1597345200-1597348800@regionalconnections.ca
SUMMARY:Altona - Wills and Estate Planning Information Session
DESCRIPTION:
URL:https://regionalconnections.ca/event/altona-wills-and-estate-planning-information-session-2/
LOCATION:Regional Connections\, Altona\, 67 2nd Street NE\, Altona\, Manitoba\, R0G 0B1\, Canada
ATTACH;FMTTYPE=image/png:https://regionalconnections.ca/wp-content/uploads/2020/07/Wills-and-Estate-Planning-Altona-2020.png
GEO:49.10538;-97.55604
X-APPLE-STRUCTURED-LOCATION;VALUE=URI;X-ADDRESS=Regional Connections Altona 67 2nd Street NE Altona Manitoba R0G 0B1 Canada;X-APPLE-RADIUS=500;X-TITLE=67 2nd Street NE:geo:-97.55604,49.10538
END:VEVENT
BEGIN:VEVENT
DTSTART;TZID=America/Winnipeg:20200813T140000
DTEND;TZID=America/Winnipeg:20200813T150000
DTSTAMP:20260423T052100
CREATED:20200728T141949Z
LAST-MODIFIED:20200807T153330Z
UID:10004959-1597327200-1597330800@regionalconnections.ca
SUMMARY:Altona - Wills and Estate Planning Information Session
DESCRIPTION:
URL:https://regionalconnections.ca/event/altona-wills-and-estate-planning-information-session/
LOCATION:Regional Connections\, Altona\, 67 2nd Street NE\, Altona\, Manitoba\, R0G 0B1\, Canada
ATTACH;FMTTYPE=image/png:https://regionalconnections.ca/wp-content/uploads/2020/07/Wills-and-Estate-Planning-Altona-2020.png
GEO:49.10538;-97.55604
X-APPLE-STRUCTURED-LOCATION;VALUE=URI;X-ADDRESS=Regional Connections Altona 67 2nd Street NE Altona Manitoba R0G 0B1 Canada;X-APPLE-RADIUS=500;X-TITLE=67 2nd Street NE:geo:-97.55604,49.10538
END:VEVENT
BEGIN:VEVENT
DTSTART;TZID=America/Winnipeg:20200730T190000
DTEND;TZID=America/Winnipeg:20200730T200000
DTSTAMP:20260423T052100
CREATED:20200724T160036Z
LAST-MODIFIED:20200724T160036Z
UID:10004936-1596135600-1596139200@regionalconnections.ca
SUMMARY:Altona - Basic Banking in Canada Information Session
DESCRIPTION:
URL:https://regionalconnections.ca/event/altona-basic-banking-in-canada-information-session-2/
LOCATION:Regional Connections\, Altona\, 67 2nd Street NE\, Altona\, Manitoba\, R0G 0B1\, Canada
ATTACH;FMTTYPE=image/png:https://regionalconnections.ca/wp-content/uploads/2020/07/Basic-Banking-in-Canada-July-30th-2020-1.png
GEO:49.10538;-97.55604
X-APPLE-STRUCTURED-LOCATION;VALUE=URI;X-ADDRESS=Regional Connections Altona 67 2nd Street NE Altona Manitoba R0G 0B1 Canada;X-APPLE-RADIUS=500;X-TITLE=67 2nd Street NE:geo:-97.55604,49.10538
END:VEVENT
BEGIN:VEVENT
DTSTART;TZID=America/Winnipeg:20200727T183000
DTEND;TZID=America/Winnipeg:20200727T183000
DTSTAMP:20260423T052100
CREATED:20200707T141202Z
LAST-MODIFIED:20200723T134209Z
UID:10007589-1595874600-1595874600@regionalconnections.ca
SUMMARY:Online - Employment Webinar
DESCRIPTION:
URL:https://regionalconnections.ca/event/altona-online-employment-webinar/
LOCATION:Regional Connections\, Altona\, 67 2nd Street NE\, Altona\, Manitoba\, R0G 0B1\, Canada
ATTACH;FMTTYPE=image/jpeg:https://regionalconnections.ca/wp-content/uploads/2020/07/employment-resume-writing-webinar.jpg
GEO:49.10538;-97.55604
X-APPLE-STRUCTURED-LOCATION;VALUE=URI;X-ADDRESS=Regional Connections Altona 67 2nd Street NE Altona Manitoba R0G 0B1 Canada;X-APPLE-RADIUS=500;X-TITLE=67 2nd Street NE:geo:-97.55604,49.10538
END:VEVENT
BEGIN:VEVENT
DTSTART;TZID=America/Winnipeg:20200720T190000
DTEND;TZID=America/Winnipeg:20200720T203000
DTSTAMP:20260423T052100
CREATED:20200710T140314Z
LAST-MODIFIED:20200710T140314Z
UID:10007592-1595271600-1595277000@regionalconnections.ca
SUMMARY:Altona - Basic Banking in Canada Information Session
DESCRIPTION:
URL:https://regionalconnections.ca/event/altona-basic-banking-in-canada-information-session/
LOCATION:Regional Connections\, Altona\, 67 2nd Street NE\, Altona\, Manitoba\, R0G 0B1\, Canada
ATTACH;FMTTYPE=image/jpeg:https://regionalconnections.ca/wp-content/uploads/2020/07/107497032_1423843671133245_1585070392191305603_o.jpg
GEO:49.10538;-97.55604
X-APPLE-STRUCTURED-LOCATION;VALUE=URI;X-ADDRESS=Regional Connections Altona 67 2nd Street NE Altona Manitoba R0G 0B1 Canada;X-APPLE-RADIUS=500;X-TITLE=67 2nd Street NE:geo:-97.55604,49.10538
END:VEVENT
BEGIN:VEVENT
DTSTART;TZID=America/Winnipeg:20200708T100000
DTEND;TZID=America/Winnipeg:20200708T120000
DTSTAMP:20260423T052100
CREATED:20200630T202242Z
LAST-MODIFIED:20200630T202242Z
UID:10004932-1594202400-1594209600@regionalconnections.ca
SUMMARY:Altona (online and in-person) – Canadian Tax Benefit Information Session
DESCRIPTION:
URL:https://regionalconnections.ca/event/altona-online-and-in-person-canadian-tax-benefit-information-session/
LOCATION:Regional Connections\, Altona\, 67 2nd Street NE\, Altona\, Manitoba\, R0G 0B1\, Canada
ATTACH;FMTTYPE=image/png:https://regionalconnections.ca/wp-content/uploads/2020/06/Tax-Benefit-Information-Session.png
GEO:49.10538;-97.55604
X-APPLE-STRUCTURED-LOCATION;VALUE=URI;X-ADDRESS=Regional Connections Altona 67 2nd Street NE Altona Manitoba R0G 0B1 Canada;X-APPLE-RADIUS=500;X-TITLE=67 2nd Street NE:geo:-97.55604,49.10538
END:VEVENT
BEGIN:VEVENT
DTSTART;TZID=America/Winnipeg:20200707T150000
DTEND;TZID=America/Winnipeg:20200707T170000
DTSTAMP:20260423T052100
CREATED:20200630T201748Z
LAST-MODIFIED:20200630T201920Z
UID:10004931-1594134000-1594141200@regionalconnections.ca
SUMMARY:Altona (online and in-person) - Canadian Tax Benefit Information Session
DESCRIPTION:
URL:https://regionalconnections.ca/event/pembina-valley-dauphin-online-and-in-person-canadian-tax-benefit-information-session-2/
LOCATION:Regional Connections\, Altona\, 67 2nd Street NE\, Altona\, Manitoba\, R0G 0B1\, Canada
ATTACH;FMTTYPE=image/png:https://regionalconnections.ca/wp-content/uploads/2020/06/Tax-Benefit-Information-Session.png
GEO:49.10538;-97.55604
X-APPLE-STRUCTURED-LOCATION;VALUE=URI;X-ADDRESS=Regional Connections Altona 67 2nd Street NE Altona Manitoba R0G 0B1 Canada;X-APPLE-RADIUS=500;X-TITLE=67 2nd Street NE:geo:-97.55604,49.10538
END:VEVENT
BEGIN:VEVENT
DTSTART;TZID=America/Winnipeg:20191112T190000
DTEND;TZID=America/Winnipeg:20191112T200000
DTSTAMP:20260423T052100
CREATED:20191023T141440Z
LAST-MODIFIED:20191023T141440Z
UID:10007512-1573585200-1573588800@regionalconnections.ca
SUMMARY:Report Card & "Student - Led Conference" Information Session - Altona
DESCRIPTION:Did you know that your child will receive 3 report cards this school year? Do you have questions about “Student – Led Conferences?” \nInformation will be provided for parents of students who are in Kindergarten to Grade 12.
URL:https://regionalconnections.ca/event/report-card-student-led-conference-information-session-altona/2019-11-12/
LOCATION:Regional Connections\, Altona\, 67 2nd Street NE\, Altona\, Manitoba\, R0G 0B1\, Canada
ATTACH;FMTTYPE=image/png:https://regionalconnections.ca/wp-content/uploads/2019/10/Report-Card-and-Student-Led-Conference-Altona.png
GEO:49.10538;-97.55604
X-APPLE-STRUCTURED-LOCATION;VALUE=URI;X-ADDRESS=Regional Connections Altona 67 2nd Street NE Altona Manitoba R0G 0B1 Canada;X-APPLE-RADIUS=500;X-TITLE=67 2nd Street NE:geo:-97.55604,49.10538
END:VEVENT
END:VCALENDAR