BEGIN:VCALENDAR
VERSION:2.0
PRODID:-//Regional Connections - ECPv6.15.18//NONSGML v1.0//EN
CALSCALE:GREGORIAN
METHOD:PUBLISH
X-ORIGINAL-URL:https://regionalconnections.ca
X-WR-CALDESC:Events for Regional Connections
REFRESH-INTERVAL;VALUE=DURATION:PT1H
X-Robots-Tag:noindex
X-PUBLISHED-TTL:PT1H
BEGIN:VTIMEZONE
TZID:America/Winnipeg
BEGIN:DAYLIGHT
TZOFFSETFROM:-0600
TZOFFSETTO:-0500
TZNAME:CDT
DTSTART:20210314T080000
END:DAYLIGHT
BEGIN:STANDARD
TZOFFSETFROM:-0500
TZOFFSETTO:-0600
TZNAME:CST
DTSTART:20211107T070000
END:STANDARD
BEGIN:DAYLIGHT
TZOFFSETFROM:-0600
TZOFFSETTO:-0500
TZNAME:CDT
DTSTART:20220313T080000
END:DAYLIGHT
BEGIN:STANDARD
TZOFFSETFROM:-0500
TZOFFSETTO:-0600
TZNAME:CST
DTSTART:20221106T070000
END:STANDARD
BEGIN:DAYLIGHT
TZOFFSETFROM:-0600
TZOFFSETTO:-0500
TZNAME:CDT
DTSTART:20230312T080000
END:DAYLIGHT
BEGIN:STANDARD
TZOFFSETFROM:-0500
TZOFFSETTO:-0600
TZNAME:CST
DTSTART:20231105T070000
END:STANDARD
BEGIN:DAYLIGHT
TZOFFSETFROM:-0600
TZOFFSETTO:-0500
TZNAME:CDT
DTSTART:20240310T080000
END:DAYLIGHT
BEGIN:STANDARD
TZOFFSETFROM:-0500
TZOFFSETTO:-0600
TZNAME:CST
DTSTART:20241103T070000
END:STANDARD
BEGIN:DAYLIGHT
TZOFFSETFROM:-0600
TZOFFSETTO:-0500
TZNAME:CDT
DTSTART:20250309T080000
END:DAYLIGHT
BEGIN:STANDARD
TZOFFSETFROM:-0500
TZOFFSETTO:-0600
TZNAME:CST
DTSTART:20251102T070000
END:STANDARD
BEGIN:DAYLIGHT
TZOFFSETFROM:-0600
TZOFFSETTO:-0500
TZNAME:CDT
DTSTART:20260308T080000
END:DAYLIGHT
BEGIN:STANDARD
TZOFFSETFROM:-0500
TZOFFSETTO:-0600
TZNAME:CST
DTSTART:20261101T070000
END:STANDARD
END:VTIMEZONE
BEGIN:VEVENT
DTSTART;TZID=America/Winnipeg:20250814T100000
DTEND;TZID=America/Winnipeg:20250814T180000
DTSTAMP:20260421T192802
CREATED:20250711T185937Z
LAST-MODIFIED:20250711T191801Z
UID:10010213-1755165600-1755194400@regionalconnections.ca
SUMMARY:English Class Registration Dauphin
DESCRIPTION:
URL:https://regionalconnections.ca/event/english-class-registration-5/
LOCATION:Regional Connections Dauphin\, 30 1st Avenue NE\, Dauphin\, Manitoba\, R7N 1A4\, Canada
END:VEVENT
BEGIN:VEVENT
DTSTART;TZID=America/Winnipeg:20230528T130000
DTEND;TZID=America/Winnipeg:20230528T150000
DTSTAMP:20260421T192802
CREATED:20230505T191319Z
LAST-MODIFIED:20230505T191319Z
UID:10005703-1685278800-1685286000@regionalconnections.ca
SUMMARY:Dauphin - Baking Conversation for Women
DESCRIPTION:
URL:https://regionalconnections.ca/event/dauphin-baking-conversation-for-women-4/
LOCATION:Regional Connections Dauphin\, 30 1st Avenue NE\, Dauphin\, Manitoba\, R7N 1A4\, Canada
ATTACH;FMTTYPE=image/png:https://regionalconnections.ca/wp-content/uploads/2023/05/Dauphin-Baking-Session-4.png
END:VEVENT
BEGIN:VEVENT
DTSTART;TZID=America/Winnipeg:20230525T130000
DTEND;TZID=America/Winnipeg:20230525T140000
DTSTAMP:20260421T192802
CREATED:20230505T192546Z
LAST-MODIFIED:20230505T192546Z
UID:10005705-1685019600-1685023200@regionalconnections.ca
SUMMARY:Dauphin - Education in Manitoba
DESCRIPTION:
URL:https://regionalconnections.ca/event/dauphin-education-in-manitoba/
LOCATION:Regional Connections Dauphin\, 30 1st Avenue NE\, Dauphin\, Manitoba\, R7N 1A4\, Canada
ATTACH;FMTTYPE=image/png:https://regionalconnections.ca/wp-content/uploads/2023/05/IRCC.png
END:VEVENT
BEGIN:VEVENT
DTSTART;TZID=America/Winnipeg:20230523T060000
DTEND;TZID=America/Winnipeg:20230523T193000
DTSTAMP:20260421T192802
CREATED:20230505T191737Z
LAST-MODIFIED:20230505T191737Z
UID:10005704-1684821600-1684870200@regionalconnections.ca
SUMMARY:Dauphin - Get to know Dauphin
DESCRIPTION:
URL:https://regionalconnections.ca/event/dauphin-get-to-know-dauphin/
LOCATION:Regional Connections Dauphin\, 30 1st Avenue NE\, Dauphin\, Manitoba\, R7N 1A4\, Canada
ATTACH;FMTTYPE=image/png:https://regionalconnections.ca/wp-content/uploads/2023/05/Get-to-know-Dauphin-5-22.png
END:VEVENT
BEGIN:VEVENT
DTSTART;TZID=America/Winnipeg:20230511T130000
DTEND;TZID=America/Winnipeg:20230511T140000
DTSTAMP:20260421T192802
CREATED:20230505T192850Z
LAST-MODIFIED:20230505T192850Z
UID:10005706-1683810000-1683813600@regionalconnections.ca
SUMMARY:Dauphin - Banking in Canada
DESCRIPTION:
URL:https://regionalconnections.ca/event/dauphin-banking-in-canada/
LOCATION:Regional Connections Dauphin\, 30 1st Avenue NE\, Dauphin\, Manitoba\, R7N 1A4\, Canada
ATTACH;FMTTYPE=image/png:https://regionalconnections.ca/wp-content/uploads/2023/05/IRCC-1.png
END:VEVENT
BEGIN:VEVENT
DTSTART;TZID=America/Winnipeg:20230508T180000
DTEND;TZID=America/Winnipeg:20230508T190000
DTSTAMP:20260421T192802
CREATED:20230505T190511Z
LAST-MODIFIED:20230505T190511Z
UID:10005702-1683568800-1683572400@regionalconnections.ca
SUMMARY:Dauphin -SWIS -Healthy Lunches for school and for work
DESCRIPTION:
URL:https://regionalconnections.ca/event/dauphin-swis-healthy-lunches-for-school-and-for-work/
LOCATION:Regional Connections Dauphin\, 30 1st Avenue NE\, Dauphin\, Manitoba\, R7N 1A4\, Canada
ATTACH;FMTTYPE=image/png:https://regionalconnections.ca/wp-content/uploads/2023/05/brown-and-orange-healthy-food-instagram-post-8.4-×-11-in.png
END:VEVENT
BEGIN:VEVENT
DTSTART;TZID=America/Winnipeg:20230416T130000
DTEND;TZID=America/Winnipeg:20230416T150000
DTSTAMP:20260421T192802
CREATED:20230320T212422Z
LAST-MODIFIED:20230320T212422Z
UID:10008428-1681650000-1681657200@regionalconnections.ca
SUMMARY:Dauphin - Baking Conversation for Women
DESCRIPTION:
URL:https://regionalconnections.ca/event/dauphin-baking-conversation-for-women-3/
LOCATION:Regional Connections Dauphin\, 30 1st Avenue NE\, Dauphin\, Manitoba\, R7N 1A4\, Canada
ATTACH;FMTTYPE=image/png:https://regionalconnections.ca/wp-content/uploads/2023/03/Dauphin-Baking-Session-4.png
END:VEVENT
BEGIN:VEVENT
DTSTART;TZID=America/Winnipeg:20230404T180000
DTEND;TZID=America/Winnipeg:20230404T193000
DTSTAMP:20260421T192802
CREATED:20230320T212128Z
LAST-MODIFIED:20230320T212128Z
UID:10008427-1680631200-1680636600@regionalconnections.ca
SUMMARY:Dauphin- By Law info session
DESCRIPTION:
URL:https://regionalconnections.ca/event/dauphin-by-law-info-session/
LOCATION:Regional Connections Dauphin\, 30 1st Avenue NE\, Dauphin\, Manitoba\, R7N 1A4\, Canada
ATTACH;FMTTYPE=image/png:https://regionalconnections.ca/wp-content/uploads/2023/03/Dauphin-By-Law-Info-Session-4.png
END:VEVENT
BEGIN:VEVENT
DTSTART;TZID=America/Winnipeg:20230322T180000
DTEND;TZID=America/Winnipeg:20230322T193000
DTSTAMP:20260421T192802
CREATED:20230320T211521Z
LAST-MODIFIED:20230320T211521Z
UID:10008426-1679508000-1679513400@regionalconnections.ca
SUMMARY:Dauphin - Personal Safety info session
DESCRIPTION:
URL:https://regionalconnections.ca/event/dauphin-personal-safety-info-session/
LOCATION:Regional Connections Dauphin\, 30 1st Avenue NE\, Dauphin\, Manitoba\, R7N 1A4\, Canada
ATTACH;FMTTYPE=image/png:https://regionalconnections.ca/wp-content/uploads/2023/03/Dauphin-Personal-Safety-Info-Session-4.png
END:VEVENT
BEGIN:VEVENT
DTSTART;TZID=America/Winnipeg:20230302T180000
DTEND;TZID=America/Winnipeg:20230302T190000
DTSTAMP:20260421T192802
CREATED:20230214T193402Z
LAST-MODIFIED:20230214T193402Z
UID:10005646-1677780000-1677783600@regionalconnections.ca
SUMMARY:Dauphin - Welcome to Canada
DESCRIPTION:Are you a newcomer to Canada? Join us for an information session on all the things you might encounter as you start your new life!
URL:https://regionalconnections.ca/event/dauphin-welcome-to-canada/
LOCATION:Regional Connections Dauphin\, 30 1st Avenue NE\, Dauphin\, Manitoba\, R7N 1A4\, Canada
ATTACH;FMTTYPE=image/png:https://regionalconnections.ca/wp-content/uploads/2023/02/Dauphin.png
END:VEVENT
BEGIN:VEVENT
DTSTART;TZID=America/Winnipeg:20221119T170000
DTEND;TZID=America/Winnipeg:20221119T180000
DTSTAMP:20260421T192802
CREATED:20221027T163624Z
LAST-MODIFIED:20221027T163624Z
UID:10007970-1668877200-1668880800@regionalconnections.ca
SUMMARY:Dauphin - Coffee and Chat. Men's group
DESCRIPTION:
URL:https://regionalconnections.ca/event/dauphin-coffee-and-chat-mens-group/
LOCATION:Regional Connections Dauphin\, 30 1st Avenue NE\, Dauphin\, Manitoba\, R7N 1A4\, Canada
ATTACH;FMTTYPE=image/png:https://regionalconnections.ca/wp-content/uploads/2022/10/Dauphin-Mens-Conversation-Group-7.png
END:VEVENT
BEGIN:VEVENT
DTSTART;TZID=America/Winnipeg:20221023T180000
DTEND;TZID=America/Winnipeg:20221023T193000
DTSTAMP:20260421T192802
CREATED:20221011T144604Z
LAST-MODIFIED:20221011T144604Z
UID:10005564-1666548000-1666553400@regionalconnections.ca
SUMMARY:Pumpkin Carving
DESCRIPTION:Join us in Dauphin and learn how to decorate Pumpkins this fall!
URL:https://regionalconnections.ca/event/pumpkin-carving/
LOCATION:Regional Connections Dauphin\, 30 1st Avenue NE\, Dauphin\, Manitoba\, R7N 1A4\, Canada
ATTACH;FMTTYPE=image/png:https://regionalconnections.ca/wp-content/uploads/2022/10/MicrosoftTeams-image.png
END:VEVENT
BEGIN:VEVENT
DTSTART;TZID=America/Winnipeg:20221016T140000
DTEND;TZID=America/Winnipeg:20221016T160000
DTSTAMP:20260421T192802
CREATED:20221011T150212Z
LAST-MODIFIED:20221011T150212Z
UID:10007960-1665928800-1665936000@regionalconnections.ca
SUMMARY:Baking Conversation for Women
DESCRIPTION:Join us in Dauphin for an evening of baking\, practicing our conversation skills and meeting new people!
URL:https://regionalconnections.ca/event/baking-conversation-for-women-3/
LOCATION:Regional Connections Dauphin\, 30 1st Avenue NE\, Dauphin\, Manitoba\, R7N 1A4\, Canada
ATTACH;FMTTYPE=image/png:https://regionalconnections.ca/wp-content/uploads/2022/10/MicrosoftTeams-image-1.png
END:VEVENT
BEGIN:VEVENT
DTSTART;TZID=America/Winnipeg:20220921T180000
DTEND;TZID=America/Winnipeg:20220921T190000
DTSTAMP:20260421T192802
CREATED:20220919T165109Z
LAST-MODIFIED:20220919T165109Z
UID:10007882-1663783200-1663786800@regionalconnections.ca
SUMMARY:Coffee and Chat
DESCRIPTION:
URL:https://regionalconnections.ca/event/coffee-and-chat-2/
LOCATION:Regional Connections Dauphin\, 30 1st Avenue NE\, Dauphin\, Manitoba\, R7N 1A4\, Canada
ATTACH;FMTTYPE=image/png:https://regionalconnections.ca/wp-content/uploads/2022/09/Dauphin-Mens-Conversation-Group-5.png
END:VEVENT
BEGIN:VEVENT
DTSTART;TZID=America/Winnipeg:20220831T180000
DTEND;TZID=America/Winnipeg:20220831T190000
DTSTAMP:20260421T192802
CREATED:20220725T154516Z
LAST-MODIFIED:20220725T155036Z
UID:10007861-1661968800-1661972400@regionalconnections.ca
SUMMARY:Coffee and Chat - Dauphin
DESCRIPTION:
URL:https://regionalconnections.ca/event/coffee-and-chat-dauphin/2022-08-31/
LOCATION:Regional Connections Dauphin\, 30 1st Avenue NE\, Dauphin\, Manitoba\, R7N 1A4\, Canada
ATTACH;FMTTYPE=image/png:https://regionalconnections.ca/wp-content/uploads/2022/07/Dauphin-Mens-Conversation-Group-3.png
END:VEVENT
BEGIN:VEVENT
DTSTART;TZID=America/Winnipeg:20220821T130000
DTEND;TZID=America/Winnipeg:20220821T150000
DTSTAMP:20260421T192803
CREATED:20220725T160538Z
LAST-MODIFIED:20220725T160637Z
UID:10007865-1661086800-1661094000@regionalconnections.ca
SUMMARY:Baking Conversation for Women
DESCRIPTION:
URL:https://regionalconnections.ca/event/baking-conversation-for-women-2/
LOCATION:Regional Connections Dauphin\, 30 1st Avenue NE\, Dauphin\, Manitoba\, R7N 1A4\, Canada
ATTACH;FMTTYPE=image/png:https://regionalconnections.ca/wp-content/uploads/2022/07/Dauphin-Easy-Baking-Session-8.png
END:VEVENT
BEGIN:VEVENT
DTSTART;TZID=America/Winnipeg:20220817T180000
DTEND;TZID=America/Winnipeg:20220817T190000
DTSTAMP:20260421T192803
CREATED:20220725T154516Z
LAST-MODIFIED:20220725T155036Z
UID:10007860-1660759200-1660762800@regionalconnections.ca
SUMMARY:Coffee and Chat - Dauphin
DESCRIPTION:
URL:https://regionalconnections.ca/event/coffee-and-chat-dauphin/2022-08-17/
LOCATION:Regional Connections Dauphin\, 30 1st Avenue NE\, Dauphin\, Manitoba\, R7N 1A4\, Canada
ATTACH;FMTTYPE=image/png:https://regionalconnections.ca/wp-content/uploads/2022/07/Dauphin-Mens-Conversation-Group-3.png
END:VEVENT
BEGIN:VEVENT
DTSTART;TZID=America/Winnipeg:20220803T180000
DTEND;TZID=America/Winnipeg:20220803T190000
DTSTAMP:20260421T192803
CREATED:20220725T154516Z
LAST-MODIFIED:20220725T155036Z
UID:10007859-1659549600-1659553200@regionalconnections.ca
SUMMARY:Coffee and Chat - Dauphin
DESCRIPTION:
URL:https://regionalconnections.ca/event/coffee-and-chat-dauphin/2022-08-03/
LOCATION:Regional Connections Dauphin\, 30 1st Avenue NE\, Dauphin\, Manitoba\, R7N 1A4\, Canada
ATTACH;FMTTYPE=image/png:https://regionalconnections.ca/wp-content/uploads/2022/07/Dauphin-Mens-Conversation-Group-3.png
END:VEVENT
BEGIN:VEVENT
DTSTART;TZID=America/Winnipeg:20220727T123000
DTEND;TZID=America/Winnipeg:20220727T143000
DTSTAMP:20260421T192803
CREATED:20220725T155410Z
LAST-MODIFIED:20220725T155410Z
UID:10007862-1658925000-1658932200@regionalconnections.ca
SUMMARY:Kid's Summer Activities - Play Chess & Board Games (Dauphin)
DESCRIPTION:
URL:https://regionalconnections.ca/event/kids-summer-activities-play-chess-board-games-dauphin/
LOCATION:Regional Connections Dauphin\, 30 1st Avenue NE\, Dauphin\, Manitoba\, R7N 1A4\, Canada
ATTACH;FMTTYPE=image/png:https://regionalconnections.ca/wp-content/uploads/2022/07/Dauphin-Kids-Summer-Activities-10.png
END:VEVENT
BEGIN:VEVENT
DTSTART;TZID=America/Winnipeg:20220625T130000
DTEND;TZID=America/Winnipeg:20220625T150000
DTSTAMP:20260421T192803
CREATED:20220622T194921Z
LAST-MODIFIED:20220622T194921Z
UID:10007851-1656162000-1656169200@regionalconnections.ca
SUMMARY:Baking Conversation for Women
DESCRIPTION:
URL:https://regionalconnections.ca/event/baking-conversation-for-women/
LOCATION:Regional Connections Dauphin\, 30 1st Avenue NE\, Dauphin\, Manitoba\, R7N 1A4\, Canada
ATTACH;FMTTYPE=image/png:https://regionalconnections.ca/wp-content/uploads/2022/06/Dauphin-Easy-Baking-Session-4.png
END:VEVENT
BEGIN:VEVENT
DTSTART;TZID=America/Winnipeg:20220422T183000
DTEND;TZID=America/Winnipeg:20220422T200000
DTSTAMP:20260421T192803
CREATED:20220321T182227Z
LAST-MODIFIED:20220321T182227Z
UID:10007803-1650652200-1650657600@regionalconnections.ca
SUMMARY:Japanese Calligraphy
DESCRIPTION:
URL:https://regionalconnections.ca/event/japanese-calligraphy/
LOCATION:Regional Connections Dauphin\, 30 1st Avenue NE\, Dauphin\, Manitoba\, R7N 1A4\, Canada
ATTACH;FMTTYPE=image/png:https://regionalconnections.ca/wp-content/uploads/2022/03/Japanese-Calligraphy-1.png
ORGANIZER;CN="Chiaki":MAILTO:chiaki@regionalconnections.ca
END:VEVENT
END:VCALENDAR