BEGIN:VCALENDAR
VERSION:2.0
PRODID:-//Regional Connections - ECPv6.15.18//NONSGML v1.0//EN
CALSCALE:GREGORIAN
METHOD:PUBLISH
X-WR-CALNAME:Regional Connections
X-ORIGINAL-URL:https://regionalconnections.ca
X-WR-CALDESC:Events for Regional Connections
REFRESH-INTERVAL;VALUE=DURATION:PT1H
X-Robots-Tag:noindex
X-PUBLISHED-TTL:PT1H
BEGIN:VTIMEZONE
TZID:America/Winnipeg
BEGIN:DAYLIGHT
TZOFFSETFROM:-0600
TZOFFSETTO:-0500
TZNAME:CDT
DTSTART:20180311T080000
END:DAYLIGHT
BEGIN:STANDARD
TZOFFSETFROM:-0500
TZOFFSETTO:-0600
TZNAME:CST
DTSTART:20181104T070000
END:STANDARD
BEGIN:DAYLIGHT
TZOFFSETFROM:-0600
TZOFFSETTO:-0500
TZNAME:CDT
DTSTART:20190310T080000
END:DAYLIGHT
BEGIN:STANDARD
TZOFFSETFROM:-0500
TZOFFSETTO:-0600
TZNAME:CST
DTSTART:20191103T070000
END:STANDARD
BEGIN:DAYLIGHT
TZOFFSETFROM:-0600
TZOFFSETTO:-0500
TZNAME:CDT
DTSTART:20200308T080000
END:DAYLIGHT
BEGIN:STANDARD
TZOFFSETFROM:-0500
TZOFFSETTO:-0600
TZNAME:CST
DTSTART:20201101T070000
END:STANDARD
BEGIN:DAYLIGHT
TZOFFSETFROM:-0600
TZOFFSETTO:-0500
TZNAME:CDT
DTSTART:20210314T080000
END:DAYLIGHT
BEGIN:STANDARD
TZOFFSETFROM:-0500
TZOFFSETTO:-0600
TZNAME:CST
DTSTART:20211107T070000
END:STANDARD
END:VTIMEZONE
BEGIN:VEVENT
DTSTART;TZID=America/Winnipeg:20200717T154500
DTEND;TZID=America/Winnipeg:20200717T163000
DTSTAMP:20260421T192656
CREATED:20200525T203803Z
LAST-MODIFIED:20200630T171503Z
UID:10007564-1595000700-1595003400@regionalconnections.ca
SUMMARY:Morden - Swimming Lessons
DESCRIPTION:
URL:https://regionalconnections.ca/event/swimming-lessons-for-new-comer-kids/2020-07-17/
LOCATION:Lake Minnewasta Campground & Colert Beach\, 100 Colert Rd\, Morden\, Manitoba\, R6M 1V3\, Canada
ATTACH;FMTTYPE=image/png:https://regionalconnections.ca/wp-content/uploads/2020/05/Swimming-lessons-for-kids.png
GEO:49.1816001;-98.138255
X-APPLE-STRUCTURED-LOCATION;VALUE=URI;X-ADDRESS=Lake Minnewasta Campground & Colert Beach 100 Colert Rd Morden Manitoba R6M 1V3 Canada;X-APPLE-RADIUS=500;X-TITLE=100 Colert Rd:geo:-98.138255,49.1816001
END:VEVENT
BEGIN:VEVENT
DTSTART;TZID=America/Winnipeg:20200716T154500
DTEND;TZID=America/Winnipeg:20200716T163000
DTSTAMP:20260421T192656
CREATED:20200525T203803Z
LAST-MODIFIED:20200630T171503Z
UID:10007563-1594914300-1594917000@regionalconnections.ca
SUMMARY:Morden - Swimming Lessons
DESCRIPTION:
URL:https://regionalconnections.ca/event/swimming-lessons-for-new-comer-kids/2020-07-16/
LOCATION:Lake Minnewasta Campground & Colert Beach\, 100 Colert Rd\, Morden\, Manitoba\, R6M 1V3\, Canada
ATTACH;FMTTYPE=image/png:https://regionalconnections.ca/wp-content/uploads/2020/05/Swimming-lessons-for-kids.png
GEO:49.1816001;-98.138255
X-APPLE-STRUCTURED-LOCATION;VALUE=URI;X-ADDRESS=Lake Minnewasta Campground & Colert Beach 100 Colert Rd Morden Manitoba R6M 1V3 Canada;X-APPLE-RADIUS=500;X-TITLE=100 Colert Rd:geo:-98.138255,49.1816001
END:VEVENT
BEGIN:VEVENT
DTSTART;TZID=America/Winnipeg:20200715T154500
DTEND;TZID=America/Winnipeg:20200715T163000
DTSTAMP:20260421T192656
CREATED:20200525T203803Z
LAST-MODIFIED:20200630T171503Z
UID:10007562-1594827900-1594830600@regionalconnections.ca
SUMMARY:Morden - Swimming Lessons
DESCRIPTION:
URL:https://regionalconnections.ca/event/swimming-lessons-for-new-comer-kids/2020-07-15/
LOCATION:Lake Minnewasta Campground & Colert Beach\, 100 Colert Rd\, Morden\, Manitoba\, R6M 1V3\, Canada
ATTACH;FMTTYPE=image/png:https://regionalconnections.ca/wp-content/uploads/2020/05/Swimming-lessons-for-kids.png
GEO:49.1816001;-98.138255
X-APPLE-STRUCTURED-LOCATION;VALUE=URI;X-ADDRESS=Lake Minnewasta Campground & Colert Beach 100 Colert Rd Morden Manitoba R6M 1V3 Canada;X-APPLE-RADIUS=500;X-TITLE=100 Colert Rd:geo:-98.138255,49.1816001
END:VEVENT
BEGIN:VEVENT
DTSTART;TZID=America/Winnipeg:20200714T154500
DTEND;TZID=America/Winnipeg:20200714T163000
DTSTAMP:20260421T192656
CREATED:20200525T203803Z
LAST-MODIFIED:20200630T171503Z
UID:10007561-1594741500-1594744200@regionalconnections.ca
SUMMARY:Morden - Swimming Lessons
DESCRIPTION:
URL:https://regionalconnections.ca/event/swimming-lessons-for-new-comer-kids/2020-07-14/
LOCATION:Lake Minnewasta Campground & Colert Beach\, 100 Colert Rd\, Morden\, Manitoba\, R6M 1V3\, Canada
ATTACH;FMTTYPE=image/png:https://regionalconnections.ca/wp-content/uploads/2020/05/Swimming-lessons-for-kids.png
GEO:49.1816001;-98.138255
X-APPLE-STRUCTURED-LOCATION;VALUE=URI;X-ADDRESS=Lake Minnewasta Campground & Colert Beach 100 Colert Rd Morden Manitoba R6M 1V3 Canada;X-APPLE-RADIUS=500;X-TITLE=100 Colert Rd:geo:-98.138255,49.1816001
END:VEVENT
BEGIN:VEVENT
DTSTART;TZID=America/Winnipeg:20200713T154500
DTEND;TZID=America/Winnipeg:20200713T163000
DTSTAMP:20260421T192656
CREATED:20200525T203803Z
LAST-MODIFIED:20200630T171503Z
UID:10007560-1594655100-1594657800@regionalconnections.ca
SUMMARY:Morden - Swimming Lessons
DESCRIPTION:
URL:https://regionalconnections.ca/event/swimming-lessons-for-new-comer-kids/2020-07-13/
LOCATION:Lake Minnewasta Campground & Colert Beach\, 100 Colert Rd\, Morden\, Manitoba\, R6M 1V3\, Canada
ATTACH;FMTTYPE=image/png:https://regionalconnections.ca/wp-content/uploads/2020/05/Swimming-lessons-for-kids.png
GEO:49.1816001;-98.138255
X-APPLE-STRUCTURED-LOCATION;VALUE=URI;X-ADDRESS=Lake Minnewasta Campground & Colert Beach 100 Colert Rd Morden Manitoba R6M 1V3 Canada;X-APPLE-RADIUS=500;X-TITLE=100 Colert Rd:geo:-98.138255,49.1816001
END:VEVENT
BEGIN:VEVENT
DTSTART;TZID=America/Winnipeg:20200712T154500
DTEND;TZID=America/Winnipeg:20200712T163000
DTSTAMP:20260421T192656
CREATED:20200525T203803Z
LAST-MODIFIED:20200630T171503Z
UID:10007559-1594568700-1594571400@regionalconnections.ca
SUMMARY:Morden - Swimming Lessons
DESCRIPTION:
URL:https://regionalconnections.ca/event/swimming-lessons-for-new-comer-kids/2020-07-12/
LOCATION:Lake Minnewasta Campground & Colert Beach\, 100 Colert Rd\, Morden\, Manitoba\, R6M 1V3\, Canada
ATTACH;FMTTYPE=image/png:https://regionalconnections.ca/wp-content/uploads/2020/05/Swimming-lessons-for-kids.png
GEO:49.1816001;-98.138255
X-APPLE-STRUCTURED-LOCATION;VALUE=URI;X-ADDRESS=Lake Minnewasta Campground & Colert Beach 100 Colert Rd Morden Manitoba R6M 1V3 Canada;X-APPLE-RADIUS=500;X-TITLE=100 Colert Rd:geo:-98.138255,49.1816001
END:VEVENT
BEGIN:VEVENT
DTSTART;TZID=America/Winnipeg:20200711T154500
DTEND;TZID=America/Winnipeg:20200711T163000
DTSTAMP:20260421T192656
CREATED:20200525T203803Z
LAST-MODIFIED:20200630T171503Z
UID:10007558-1594482300-1594485000@regionalconnections.ca
SUMMARY:Morden - Swimming Lessons
DESCRIPTION:
URL:https://regionalconnections.ca/event/swimming-lessons-for-new-comer-kids/2020-07-11/
LOCATION:Lake Minnewasta Campground & Colert Beach\, 100 Colert Rd\, Morden\, Manitoba\, R6M 1V3\, Canada
ATTACH;FMTTYPE=image/png:https://regionalconnections.ca/wp-content/uploads/2020/05/Swimming-lessons-for-kids.png
GEO:49.1816001;-98.138255
X-APPLE-STRUCTURED-LOCATION;VALUE=URI;X-ADDRESS=Lake Minnewasta Campground & Colert Beach 100 Colert Rd Morden Manitoba R6M 1V3 Canada;X-APPLE-RADIUS=500;X-TITLE=100 Colert Rd:geo:-98.138255,49.1816001
END:VEVENT
BEGIN:VEVENT
DTSTART;TZID=America/Winnipeg:20200710T154500
DTEND;TZID=America/Winnipeg:20200710T163000
DTSTAMP:20260421T192656
CREATED:20200525T203803Z
LAST-MODIFIED:20200630T171503Z
UID:10007557-1594395900-1594398600@regionalconnections.ca
SUMMARY:Morden - Swimming Lessons
DESCRIPTION:
URL:https://regionalconnections.ca/event/swimming-lessons-for-new-comer-kids/2020-07-10/
LOCATION:Lake Minnewasta Campground & Colert Beach\, 100 Colert Rd\, Morden\, Manitoba\, R6M 1V3\, Canada
ATTACH;FMTTYPE=image/png:https://regionalconnections.ca/wp-content/uploads/2020/05/Swimming-lessons-for-kids.png
GEO:49.1816001;-98.138255
X-APPLE-STRUCTURED-LOCATION;VALUE=URI;X-ADDRESS=Lake Minnewasta Campground & Colert Beach 100 Colert Rd Morden Manitoba R6M 1V3 Canada;X-APPLE-RADIUS=500;X-TITLE=100 Colert Rd:geo:-98.138255,49.1816001
END:VEVENT
BEGIN:VEVENT
DTSTART;TZID=America/Winnipeg:20200709T154500
DTEND;TZID=America/Winnipeg:20200709T163000
DTSTAMP:20260421T192656
CREATED:20200525T203803Z
LAST-MODIFIED:20200630T171503Z
UID:10007556-1594309500-1594312200@regionalconnections.ca
SUMMARY:Morden - Swimming Lessons
DESCRIPTION:
URL:https://regionalconnections.ca/event/swimming-lessons-for-new-comer-kids/2020-07-09/
LOCATION:Lake Minnewasta Campground & Colert Beach\, 100 Colert Rd\, Morden\, Manitoba\, R6M 1V3\, Canada
ATTACH;FMTTYPE=image/png:https://regionalconnections.ca/wp-content/uploads/2020/05/Swimming-lessons-for-kids.png
GEO:49.1816001;-98.138255
X-APPLE-STRUCTURED-LOCATION;VALUE=URI;X-ADDRESS=Lake Minnewasta Campground & Colert Beach 100 Colert Rd Morden Manitoba R6M 1V3 Canada;X-APPLE-RADIUS=500;X-TITLE=100 Colert Rd:geo:-98.138255,49.1816001
END:VEVENT
BEGIN:VEVENT
DTSTART;TZID=America/Winnipeg:20200708T154500
DTEND;TZID=America/Winnipeg:20200708T163000
DTSTAMP:20260421T192656
CREATED:20200525T203803Z
LAST-MODIFIED:20200630T171503Z
UID:10007555-1594223100-1594225800@regionalconnections.ca
SUMMARY:Morden - Swimming Lessons
DESCRIPTION:
URL:https://regionalconnections.ca/event/swimming-lessons-for-new-comer-kids/2020-07-08/
LOCATION:Lake Minnewasta Campground & Colert Beach\, 100 Colert Rd\, Morden\, Manitoba\, R6M 1V3\, Canada
ATTACH;FMTTYPE=image/png:https://regionalconnections.ca/wp-content/uploads/2020/05/Swimming-lessons-for-kids.png
GEO:49.1816001;-98.138255
X-APPLE-STRUCTURED-LOCATION;VALUE=URI;X-ADDRESS=Lake Minnewasta Campground & Colert Beach 100 Colert Rd Morden Manitoba R6M 1V3 Canada;X-APPLE-RADIUS=500;X-TITLE=100 Colert Rd:geo:-98.138255,49.1816001
END:VEVENT
BEGIN:VEVENT
DTSTART;TZID=America/Winnipeg:20200707T154500
DTEND;TZID=America/Winnipeg:20200707T163000
DTSTAMP:20260421T192656
CREATED:20200525T203803Z
LAST-MODIFIED:20200630T171503Z
UID:10007554-1594136700-1594139400@regionalconnections.ca
SUMMARY:Morden - Swimming Lessons
DESCRIPTION:
URL:https://regionalconnections.ca/event/swimming-lessons-for-new-comer-kids/2020-07-07/
LOCATION:Lake Minnewasta Campground & Colert Beach\, 100 Colert Rd\, Morden\, Manitoba\, R6M 1V3\, Canada
ATTACH;FMTTYPE=image/png:https://regionalconnections.ca/wp-content/uploads/2020/05/Swimming-lessons-for-kids.png
GEO:49.1816001;-98.138255
X-APPLE-STRUCTURED-LOCATION;VALUE=URI;X-ADDRESS=Lake Minnewasta Campground & Colert Beach 100 Colert Rd Morden Manitoba R6M 1V3 Canada;X-APPLE-RADIUS=500;X-TITLE=100 Colert Rd:geo:-98.138255,49.1816001
END:VEVENT
BEGIN:VEVENT
DTSTART;TZID=America/Winnipeg:20200706T154500
DTEND;TZID=America/Winnipeg:20200706T163000
DTSTAMP:20260421T192656
CREATED:20200525T203803Z
LAST-MODIFIED:20200630T171503Z
UID:10007553-1594050300-1594053000@regionalconnections.ca
SUMMARY:Morden - Swimming Lessons
DESCRIPTION:
URL:https://regionalconnections.ca/event/swimming-lessons-for-new-comer-kids/2020-07-06/
LOCATION:Lake Minnewasta Campground & Colert Beach\, 100 Colert Rd\, Morden\, Manitoba\, R6M 1V3\, Canada
ATTACH;FMTTYPE=image/png:https://regionalconnections.ca/wp-content/uploads/2020/05/Swimming-lessons-for-kids.png
GEO:49.1816001;-98.138255
X-APPLE-STRUCTURED-LOCATION;VALUE=URI;X-ADDRESS=Lake Minnewasta Campground & Colert Beach 100 Colert Rd Morden Manitoba R6M 1V3 Canada;X-APPLE-RADIUS=500;X-TITLE=100 Colert Rd:geo:-98.138255,49.1816001
END:VEVENT
BEGIN:VEVENT
DTSTART;TZID=America/Winnipeg:20191106T183000
DTEND;TZID=America/Winnipeg:20191106T193000
DTSTAMP:20260421T192656
CREATED:20191023T140644Z
LAST-MODIFIED:20191023T140753Z
UID:10007511-1573065000-1573068600@regionalconnections.ca
SUMMARY:School Culture Information Session- Morden
DESCRIPTION:Join us to talk about report cards\, crossing guards\, homework\, and other topics related to our education system.
URL:https://regionalconnections.ca/event/school-culture-information-session-morden/
LOCATION:Lake Minnewasta Campground & Colert Beach\, 100 Colert Rd\, Morden\, Manitoba\, R6M 1V3\, Canada
ATTACH;FMTTYPE=image/png:https://regionalconnections.ca/wp-content/uploads/2019/10/Morden-School-Culture-Info-Session.png
GEO:49.1816001;-98.138255
X-APPLE-STRUCTURED-LOCATION;VALUE=URI;X-ADDRESS=Lake Minnewasta Campground & Colert Beach 100 Colert Rd Morden Manitoba R6M 1V3 Canada;X-APPLE-RADIUS=500;X-TITLE=100 Colert Rd:geo:-98.138255,49.1816001
END:VEVENT
END:VCALENDAR