BEGIN:VCALENDAR
VERSION:2.0
PRODID:-//Regional Connections - ECPv6.15.18//NONSGML v1.0//EN
CALSCALE:GREGORIAN
METHOD:PUBLISH
X-WR-CALNAME:Regional Connections
X-ORIGINAL-URL:https://regionalconnections.ca
X-WR-CALDESC:Events for Regional Connections
REFRESH-INTERVAL;VALUE=DURATION:PT1H
X-Robots-Tag:noindex
X-PUBLISHED-TTL:PT1H
BEGIN:VTIMEZONE
TZID:America/Winnipeg
BEGIN:DAYLIGHT
TZOFFSETFROM:-0600
TZOFFSETTO:-0500
TZNAME:CDT
DTSTART:20260308T080000
END:DAYLIGHT
BEGIN:STANDARD
TZOFFSETFROM:-0500
TZOFFSETTO:-0600
TZNAME:CST
DTSTART:20261101T070000
END:STANDARD
BEGIN:DAYLIGHT
TZOFFSETFROM:-0600
TZOFFSETTO:-0500
TZNAME:CDT
DTSTART:20270314T080000
END:DAYLIGHT
BEGIN:STANDARD
TZOFFSETFROM:-0500
TZOFFSETTO:-0600
TZNAME:CST
DTSTART:20271107T070000
END:STANDARD
BEGIN:DAYLIGHT
TZOFFSETFROM:-0600
TZOFFSETTO:-0500
TZNAME:CDT
DTSTART:20280312T080000
END:DAYLIGHT
BEGIN:STANDARD
TZOFFSETFROM:-0500
TZOFFSETTO:-0600
TZNAME:CST
DTSTART:20281105T070000
END:STANDARD
BEGIN:DAYLIGHT
TZOFFSETFROM:-0600
TZOFFSETTO:-0500
TZNAME:CDT
DTSTART:20290311T080000
END:DAYLIGHT
BEGIN:STANDARD
TZOFFSETFROM:-0500
TZOFFSETTO:-0600
TZNAME:CST
DTSTART:20291104T070000
END:STANDARD
BEGIN:DAYLIGHT
TZOFFSETFROM:-0600
TZOFFSETTO:-0500
TZNAME:CDT
DTSTART:20300310T080000
END:DAYLIGHT
BEGIN:STANDARD
TZOFFSETFROM:-0500
TZOFFSETTO:-0600
TZNAME:CST
DTSTART:20301103T070000
END:STANDARD
END:VTIMEZONE
BEGIN:VEVENT
DTSTART;TZID=America/Winnipeg:20270428T183000
DTEND;TZID=America/Winnipeg:20270428T193000
DTSTAMP:20260421T034707
CREATED:20260107T171935Z
LAST-MODIFIED:20260107T171935Z
UID:10012291-1808937000-1808940600@regionalconnections.ca
SUMMARY:Conversation Circle Morden
DESCRIPTION:
URL:https://regionalconnections.ca/event/conversation-circle-morden/2027-04-28/
LOCATION:Regional Connections Morden\, 34 Stephen St.\, Morden\, MB\, R6M 2G3
ATTACH;FMTTYPE=image/png:https://regionalconnections.ca/wp-content/uploads/2026/01/Morden-Conv.-Circle.png
END:VEVENT
BEGIN:VEVENT
DTSTART;TZID=America/Winnipeg:20270526T183000
DTEND;TZID=America/Winnipeg:20270526T193000
DTSTAMP:20260421T034707
CREATED:20260107T171935Z
LAST-MODIFIED:20260107T171935Z
UID:10012292-1811356200-1811359800@regionalconnections.ca
SUMMARY:Conversation Circle Morden
DESCRIPTION:
URL:https://regionalconnections.ca/event/conversation-circle-morden/2027-05-26/
LOCATION:Regional Connections Morden\, 34 Stephen St.\, Morden\, MB\, R6M 2G3
ATTACH;FMTTYPE=image/png:https://regionalconnections.ca/wp-content/uploads/2026/01/Morden-Conv.-Circle.png
END:VEVENT
BEGIN:VEVENT
DTSTART;TZID=America/Winnipeg:20270623T183000
DTEND;TZID=America/Winnipeg:20270623T193000
DTSTAMP:20260421T034707
CREATED:20260107T171935Z
LAST-MODIFIED:20260107T171935Z
UID:10012293-1813775400-1813779000@regionalconnections.ca
SUMMARY:Conversation Circle Morden
DESCRIPTION:
URL:https://regionalconnections.ca/event/conversation-circle-morden/2027-06-23/
LOCATION:Regional Connections Morden\, 34 Stephen St.\, Morden\, MB\, R6M 2G3
ATTACH;FMTTYPE=image/png:https://regionalconnections.ca/wp-content/uploads/2026/01/Morden-Conv.-Circle.png
END:VEVENT
BEGIN:VEVENT
DTSTART;TZID=America/Winnipeg:20270728T183000
DTEND;TZID=America/Winnipeg:20270728T193000
DTSTAMP:20260421T034707
CREATED:20260107T171935Z
LAST-MODIFIED:20260107T171935Z
UID:10012294-1816799400-1816803000@regionalconnections.ca
SUMMARY:Conversation Circle Morden
DESCRIPTION:
URL:https://regionalconnections.ca/event/conversation-circle-morden/2027-07-28/
LOCATION:Regional Connections Morden\, 34 Stephen St.\, Morden\, MB\, R6M 2G3
ATTACH;FMTTYPE=image/png:https://regionalconnections.ca/wp-content/uploads/2026/01/Morden-Conv.-Circle.png
END:VEVENT
BEGIN:VEVENT
DTSTART;TZID=America/Winnipeg:20270825T183000
DTEND;TZID=America/Winnipeg:20270825T193000
DTSTAMP:20260421T034707
CREATED:20260107T171935Z
LAST-MODIFIED:20260107T171935Z
UID:10012295-1819218600-1819222200@regionalconnections.ca
SUMMARY:Conversation Circle Morden
DESCRIPTION:
URL:https://regionalconnections.ca/event/conversation-circle-morden/2027-08-25/
LOCATION:Regional Connections Morden\, 34 Stephen St.\, Morden\, MB\, R6M 2G3
ATTACH;FMTTYPE=image/png:https://regionalconnections.ca/wp-content/uploads/2026/01/Morden-Conv.-Circle.png
END:VEVENT
BEGIN:VEVENT
DTSTART;TZID=America/Winnipeg:20270922T183000
DTEND;TZID=America/Winnipeg:20270922T193000
DTSTAMP:20260421T034707
CREATED:20260107T171935Z
LAST-MODIFIED:20260107T171935Z
UID:10012296-1821637800-1821641400@regionalconnections.ca
SUMMARY:Conversation Circle Morden
DESCRIPTION:
URL:https://regionalconnections.ca/event/conversation-circle-morden/2027-09-22/
LOCATION:Regional Connections Morden\, 34 Stephen St.\, Morden\, MB\, R6M 2G3
ATTACH;FMTTYPE=image/png:https://regionalconnections.ca/wp-content/uploads/2026/01/Morden-Conv.-Circle.png
END:VEVENT
BEGIN:VEVENT
DTSTART;TZID=America/Winnipeg:20271027T183000
DTEND;TZID=America/Winnipeg:20271027T193000
DTSTAMP:20260421T034707
CREATED:20260107T171935Z
LAST-MODIFIED:20260107T171935Z
UID:10012297-1824661800-1824665400@regionalconnections.ca
SUMMARY:Conversation Circle Morden
DESCRIPTION:
URL:https://regionalconnections.ca/event/conversation-circle-morden/2027-10-27/
LOCATION:Regional Connections Morden\, 34 Stephen St.\, Morden\, MB\, R6M 2G3
ATTACH;FMTTYPE=image/png:https://regionalconnections.ca/wp-content/uploads/2026/01/Morden-Conv.-Circle.png
END:VEVENT
BEGIN:VEVENT
DTSTART;TZID=America/Winnipeg:20271124T183000
DTEND;TZID=America/Winnipeg:20271124T193000
DTSTAMP:20260421T034707
CREATED:20260107T171935Z
LAST-MODIFIED:20260107T171935Z
UID:10012298-1827081000-1827084600@regionalconnections.ca
SUMMARY:Conversation Circle Morden
DESCRIPTION:
URL:https://regionalconnections.ca/event/conversation-circle-morden/2027-11-24/
LOCATION:Regional Connections Morden\, 34 Stephen St.\, Morden\, MB\, R6M 2G3
ATTACH;FMTTYPE=image/png:https://regionalconnections.ca/wp-content/uploads/2026/01/Morden-Conv.-Circle.png
END:VEVENT
BEGIN:VEVENT
DTSTART;TZID=America/Winnipeg:20271222T183000
DTEND;TZID=America/Winnipeg:20271222T193000
DTSTAMP:20260421T034707
CREATED:20260107T171935Z
LAST-MODIFIED:20260107T171935Z
UID:10012299-1829500200-1829503800@regionalconnections.ca
SUMMARY:Conversation Circle Morden
DESCRIPTION:
URL:https://regionalconnections.ca/event/conversation-circle-morden/2027-12-22/
LOCATION:Regional Connections Morden\, 34 Stephen St.\, Morden\, MB\, R6M 2G3
ATTACH;FMTTYPE=image/png:https://regionalconnections.ca/wp-content/uploads/2026/01/Morden-Conv.-Circle.png
END:VEVENT
BEGIN:VEVENT
DTSTART;TZID=America/Winnipeg:20280126T183000
DTEND;TZID=America/Winnipeg:20280126T193000
DTSTAMP:20260421T034707
CREATED:20260107T171935Z
LAST-MODIFIED:20260107T171935Z
UID:10012300-1832524200-1832527800@regionalconnections.ca
SUMMARY:Conversation Circle Morden
DESCRIPTION:
URL:https://regionalconnections.ca/event/conversation-circle-morden/2028-01-26/
LOCATION:Regional Connections Morden\, 34 Stephen St.\, Morden\, MB\, R6M 2G3
ATTACH;FMTTYPE=image/png:https://regionalconnections.ca/wp-content/uploads/2026/01/Morden-Conv.-Circle.png
END:VEVENT
BEGIN:VEVENT
DTSTART;TZID=America/Winnipeg:20280223T183000
DTEND;TZID=America/Winnipeg:20280223T193000
DTSTAMP:20260421T034707
CREATED:20260107T171935Z
LAST-MODIFIED:20260107T171935Z
UID:10012301-1834943400-1834947000@regionalconnections.ca
SUMMARY:Conversation Circle Morden
DESCRIPTION:
URL:https://regionalconnections.ca/event/conversation-circle-morden/2028-02-23/
LOCATION:Regional Connections Morden\, 34 Stephen St.\, Morden\, MB\, R6M 2G3
ATTACH;FMTTYPE=image/png:https://regionalconnections.ca/wp-content/uploads/2026/01/Morden-Conv.-Circle.png
END:VEVENT
BEGIN:VEVENT
DTSTART;TZID=America/Winnipeg:20280322T183000
DTEND;TZID=America/Winnipeg:20280322T193000
DTSTAMP:20260421T034707
CREATED:20260107T171935Z
LAST-MODIFIED:20260107T171935Z
UID:10012302-1837362600-1837366200@regionalconnections.ca
SUMMARY:Conversation Circle Morden
DESCRIPTION:
URL:https://regionalconnections.ca/event/conversation-circle-morden/2028-03-22/
LOCATION:Regional Connections Morden\, 34 Stephen St.\, Morden\, MB\, R6M 2G3
ATTACH;FMTTYPE=image/png:https://regionalconnections.ca/wp-content/uploads/2026/01/Morden-Conv.-Circle.png
END:VEVENT
BEGIN:VEVENT
DTSTART;TZID=America/Winnipeg:20280426T183000
DTEND;TZID=America/Winnipeg:20280426T193000
DTSTAMP:20260421T034707
CREATED:20260107T171935Z
LAST-MODIFIED:20260107T171935Z
UID:10012303-1840386600-1840390200@regionalconnections.ca
SUMMARY:Conversation Circle Morden
DESCRIPTION:
URL:https://regionalconnections.ca/event/conversation-circle-morden/2028-04-26/
LOCATION:Regional Connections Morden\, 34 Stephen St.\, Morden\, MB\, R6M 2G3
ATTACH;FMTTYPE=image/png:https://regionalconnections.ca/wp-content/uploads/2026/01/Morden-Conv.-Circle.png
END:VEVENT
BEGIN:VEVENT
DTSTART;TZID=America/Winnipeg:20280524T183000
DTEND;TZID=America/Winnipeg:20280524T193000
DTSTAMP:20260421T034707
CREATED:20260107T171935Z
LAST-MODIFIED:20260107T171935Z
UID:10012304-1842805800-1842809400@regionalconnections.ca
SUMMARY:Conversation Circle Morden
DESCRIPTION:
URL:https://regionalconnections.ca/event/conversation-circle-morden/2028-05-24/
LOCATION:Regional Connections Morden\, 34 Stephen St.\, Morden\, MB\, R6M 2G3
ATTACH;FMTTYPE=image/png:https://regionalconnections.ca/wp-content/uploads/2026/01/Morden-Conv.-Circle.png
END:VEVENT
BEGIN:VEVENT
DTSTART;TZID=America/Winnipeg:20280628T183000
DTEND;TZID=America/Winnipeg:20280628T193000
DTSTAMP:20260421T034708
CREATED:20260107T171935Z
LAST-MODIFIED:20260107T171935Z
UID:10012305-1845829800-1845833400@regionalconnections.ca
SUMMARY:Conversation Circle Morden
DESCRIPTION:
URL:https://regionalconnections.ca/event/conversation-circle-morden/2028-06-28/
LOCATION:Regional Connections Morden\, 34 Stephen St.\, Morden\, MB\, R6M 2G3
ATTACH;FMTTYPE=image/png:https://regionalconnections.ca/wp-content/uploads/2026/01/Morden-Conv.-Circle.png
END:VEVENT
BEGIN:VEVENT
DTSTART;TZID=America/Winnipeg:20280726T183000
DTEND;TZID=America/Winnipeg:20280726T193000
DTSTAMP:20260421T034708
CREATED:20260107T171935Z
LAST-MODIFIED:20260107T171935Z
UID:10012306-1848249000-1848252600@regionalconnections.ca
SUMMARY:Conversation Circle Morden
DESCRIPTION:
URL:https://regionalconnections.ca/event/conversation-circle-morden/2028-07-26/
LOCATION:Regional Connections Morden\, 34 Stephen St.\, Morden\, MB\, R6M 2G3
ATTACH;FMTTYPE=image/png:https://regionalconnections.ca/wp-content/uploads/2026/01/Morden-Conv.-Circle.png
END:VEVENT
BEGIN:VEVENT
DTSTART;TZID=America/Winnipeg:20280823T183000
DTEND;TZID=America/Winnipeg:20280823T193000
DTSTAMP:20260421T034708
CREATED:20260107T171935Z
LAST-MODIFIED:20260107T171935Z
UID:10012307-1850668200-1850671800@regionalconnections.ca
SUMMARY:Conversation Circle Morden
DESCRIPTION:
URL:https://regionalconnections.ca/event/conversation-circle-morden/2028-08-23/
LOCATION:Regional Connections Morden\, 34 Stephen St.\, Morden\, MB\, R6M 2G3
ATTACH;FMTTYPE=image/png:https://regionalconnections.ca/wp-content/uploads/2026/01/Morden-Conv.-Circle.png
END:VEVENT
BEGIN:VEVENT
DTSTART;TZID=America/Winnipeg:20280927T183000
DTEND;TZID=America/Winnipeg:20280927T193000
DTSTAMP:20260421T034708
CREATED:20260107T171935Z
LAST-MODIFIED:20260107T171935Z
UID:10012308-1853692200-1853695800@regionalconnections.ca
SUMMARY:Conversation Circle Morden
DESCRIPTION:
URL:https://regionalconnections.ca/event/conversation-circle-morden/2028-09-27/
LOCATION:Regional Connections Morden\, 34 Stephen St.\, Morden\, MB\, R6M 2G3
ATTACH;FMTTYPE=image/png:https://regionalconnections.ca/wp-content/uploads/2026/01/Morden-Conv.-Circle.png
END:VEVENT
BEGIN:VEVENT
DTSTART;TZID=America/Winnipeg:20281025T183000
DTEND;TZID=America/Winnipeg:20281025T193000
DTSTAMP:20260421T034708
CREATED:20260107T171935Z
LAST-MODIFIED:20260107T171935Z
UID:10012309-1856111400-1856115000@regionalconnections.ca
SUMMARY:Conversation Circle Morden
DESCRIPTION:
URL:https://regionalconnections.ca/event/conversation-circle-morden/2028-10-25/
LOCATION:Regional Connections Morden\, 34 Stephen St.\, Morden\, MB\, R6M 2G3
ATTACH;FMTTYPE=image/png:https://regionalconnections.ca/wp-content/uploads/2026/01/Morden-Conv.-Circle.png
END:VEVENT
BEGIN:VEVENT
DTSTART;TZID=America/Winnipeg:20281122T183000
DTEND;TZID=America/Winnipeg:20281122T193000
DTSTAMP:20260421T034708
CREATED:20260107T171935Z
LAST-MODIFIED:20260107T171935Z
UID:10012310-1858530600-1858534200@regionalconnections.ca
SUMMARY:Conversation Circle Morden
DESCRIPTION:
URL:https://regionalconnections.ca/event/conversation-circle-morden/2028-11-22/
LOCATION:Regional Connections Morden\, 34 Stephen St.\, Morden\, MB\, R6M 2G3
ATTACH;FMTTYPE=image/png:https://regionalconnections.ca/wp-content/uploads/2026/01/Morden-Conv.-Circle.png
END:VEVENT
BEGIN:VEVENT
DTSTART;TZID=America/Winnipeg:20281227T183000
DTEND;TZID=America/Winnipeg:20281227T193000
DTSTAMP:20260421T034708
CREATED:20260107T171935Z
LAST-MODIFIED:20260107T171935Z
UID:10012311-1861554600-1861558200@regionalconnections.ca
SUMMARY:Conversation Circle Morden
DESCRIPTION:
URL:https://regionalconnections.ca/event/conversation-circle-morden/2028-12-27/
LOCATION:Regional Connections Morden\, 34 Stephen St.\, Morden\, MB\, R6M 2G3
ATTACH;FMTTYPE=image/png:https://regionalconnections.ca/wp-content/uploads/2026/01/Morden-Conv.-Circle.png
END:VEVENT
BEGIN:VEVENT
DTSTART;TZID=America/Winnipeg:20290124T183000
DTEND;TZID=America/Winnipeg:20290124T193000
DTSTAMP:20260421T034708
CREATED:20260107T171935Z
LAST-MODIFIED:20260107T171935Z
UID:10012312-1863973800-1863977400@regionalconnections.ca
SUMMARY:Conversation Circle Morden
DESCRIPTION:
URL:https://regionalconnections.ca/event/conversation-circle-morden/2029-01-24/
LOCATION:Regional Connections Morden\, 34 Stephen St.\, Morden\, MB\, R6M 2G3
ATTACH;FMTTYPE=image/png:https://regionalconnections.ca/wp-content/uploads/2026/01/Morden-Conv.-Circle.png
END:VEVENT
BEGIN:VEVENT
DTSTART;TZID=America/Winnipeg:20290228T183000
DTEND;TZID=America/Winnipeg:20290228T193000
DTSTAMP:20260421T034708
CREATED:20260107T171935Z
LAST-MODIFIED:20260107T171935Z
UID:10012313-1866997800-1867001400@regionalconnections.ca
SUMMARY:Conversation Circle Morden
DESCRIPTION:
URL:https://regionalconnections.ca/event/conversation-circle-morden/2029-02-28/
LOCATION:Regional Connections Morden\, 34 Stephen St.\, Morden\, MB\, R6M 2G3
ATTACH;FMTTYPE=image/png:https://regionalconnections.ca/wp-content/uploads/2026/01/Morden-Conv.-Circle.png
END:VEVENT
BEGIN:VEVENT
DTSTART;TZID=America/Winnipeg:20290328T183000
DTEND;TZID=America/Winnipeg:20290328T193000
DTSTAMP:20260421T034708
CREATED:20260107T171935Z
LAST-MODIFIED:20260107T171935Z
UID:10012314-1869417000-1869420600@regionalconnections.ca
SUMMARY:Conversation Circle Morden
DESCRIPTION:
URL:https://regionalconnections.ca/event/conversation-circle-morden/2029-03-28/
LOCATION:Regional Connections Morden\, 34 Stephen St.\, Morden\, MB\, R6M 2G3
ATTACH;FMTTYPE=image/png:https://regionalconnections.ca/wp-content/uploads/2026/01/Morden-Conv.-Circle.png
END:VEVENT
BEGIN:VEVENT
DTSTART;TZID=America/Winnipeg:20290425T183000
DTEND;TZID=America/Winnipeg:20290425T193000
DTSTAMP:20260421T034708
CREATED:20260107T171935Z
LAST-MODIFIED:20260107T171935Z
UID:10012315-1871836200-1871839800@regionalconnections.ca
SUMMARY:Conversation Circle Morden
DESCRIPTION:
URL:https://regionalconnections.ca/event/conversation-circle-morden/2029-04-25/
LOCATION:Regional Connections Morden\, 34 Stephen St.\, Morden\, MB\, R6M 2G3
ATTACH;FMTTYPE=image/png:https://regionalconnections.ca/wp-content/uploads/2026/01/Morden-Conv.-Circle.png
END:VEVENT
BEGIN:VEVENT
DTSTART;TZID=America/Winnipeg:20290523T183000
DTEND;TZID=America/Winnipeg:20290523T193000
DTSTAMP:20260421T034708
CREATED:20260107T171935Z
LAST-MODIFIED:20260107T171935Z
UID:10012316-1874255400-1874259000@regionalconnections.ca
SUMMARY:Conversation Circle Morden
DESCRIPTION:
URL:https://regionalconnections.ca/event/conversation-circle-morden/2029-05-23/
LOCATION:Regional Connections Morden\, 34 Stephen St.\, Morden\, MB\, R6M 2G3
ATTACH;FMTTYPE=image/png:https://regionalconnections.ca/wp-content/uploads/2026/01/Morden-Conv.-Circle.png
END:VEVENT
BEGIN:VEVENT
DTSTART;TZID=America/Winnipeg:20290627T183000
DTEND;TZID=America/Winnipeg:20290627T193000
DTSTAMP:20260421T034708
CREATED:20260107T171935Z
LAST-MODIFIED:20260107T171935Z
UID:10012317-1877279400-1877283000@regionalconnections.ca
SUMMARY:Conversation Circle Morden
DESCRIPTION:
URL:https://regionalconnections.ca/event/conversation-circle-morden/2029-06-27/
LOCATION:Regional Connections Morden\, 34 Stephen St.\, Morden\, MB\, R6M 2G3
ATTACH;FMTTYPE=image/png:https://regionalconnections.ca/wp-content/uploads/2026/01/Morden-Conv.-Circle.png
END:VEVENT
BEGIN:VEVENT
DTSTART;TZID=America/Winnipeg:20290725T183000
DTEND;TZID=America/Winnipeg:20290725T193000
DTSTAMP:20260421T034708
CREATED:20260107T171935Z
LAST-MODIFIED:20260107T171935Z
UID:10012318-1879698600-1879702200@regionalconnections.ca
SUMMARY:Conversation Circle Morden
DESCRIPTION:
URL:https://regionalconnections.ca/event/conversation-circle-morden/2029-07-25/
LOCATION:Regional Connections Morden\, 34 Stephen St.\, Morden\, MB\, R6M 2G3
ATTACH;FMTTYPE=image/png:https://regionalconnections.ca/wp-content/uploads/2026/01/Morden-Conv.-Circle.png
END:VEVENT
BEGIN:VEVENT
DTSTART;TZID=America/Winnipeg:20290822T183000
DTEND;TZID=America/Winnipeg:20290822T193000
DTSTAMP:20260421T034708
CREATED:20260107T171935Z
LAST-MODIFIED:20260107T171935Z
UID:10012319-1882117800-1882121400@regionalconnections.ca
SUMMARY:Conversation Circle Morden
DESCRIPTION:
URL:https://regionalconnections.ca/event/conversation-circle-morden/2029-08-22/
LOCATION:Regional Connections Morden\, 34 Stephen St.\, Morden\, MB\, R6M 2G3
ATTACH;FMTTYPE=image/png:https://regionalconnections.ca/wp-content/uploads/2026/01/Morden-Conv.-Circle.png
END:VEVENT
BEGIN:VEVENT
DTSTART;TZID=America/Winnipeg:20290926T183000
DTEND;TZID=America/Winnipeg:20290926T193000
DTSTAMP:20260421T034708
CREATED:20260107T171935Z
LAST-MODIFIED:20260107T171935Z
UID:10012320-1885141800-1885145400@regionalconnections.ca
SUMMARY:Conversation Circle Morden
DESCRIPTION:
URL:https://regionalconnections.ca/event/conversation-circle-morden/2029-09-26/
LOCATION:Regional Connections Morden\, 34 Stephen St.\, Morden\, MB\, R6M 2G3
ATTACH;FMTTYPE=image/png:https://regionalconnections.ca/wp-content/uploads/2026/01/Morden-Conv.-Circle.png
END:VEVENT
END:VCALENDAR