BEGIN:VCALENDAR
VERSION:2.0
PRODID:-//Regional Connections - ECPv6.15.18//NONSGML v1.0//EN
CALSCALE:GREGORIAN
METHOD:PUBLISH
X-WR-CALNAME:Regional Connections
X-ORIGINAL-URL:https://regionalconnections.ca
X-WR-CALDESC:Events for Regional Connections
REFRESH-INTERVAL;VALUE=DURATION:PT1H
X-Robots-Tag:noindex
X-PUBLISHED-TTL:PT1H
BEGIN:VTIMEZONE
TZID:America/Winnipeg
BEGIN:DAYLIGHT
TZOFFSETFROM:-0600
TZOFFSETTO:-0500
TZNAME:CDT
DTSTART:20250309T080000
END:DAYLIGHT
BEGIN:STANDARD
TZOFFSETFROM:-0500
TZOFFSETTO:-0600
TZNAME:CST
DTSTART:20251102T070000
END:STANDARD
BEGIN:DAYLIGHT
TZOFFSETFROM:-0600
TZOFFSETTO:-0500
TZNAME:CDT
DTSTART:20260308T080000
END:DAYLIGHT
BEGIN:STANDARD
TZOFFSETFROM:-0500
TZOFFSETTO:-0600
TZNAME:CST
DTSTART:20261101T070000
END:STANDARD
BEGIN:DAYLIGHT
TZOFFSETFROM:-0600
TZOFFSETTO:-0500
TZNAME:CDT
DTSTART:20270314T080000
END:DAYLIGHT
BEGIN:STANDARD
TZOFFSETFROM:-0500
TZOFFSETTO:-0600
TZNAME:CST
DTSTART:20271107T070000
END:STANDARD
END:VTIMEZONE
BEGIN:VEVENT
DTSTART;TZID=America/Winnipeg:20260214T110000
DTEND;TZID=America/Winnipeg:20260214T130000
DTSTAMP:20260423T115720
CREATED:20260129T161247Z
LAST-MODIFIED:20260205T201030Z
UID:10013998-1771066800-1771074000@regionalconnections.ca
SUMMARY:Valentine's Day Community Connect
DESCRIPTION:Join us for a Valentine’s Day community gathering celebrating self-love and care 💕 Enjoy a short motivational talk\, a positive intention jar activity\, and Valentine cookie decorating for kids. A sweet and uplifting event for all ages!
URL:https://regionalconnections.ca/event/valentines-day-community-connect/
LOCATION:Regional Connections Notre Dame\, 51 Rue Rogers\, Notre Dame de Lourdes\, ma\, Canada
ATTACH;FMTTYPE=image/png:https://regionalconnections.ca/wp-content/uploads/2026/01/Pink-Illustrative-Happy-Valentines-Day-Poster-1.png
END:VEVENT
BEGIN:VEVENT
DTSTART;TZID=America/Winnipeg:20260129T183000
DTEND;TZID=America/Winnipeg:20260129T193000
DTSTAMP:20260423T115720
CREATED:20260120T222037Z
LAST-MODIFIED:20260120T222037Z
UID:10013981-1769711400-1769715000@regionalconnections.ca
SUMMARY:Tai Chi Lesson
DESCRIPTION:Join us for a Tai Chi lesson to help you bring balance and calm to the year ahead!
URL:https://regionalconnections.ca/event/tai-chi-lesson/
LOCATION:Regional Connections Notre Dame\, 51 Rue Rogers\, Notre Dame de Lourdes\, ma\, Canada
ATTACH;FMTTYPE=image/png:https://regionalconnections.ca/wp-content/uploads/2026/01/Tai-Chi-Lesson-1.png
END:VEVENT
END:VCALENDAR