BEGIN:VCALENDAR
VERSION:2.0
PRODID:-//Regional Connections - ECPv6.15.18//NONSGML v1.0//EN
CALSCALE:GREGORIAN
METHOD:PUBLISH
X-ORIGINAL-URL:https://regionalconnections.ca
X-WR-CALDESC:Events for Regional Connections
REFRESH-INTERVAL;VALUE=DURATION:PT1H
X-Robots-Tag:noindex
X-PUBLISHED-TTL:PT1H
BEGIN:VTIMEZONE
TZID:America/Winnipeg
BEGIN:DAYLIGHT
TZOFFSETFROM:-0600
TZOFFSETTO:-0500
TZNAME:CDT
DTSTART:20180311T080000
END:DAYLIGHT
BEGIN:STANDARD
TZOFFSETFROM:-0500
TZOFFSETTO:-0600
TZNAME:CST
DTSTART:20181104T070000
END:STANDARD
BEGIN:DAYLIGHT
TZOFFSETFROM:-0600
TZOFFSETTO:-0500
TZNAME:CDT
DTSTART:20190310T080000
END:DAYLIGHT
BEGIN:STANDARD
TZOFFSETFROM:-0500
TZOFFSETTO:-0600
TZNAME:CST
DTSTART:20191103T070000
END:STANDARD
BEGIN:DAYLIGHT
TZOFFSETFROM:-0600
TZOFFSETTO:-0500
TZNAME:CDT
DTSTART:20200308T080000
END:DAYLIGHT
BEGIN:STANDARD
TZOFFSETFROM:-0500
TZOFFSETTO:-0600
TZNAME:CST
DTSTART:20201101T070000
END:STANDARD
BEGIN:DAYLIGHT
TZOFFSETFROM:-0600
TZOFFSETTO:-0500
TZNAME:CDT
DTSTART:20210314T080000
END:DAYLIGHT
BEGIN:STANDARD
TZOFFSETFROM:-0500
TZOFFSETTO:-0600
TZNAME:CST
DTSTART:20211107T070000
END:STANDARD
END:VTIMEZONE
BEGIN:VEVENT
DTSTART;TZID=America/Winnipeg:20200616T180000
DTEND;TZID=America/Winnipeg:20200616T180000
DTSTAMP:20260423T123314
CREATED:20200608T193518Z
LAST-MODIFIED:20200630T213707Z
UID:10004920-1592330400-1592330400@regionalconnections.ca
SUMMARY:Winkler - Fun Fitness for Women
DESCRIPTION:
URL:https://regionalconnections.ca/event/fun-fitness-for-women/2020-06-16/
LOCATION:Regional Connections\, Winkler\, 2-295 Perry St\, Winkler\, Manitoba\, R6W 0K9\, Canada
ATTACH;FMTTYPE=image/png:https://regionalconnections.ca/wp-content/uploads/2020/06/Fitness-Classes-June-2020.png
GEO:49.1875;-97.92948
X-APPLE-STRUCTURED-LOCATION;VALUE=URI;X-ADDRESS=Regional Connections Winkler 2-295 Perry St Winkler Manitoba R6W 0K9 Canada;X-APPLE-RADIUS=500;X-TITLE=2-295 Perry St:geo:-97.92948,49.1875
END:VEVENT
BEGIN:VEVENT
DTSTART;TZID=America/Winnipeg:20200612T180000
DTEND;TZID=America/Winnipeg:20200612T180000
DTSTAMP:20260423T123314
CREATED:20200608T193518Z
LAST-MODIFIED:20200630T213707Z
UID:10004919-1591984800-1591984800@regionalconnections.ca
SUMMARY:Winkler - Fun Fitness for Women
DESCRIPTION:
URL:https://regionalconnections.ca/event/fun-fitness-for-women/2020-06-12/
LOCATION:Regional Connections\, Winkler\, 2-295 Perry St\, Winkler\, Manitoba\, R6W 0K9\, Canada
ATTACH;FMTTYPE=image/png:https://regionalconnections.ca/wp-content/uploads/2020/06/Fitness-Classes-June-2020.png
GEO:49.1875;-97.92948
X-APPLE-STRUCTURED-LOCATION;VALUE=URI;X-ADDRESS=Regional Connections Winkler 2-295 Perry St Winkler Manitoba R6W 0K9 Canada;X-APPLE-RADIUS=500;X-TITLE=2-295 Perry St:geo:-97.92948,49.1875
END:VEVENT
BEGIN:VEVENT
DTSTART;TZID=America/Winnipeg:20200224T140000
DTEND;TZID=America/Winnipeg:20200224T153000
DTSTAMP:20260423T123314
CREATED:20200128T162816Z
LAST-MODIFIED:20200128T162823Z
UID:10007539-1582552800-1582558200@regionalconnections.ca
SUMMARY:Wills and Estate Planning - Morden
DESCRIPTION:Jaret Hoeppner (BA\, JD) from FHW Law Office will be here to\nanswer questions about Wills and Estate Planning.\nLearn about what a Power of Attorney is\, what’s needed to\nsupport family in your home country (should something happen to you). Learn about Wills and what is needed to create one\nfor yourself and your family.
URL:https://regionalconnections.ca/event/wills-and-estate-planning-morden/
LOCATION:Regional Connections\, Winkler\, 2-295 Perry St\, Winkler\, Manitoba\, R6W 0K9\, Canada
ATTACH;FMTTYPE=image/png:https://regionalconnections.ca/wp-content/uploads/2020/01/Wills-and-Estate-Planning.png
GEO:49.1875;-97.92948
X-APPLE-STRUCTURED-LOCATION;VALUE=URI;X-ADDRESS=Regional Connections Winkler 2-295 Perry St Winkler Manitoba R6W 0K9 Canada;X-APPLE-RADIUS=500;X-TITLE=2-295 Perry St:geo:-97.92948,49.1875
END:VEVENT
BEGIN:VEVENT
DTSTART;TZID=America/Winnipeg:20200220T190000
DTEND;TZID=America/Winnipeg:20200220T203000
DTSTAMP:20260423T123314
CREATED:20200128T162653Z
LAST-MODIFIED:20200128T162701Z
UID:10007538-1582225200-1582230600@regionalconnections.ca
SUMMARY:Wills and Estate Planning - Winkler
DESCRIPTION:Jaret Hoeppner (BA\, JD) from FHW Law Office will be here to\nanswer questions about Wills and Estate Planning.\nLearn about what a Power of Attorney is\, what’s needed to\nsupport family in your home country (should something happen to you). Learn about Wills and what is needed to create one\nfor yourself and your family.
URL:https://regionalconnections.ca/event/wills-and-estate-planning-winkler/
LOCATION:Regional Connections\, Winkler\, 2-295 Perry St\, Winkler\, Manitoba\, R6W 0K9\, Canada
ATTACH;FMTTYPE=image/png:https://regionalconnections.ca/wp-content/uploads/2020/01/Wills-and-Estate-Planning.png
GEO:49.1875;-97.92948
X-APPLE-STRUCTURED-LOCATION;VALUE=URI;X-ADDRESS=Regional Connections Winkler 2-295 Perry St Winkler Manitoba R6W 0K9 Canada;X-APPLE-RADIUS=500;X-TITLE=2-295 Perry St:geo:-97.92948,49.1875
END:VEVENT
BEGIN:VEVENT
DTSTART;TZID=America/Winnipeg:20200219T183000
DTEND;TZID=America/Winnipeg:20200219T200000
DTSTAMP:20260423T123314
CREATED:20200129T162523Z
LAST-MODIFIED:20200129T162558Z
UID:10004884-1582137000-1582142400@regionalconnections.ca
SUMMARY:Business Start-Up Information Session - Winkler
DESCRIPTION:ARE YOU THINKING OF STARTING A BUSINESS IN CANADA?\nCome hear about programs and resources available for people\ninterested in starting a business.\nBusiness Development experts will be there to answer any questions.
URL:https://regionalconnections.ca/event/business-start-up-information-session-winkler/
LOCATION:Regional Connections\, Winkler\, 2-295 Perry St\, Winkler\, Manitoba\, R6W 0K9\, Canada
ATTACH;FMTTYPE=image/png:https://regionalconnections.ca/wp-content/uploads/2020/01/Business-Startup.png
GEO:49.1875;-97.92948
X-APPLE-STRUCTURED-LOCATION;VALUE=URI;X-ADDRESS=Regional Connections Winkler 2-295 Perry St Winkler Manitoba R6W 0K9 Canada;X-APPLE-RADIUS=500;X-TITLE=2-295 Perry St:geo:-97.92948,49.1875
END:VEVENT
BEGIN:VEVENT
DTSTART;TZID=America/Winnipeg:20200218T190000
DTEND;TZID=America/Winnipeg:20200218T203000
DTSTAMP:20260423T123314
CREATED:20200128T183832Z
LAST-MODIFIED:20200128T183841Z
UID:10004877-1582052400-1582057800@regionalconnections.ca
SUMMARY:Financial Literacy Information Night - Winkler
DESCRIPTION:Are you new to Canada and want to learn about Financial Literacy?\nDo you have question about banking in Canada?\nEach month we will discuss important finance related topics.\nRegistration Required
URL:https://regionalconnections.ca/event/financial-literacy-information-night-winkler-5/
LOCATION:Regional Connections\, Winkler\, 2-295 Perry St\, Winkler\, Manitoba\, R6W 0K9\, Canada
ATTACH;FMTTYPE=image/png:https://regionalconnections.ca/wp-content/uploads/2020/01/Financial-Literacy-Information-Night-Winter-Session.png
GEO:49.1875;-97.92948
X-APPLE-STRUCTURED-LOCATION;VALUE=URI;X-ADDRESS=Regional Connections Winkler 2-295 Perry St Winkler Manitoba R6W 0K9 Canada;X-APPLE-RADIUS=500;X-TITLE=2-295 Perry St:geo:-97.92948,49.1875
END:VEVENT
BEGIN:VEVENT
DTSTART;TZID=America/Winnipeg:20200129T190000
DTEND;TZID=America/Winnipeg:20200129T203000
DTSTAMP:20260423T123314
CREATED:20200107T212815Z
LAST-MODIFIED:20200107T212837Z
UID:10007527-1580324400-1580329800@regionalconnections.ca
SUMMARY:Info-Session for Internationally Educated Accountants - Winkler
DESCRIPTION:Become a CPA\, CA: learn about the credential recognition process!\nCrystal Cruickshank\, CPA\, CA -the Regional Ambassador in the\nMorden-Winkler area and Sara Froese -Student Recruitment &\nEmployer Relations Officer of Chartered Professional Accountants\nof Manitoba will be there to provide you with information and\nanswer your questions.\nRegistration required
URL:https://regionalconnections.ca/event/info-session-for-internationally-educated-accountants/
LOCATION:Regional Connections\, Winkler\, 2-295 Perry St\, Winkler\, Manitoba\, R6W 0K9\, Canada
ATTACH;FMTTYPE=image/png:https://regionalconnections.ca/wp-content/uploads/2020/01/Info-Session-for-Accountants.png
GEO:49.1875;-97.92948
X-APPLE-STRUCTURED-LOCATION;VALUE=URI;X-ADDRESS=Regional Connections Winkler 2-295 Perry St Winkler Manitoba R6W 0K9 Canada;X-APPLE-RADIUS=500;X-TITLE=2-295 Perry St:geo:-97.92948,49.1875
END:VEVENT
BEGIN:VEVENT
DTSTART;TZID=America/Winnipeg:20191216T190000
DTEND;TZID=America/Winnipeg:20191216T203000
DTSTAMP:20260423T123314
CREATED:20191128T213444Z
LAST-MODIFIED:20191128T213444Z
UID:10004862-1576522800-1576528200@regionalconnections.ca
SUMMARY:Financial Literacy Information Night - Winkler
DESCRIPTION:Are you new to Canada and want to learn about Financial Literacy?
URL:https://regionalconnections.ca/event/financial-literacy-information-night-winkler-4/
LOCATION:Regional Connections\, Winkler\, 2-295 Perry St\, Winkler\, Manitoba\, R6W 0K9\, Canada
GEO:49.1875;-97.92948
X-APPLE-STRUCTURED-LOCATION;VALUE=URI;X-ADDRESS=Regional Connections Winkler 2-295 Perry St Winkler Manitoba R6W 0K9 Canada;X-APPLE-RADIUS=500;X-TITLE=2-295 Perry St:geo:-97.92948,49.1875
END:VEVENT
BEGIN:VEVENT
DTSTART;TZID=America/Winnipeg:20191202T190000
DTEND;TZID=America/Winnipeg:20191202T200000
DTSTAMP:20260423T123314
CREATED:20191105T164750Z
LAST-MODIFIED:20191105T164750Z
UID:10007521-1575313200-1575316800@regionalconnections.ca
SUMMARY:Home Safety - Winkler
DESCRIPTION:Answer questions like: How old foes your child need to be to stay home alone? What to do in the event of an emergency? Scam and Fraud Prevention
URL:https://regionalconnections.ca/event/home-safety-winkler/
LOCATION:Regional Connections\, Winkler\, 2-295 Perry St\, Winkler\, Manitoba\, R6W 0K9\, Canada
ATTACH;FMTTYPE=image/png:https://regionalconnections.ca/wp-content/uploads/2019/11/Winkler-Home-Safety-Info-Session.png
GEO:49.1875;-97.92948
X-APPLE-STRUCTURED-LOCATION;VALUE=URI;X-ADDRESS=Regional Connections Winkler 2-295 Perry St Winkler Manitoba R6W 0K9 Canada;X-APPLE-RADIUS=500;X-TITLE=2-295 Perry St:geo:-97.92948,49.1875
END:VEVENT
BEGIN:VEVENT
DTSTART;TZID=America/Winnipeg:20190617T183000
DTEND;TZID=America/Winnipeg:20190617T203000
DTSTAMP:20260423T123314
CREATED:20190621T171921Z
LAST-MODIFIED:20190621T171921Z
UID:10007480-1560796200-1560803400@regionalconnections.ca
SUMMARY:Canadian Citizenship Preparation Classes - Winkler
DESCRIPTION:Get ready for your citizenship test! Learn more about Canada and its history. \nRegistration is required.
URL:https://regionalconnections.ca/event/canadian-citizenship-preparation-classes-winkler/
LOCATION:Regional Connections\, Winkler\, 2-295 Perry St\, Winkler\, Manitoba\, R6W 0K9\, Canada
ATTACH;FMTTYPE=image/png:https://regionalconnections.ca/wp-content/uploads/2019/06/Screenshot-86.png
GEO:49.1875;-97.92948
X-APPLE-STRUCTURED-LOCATION;VALUE=URI;X-ADDRESS=Regional Connections Winkler 2-295 Perry St Winkler Manitoba R6W 0K9 Canada;X-APPLE-RADIUS=500;X-TITLE=2-295 Perry St:geo:-97.92948,49.1875
END:VEVENT
END:VCALENDAR