BEGIN:VCALENDAR
VERSION:2.0
PRODID:-//Regional Connections - ECPv6.15.18//NONSGML v1.0//EN
CALSCALE:GREGORIAN
METHOD:PUBLISH
X-ORIGINAL-URL:https://regionalconnections.ca
X-WR-CALDESC:Events for Regional Connections
REFRESH-INTERVAL;VALUE=DURATION:PT1H
X-Robots-Tag:noindex
X-PUBLISHED-TTL:PT1H
BEGIN:VTIMEZONE
TZID:America/Winnipeg
BEGIN:DAYLIGHT
TZOFFSETFROM:-0600
TZOFFSETTO:-0500
TZNAME:CDT
DTSTART:20260308T080000
END:DAYLIGHT
BEGIN:STANDARD
TZOFFSETFROM:-0500
TZOFFSETTO:-0600
TZNAME:CST
DTSTART:20261101T070000
END:STANDARD
BEGIN:DAYLIGHT
TZOFFSETFROM:-0600
TZOFFSETTO:-0500
TZNAME:CDT
DTSTART:20270314T080000
END:DAYLIGHT
BEGIN:STANDARD
TZOFFSETFROM:-0500
TZOFFSETTO:-0600
TZNAME:CST
DTSTART:20271107T070000
END:STANDARD
BEGIN:DAYLIGHT
TZOFFSETFROM:-0600
TZOFFSETTO:-0500
TZNAME:CDT
DTSTART:20280312T080000
END:DAYLIGHT
BEGIN:STANDARD
TZOFFSETFROM:-0500
TZOFFSETTO:-0600
TZNAME:CST
DTSTART:20281105T070000
END:STANDARD
BEGIN:DAYLIGHT
TZOFFSETFROM:-0600
TZOFFSETTO:-0500
TZNAME:CDT
DTSTART:20290311T080000
END:DAYLIGHT
BEGIN:STANDARD
TZOFFSETFROM:-0500
TZOFFSETTO:-0600
TZNAME:CST
DTSTART:20291104T070000
END:STANDARD
END:VTIMEZONE
BEGIN:VEVENT
DTSTART;TZID=America/Winnipeg:20271020T120000
DTEND;TZID=America/Winnipeg:20271020T130000
DTSTAMP:20260424T145035
CREATED:20260107T152312Z
LAST-MODIFIED:20260108T192622Z
UID:10013187-1824033600-1824037200@regionalconnections.ca
SUMMARY:Conversation Circle Winkler
DESCRIPTION:
URL:https://regionalconnections.ca/event/conversation-circle-4/2027-10-20/
LOCATION:Regional Connections Winkler\, 295 Perry St.\, Winkler\, MB\, R6W 4A6\, Canada
ATTACH;FMTTYPE=image/png:https://regionalconnections.ca/wp-content/uploads/2026/01/3.png
END:VEVENT
BEGIN:VEVENT
DTSTART;TZID=America/Winnipeg:20271025T183000
DTEND;TZID=America/Winnipeg:20271025T200000
DTSTAMP:20260424T145035
CREATED:20260107T151809Z
LAST-MODIFIED:20260108T192414Z
UID:10012928-1824489000-1824494400@regionalconnections.ca
SUMMARY:Conversation Circle Winkler
DESCRIPTION:
URL:https://regionalconnections.ca/event/conversation-circle-3/2027-10-25/
LOCATION:Regional Connections Winkler\, 295 Perry St.\, Winkler\, MB\, R6W 4A6\, Canada
ATTACH;FMTTYPE=image/png:https://regionalconnections.ca/wp-content/uploads/2026/01/1.png
END:VEVENT
BEGIN:VEVENT
DTSTART;TZID=America/Winnipeg:20271027T120000
DTEND;TZID=America/Winnipeg:20271027T130000
DTSTAMP:20260424T145035
CREATED:20260107T152312Z
LAST-MODIFIED:20260108T192622Z
UID:10013188-1824638400-1824642000@regionalconnections.ca
SUMMARY:Conversation Circle Winkler
DESCRIPTION:
URL:https://regionalconnections.ca/event/conversation-circle-4/2027-10-27/
LOCATION:Regional Connections Winkler\, 295 Perry St.\, Winkler\, MB\, R6W 4A6\, Canada
ATTACH;FMTTYPE=image/png:https://regionalconnections.ca/wp-content/uploads/2026/01/3.png
END:VEVENT
BEGIN:VEVENT
DTSTART;TZID=America/Winnipeg:20271101T183000
DTEND;TZID=America/Winnipeg:20271101T200000
DTSTAMP:20260424T145035
CREATED:20260107T151809Z
LAST-MODIFIED:20260108T192414Z
UID:10012929-1825093800-1825099200@regionalconnections.ca
SUMMARY:Conversation Circle Winkler
DESCRIPTION:
URL:https://regionalconnections.ca/event/conversation-circle-3/2027-11-01/
LOCATION:Regional Connections Winkler\, 295 Perry St.\, Winkler\, MB\, R6W 4A6\, Canada
ATTACH;FMTTYPE=image/png:https://regionalconnections.ca/wp-content/uploads/2026/01/1.png
END:VEVENT
BEGIN:VEVENT
DTSTART;TZID=America/Winnipeg:20271103T120000
DTEND;TZID=America/Winnipeg:20271103T130000
DTSTAMP:20260424T145035
CREATED:20260107T152312Z
LAST-MODIFIED:20260108T192622Z
UID:10013189-1825243200-1825246800@regionalconnections.ca
SUMMARY:Conversation Circle Winkler
DESCRIPTION:
URL:https://regionalconnections.ca/event/conversation-circle-4/2027-11-03/
LOCATION:Regional Connections Winkler\, 295 Perry St.\, Winkler\, MB\, R6W 4A6\, Canada
ATTACH;FMTTYPE=image/png:https://regionalconnections.ca/wp-content/uploads/2026/01/3.png
END:VEVENT
BEGIN:VEVENT
DTSTART;TZID=America/Winnipeg:20271108T183000
DTEND;TZID=America/Winnipeg:20271108T200000
DTSTAMP:20260424T145035
CREATED:20260107T151809Z
LAST-MODIFIED:20260108T192414Z
UID:10012930-1825698600-1825704000@regionalconnections.ca
SUMMARY:Conversation Circle Winkler
DESCRIPTION:
URL:https://regionalconnections.ca/event/conversation-circle-3/2027-11-08/
LOCATION:Regional Connections Winkler\, 295 Perry St.\, Winkler\, MB\, R6W 4A6\, Canada
ATTACH;FMTTYPE=image/png:https://regionalconnections.ca/wp-content/uploads/2026/01/1.png
END:VEVENT
BEGIN:VEVENT
DTSTART;TZID=America/Winnipeg:20271110T120000
DTEND;TZID=America/Winnipeg:20271110T130000
DTSTAMP:20260424T145035
CREATED:20260107T152312Z
LAST-MODIFIED:20260108T192622Z
UID:10013190-1825848000-1825851600@regionalconnections.ca
SUMMARY:Conversation Circle Winkler
DESCRIPTION:
URL:https://regionalconnections.ca/event/conversation-circle-4/2027-11-10/
LOCATION:Regional Connections Winkler\, 295 Perry St.\, Winkler\, MB\, R6W 4A6\, Canada
ATTACH;FMTTYPE=image/png:https://regionalconnections.ca/wp-content/uploads/2026/01/3.png
END:VEVENT
BEGIN:VEVENT
DTSTART;TZID=America/Winnipeg:20271115T183000
DTEND;TZID=America/Winnipeg:20271115T200000
DTSTAMP:20260424T145035
CREATED:20260107T151809Z
LAST-MODIFIED:20260108T192414Z
UID:10012931-1826303400-1826308800@regionalconnections.ca
SUMMARY:Conversation Circle Winkler
DESCRIPTION:
URL:https://regionalconnections.ca/event/conversation-circle-3/2027-11-15/
LOCATION:Regional Connections Winkler\, 295 Perry St.\, Winkler\, MB\, R6W 4A6\, Canada
ATTACH;FMTTYPE=image/png:https://regionalconnections.ca/wp-content/uploads/2026/01/1.png
END:VEVENT
BEGIN:VEVENT
DTSTART;TZID=America/Winnipeg:20271117T120000
DTEND;TZID=America/Winnipeg:20271117T130000
DTSTAMP:20260424T145035
CREATED:20260107T152312Z
LAST-MODIFIED:20260108T192622Z
UID:10013191-1826452800-1826456400@regionalconnections.ca
SUMMARY:Conversation Circle Winkler
DESCRIPTION:
URL:https://regionalconnections.ca/event/conversation-circle-4/2027-11-17/
LOCATION:Regional Connections Winkler\, 295 Perry St.\, Winkler\, MB\, R6W 4A6\, Canada
ATTACH;FMTTYPE=image/png:https://regionalconnections.ca/wp-content/uploads/2026/01/3.png
END:VEVENT
BEGIN:VEVENT
DTSTART;TZID=America/Winnipeg:20271122T183000
DTEND;TZID=America/Winnipeg:20271122T200000
DTSTAMP:20260424T145035
CREATED:20260107T151809Z
LAST-MODIFIED:20260108T192414Z
UID:10012932-1826908200-1826913600@regionalconnections.ca
SUMMARY:Conversation Circle Winkler
DESCRIPTION:
URL:https://regionalconnections.ca/event/conversation-circle-3/2027-11-22/
LOCATION:Regional Connections Winkler\, 295 Perry St.\, Winkler\, MB\, R6W 4A6\, Canada
ATTACH;FMTTYPE=image/png:https://regionalconnections.ca/wp-content/uploads/2026/01/1.png
END:VEVENT
BEGIN:VEVENT
DTSTART;TZID=America/Winnipeg:20271124T120000
DTEND;TZID=America/Winnipeg:20271124T130000
DTSTAMP:20260424T145035
CREATED:20260107T152312Z
LAST-MODIFIED:20260108T192622Z
UID:10013192-1827057600-1827061200@regionalconnections.ca
SUMMARY:Conversation Circle Winkler
DESCRIPTION:
URL:https://regionalconnections.ca/event/conversation-circle-4/2027-11-24/
LOCATION:Regional Connections Winkler\, 295 Perry St.\, Winkler\, MB\, R6W 4A6\, Canada
ATTACH;FMTTYPE=image/png:https://regionalconnections.ca/wp-content/uploads/2026/01/3.png
END:VEVENT
BEGIN:VEVENT
DTSTART;TZID=America/Winnipeg:20271129T183000
DTEND;TZID=America/Winnipeg:20271129T200000
DTSTAMP:20260424T145035
CREATED:20260107T151809Z
LAST-MODIFIED:20260108T192414Z
UID:10012933-1827513000-1827518400@regionalconnections.ca
SUMMARY:Conversation Circle Winkler
DESCRIPTION:
URL:https://regionalconnections.ca/event/conversation-circle-3/2027-11-29/
LOCATION:Regional Connections Winkler\, 295 Perry St.\, Winkler\, MB\, R6W 4A6\, Canada
ATTACH;FMTTYPE=image/png:https://regionalconnections.ca/wp-content/uploads/2026/01/1.png
END:VEVENT
BEGIN:VEVENT
DTSTART;TZID=America/Winnipeg:20271201T120000
DTEND;TZID=America/Winnipeg:20271201T130000
DTSTAMP:20260424T145035
CREATED:20260107T152312Z
LAST-MODIFIED:20260108T192622Z
UID:10013193-1827662400-1827666000@regionalconnections.ca
SUMMARY:Conversation Circle Winkler
DESCRIPTION:
URL:https://regionalconnections.ca/event/conversation-circle-4/2027-12-01/
LOCATION:Regional Connections Winkler\, 295 Perry St.\, Winkler\, MB\, R6W 4A6\, Canada
ATTACH;FMTTYPE=image/png:https://regionalconnections.ca/wp-content/uploads/2026/01/3.png
END:VEVENT
BEGIN:VEVENT
DTSTART;TZID=America/Winnipeg:20271206T183000
DTEND;TZID=America/Winnipeg:20271206T200000
DTSTAMP:20260424T145035
CREATED:20260107T151809Z
LAST-MODIFIED:20260108T192414Z
UID:10012934-1828117800-1828123200@regionalconnections.ca
SUMMARY:Conversation Circle Winkler
DESCRIPTION:
URL:https://regionalconnections.ca/event/conversation-circle-3/2027-12-06/
LOCATION:Regional Connections Winkler\, 295 Perry St.\, Winkler\, MB\, R6W 4A6\, Canada
ATTACH;FMTTYPE=image/png:https://regionalconnections.ca/wp-content/uploads/2026/01/1.png
END:VEVENT
BEGIN:VEVENT
DTSTART;TZID=America/Winnipeg:20271208T120000
DTEND;TZID=America/Winnipeg:20271208T130000
DTSTAMP:20260424T145035
CREATED:20260107T152312Z
LAST-MODIFIED:20260108T192622Z
UID:10013194-1828267200-1828270800@regionalconnections.ca
SUMMARY:Conversation Circle Winkler
DESCRIPTION:
URL:https://regionalconnections.ca/event/conversation-circle-4/2027-12-08/
LOCATION:Regional Connections Winkler\, 295 Perry St.\, Winkler\, MB\, R6W 4A6\, Canada
ATTACH;FMTTYPE=image/png:https://regionalconnections.ca/wp-content/uploads/2026/01/3.png
END:VEVENT
BEGIN:VEVENT
DTSTART;TZID=America/Winnipeg:20271213T183000
DTEND;TZID=America/Winnipeg:20271213T200000
DTSTAMP:20260424T145035
CREATED:20260107T151809Z
LAST-MODIFIED:20260108T192414Z
UID:10012935-1828722600-1828728000@regionalconnections.ca
SUMMARY:Conversation Circle Winkler
DESCRIPTION:
URL:https://regionalconnections.ca/event/conversation-circle-3/2027-12-13/
LOCATION:Regional Connections Winkler\, 295 Perry St.\, Winkler\, MB\, R6W 4A6\, Canada
ATTACH;FMTTYPE=image/png:https://regionalconnections.ca/wp-content/uploads/2026/01/1.png
END:VEVENT
BEGIN:VEVENT
DTSTART;TZID=America/Winnipeg:20271215T120000
DTEND;TZID=America/Winnipeg:20271215T130000
DTSTAMP:20260424T145035
CREATED:20260107T152312Z
LAST-MODIFIED:20260108T192622Z
UID:10013195-1828872000-1828875600@regionalconnections.ca
SUMMARY:Conversation Circle Winkler
DESCRIPTION:
URL:https://regionalconnections.ca/event/conversation-circle-4/2027-12-15/
LOCATION:Regional Connections Winkler\, 295 Perry St.\, Winkler\, MB\, R6W 4A6\, Canada
ATTACH;FMTTYPE=image/png:https://regionalconnections.ca/wp-content/uploads/2026/01/3.png
END:VEVENT
BEGIN:VEVENT
DTSTART;TZID=America/Winnipeg:20271220T183000
DTEND;TZID=America/Winnipeg:20271220T200000
DTSTAMP:20260424T145035
CREATED:20260107T151809Z
LAST-MODIFIED:20260108T192414Z
UID:10012936-1829327400-1829332800@regionalconnections.ca
SUMMARY:Conversation Circle Winkler
DESCRIPTION:
URL:https://regionalconnections.ca/event/conversation-circle-3/2027-12-20/
LOCATION:Regional Connections Winkler\, 295 Perry St.\, Winkler\, MB\, R6W 4A6\, Canada
ATTACH;FMTTYPE=image/png:https://regionalconnections.ca/wp-content/uploads/2026/01/1.png
END:VEVENT
BEGIN:VEVENT
DTSTART;TZID=America/Winnipeg:20271222T120000
DTEND;TZID=America/Winnipeg:20271222T130000
DTSTAMP:20260424T145035
CREATED:20260107T152312Z
LAST-MODIFIED:20260108T192622Z
UID:10013196-1829476800-1829480400@regionalconnections.ca
SUMMARY:Conversation Circle Winkler
DESCRIPTION:
URL:https://regionalconnections.ca/event/conversation-circle-4/2027-12-22/
LOCATION:Regional Connections Winkler\, 295 Perry St.\, Winkler\, MB\, R6W 4A6\, Canada
ATTACH;FMTTYPE=image/png:https://regionalconnections.ca/wp-content/uploads/2026/01/3.png
END:VEVENT
BEGIN:VEVENT
DTSTART;TZID=America/Winnipeg:20271227T183000
DTEND;TZID=America/Winnipeg:20271227T200000
DTSTAMP:20260424T145035
CREATED:20260107T151809Z
LAST-MODIFIED:20260108T192414Z
UID:10012937-1829932200-1829937600@regionalconnections.ca
SUMMARY:Conversation Circle Winkler
DESCRIPTION:
URL:https://regionalconnections.ca/event/conversation-circle-3/2027-12-27/
LOCATION:Regional Connections Winkler\, 295 Perry St.\, Winkler\, MB\, R6W 4A6\, Canada
ATTACH;FMTTYPE=image/png:https://regionalconnections.ca/wp-content/uploads/2026/01/1.png
END:VEVENT
BEGIN:VEVENT
DTSTART;TZID=America/Winnipeg:20271229T120000
DTEND;TZID=America/Winnipeg:20271229T130000
DTSTAMP:20260424T145035
CREATED:20260107T152312Z
LAST-MODIFIED:20260108T192622Z
UID:10013197-1830081600-1830085200@regionalconnections.ca
SUMMARY:Conversation Circle Winkler
DESCRIPTION:
URL:https://regionalconnections.ca/event/conversation-circle-4/2027-12-29/
LOCATION:Regional Connections Winkler\, 295 Perry St.\, Winkler\, MB\, R6W 4A6\, Canada
ATTACH;FMTTYPE=image/png:https://regionalconnections.ca/wp-content/uploads/2026/01/3.png
END:VEVENT
BEGIN:VEVENT
DTSTART;TZID=America/Winnipeg:20280103T183000
DTEND;TZID=America/Winnipeg:20280103T200000
DTSTAMP:20260424T145035
CREATED:20260107T151809Z
LAST-MODIFIED:20260108T192414Z
UID:10012938-1830537000-1830542400@regionalconnections.ca
SUMMARY:Conversation Circle Winkler
DESCRIPTION:
URL:https://regionalconnections.ca/event/conversation-circle-3/2028-01-03/
LOCATION:Regional Connections Winkler\, 295 Perry St.\, Winkler\, MB\, R6W 4A6\, Canada
ATTACH;FMTTYPE=image/png:https://regionalconnections.ca/wp-content/uploads/2026/01/1.png
END:VEVENT
BEGIN:VEVENT
DTSTART;TZID=America/Winnipeg:20280105T120000
DTEND;TZID=America/Winnipeg:20280105T130000
DTSTAMP:20260424T145035
CREATED:20260107T152312Z
LAST-MODIFIED:20260108T192622Z
UID:10013198-1830686400-1830690000@regionalconnections.ca
SUMMARY:Conversation Circle Winkler
DESCRIPTION:
URL:https://regionalconnections.ca/event/conversation-circle-4/2028-01-05/
LOCATION:Regional Connections Winkler\, 295 Perry St.\, Winkler\, MB\, R6W 4A6\, Canada
ATTACH;FMTTYPE=image/png:https://regionalconnections.ca/wp-content/uploads/2026/01/3.png
END:VEVENT
BEGIN:VEVENT
DTSTART;TZID=America/Winnipeg:20280110T183000
DTEND;TZID=America/Winnipeg:20280110T200000
DTSTAMP:20260424T145035
CREATED:20260107T151809Z
LAST-MODIFIED:20260108T192414Z
UID:10012939-1831141800-1831147200@regionalconnections.ca
SUMMARY:Conversation Circle Winkler
DESCRIPTION:
URL:https://regionalconnections.ca/event/conversation-circle-3/2028-01-10/
LOCATION:Regional Connections Winkler\, 295 Perry St.\, Winkler\, MB\, R6W 4A6\, Canada
ATTACH;FMTTYPE=image/png:https://regionalconnections.ca/wp-content/uploads/2026/01/1.png
END:VEVENT
BEGIN:VEVENT
DTSTART;TZID=America/Winnipeg:20280112T120000
DTEND;TZID=America/Winnipeg:20280112T130000
DTSTAMP:20260424T145035
CREATED:20260107T152312Z
LAST-MODIFIED:20260108T192622Z
UID:10013199-1831291200-1831294800@regionalconnections.ca
SUMMARY:Conversation Circle Winkler
DESCRIPTION:
URL:https://regionalconnections.ca/event/conversation-circle-4/2028-01-12/
LOCATION:Regional Connections Winkler\, 295 Perry St.\, Winkler\, MB\, R6W 4A6\, Canada
ATTACH;FMTTYPE=image/png:https://regionalconnections.ca/wp-content/uploads/2026/01/3.png
END:VEVENT
BEGIN:VEVENT
DTSTART;TZID=America/Winnipeg:20280117T183000
DTEND;TZID=America/Winnipeg:20280117T200000
DTSTAMP:20260424T145035
CREATED:20260107T151809Z
LAST-MODIFIED:20260108T192414Z
UID:10012940-1831746600-1831752000@regionalconnections.ca
SUMMARY:Conversation Circle Winkler
DESCRIPTION:
URL:https://regionalconnections.ca/event/conversation-circle-3/2028-01-17/
LOCATION:Regional Connections Winkler\, 295 Perry St.\, Winkler\, MB\, R6W 4A6\, Canada
ATTACH;FMTTYPE=image/png:https://regionalconnections.ca/wp-content/uploads/2026/01/1.png
END:VEVENT
BEGIN:VEVENT
DTSTART;TZID=America/Winnipeg:20280119T120000
DTEND;TZID=America/Winnipeg:20280119T130000
DTSTAMP:20260424T145035
CREATED:20260107T152312Z
LAST-MODIFIED:20260108T192622Z
UID:10013200-1831896000-1831899600@regionalconnections.ca
SUMMARY:Conversation Circle Winkler
DESCRIPTION:
URL:https://regionalconnections.ca/event/conversation-circle-4/2028-01-19/
LOCATION:Regional Connections Winkler\, 295 Perry St.\, Winkler\, MB\, R6W 4A6\, Canada
ATTACH;FMTTYPE=image/png:https://regionalconnections.ca/wp-content/uploads/2026/01/3.png
END:VEVENT
BEGIN:VEVENT
DTSTART;TZID=America/Winnipeg:20280124T183000
DTEND;TZID=America/Winnipeg:20280124T200000
DTSTAMP:20260424T145035
CREATED:20260107T151809Z
LAST-MODIFIED:20260108T192414Z
UID:10012941-1832351400-1832356800@regionalconnections.ca
SUMMARY:Conversation Circle Winkler
DESCRIPTION:
URL:https://regionalconnections.ca/event/conversation-circle-3/2028-01-24/
LOCATION:Regional Connections Winkler\, 295 Perry St.\, Winkler\, MB\, R6W 4A6\, Canada
ATTACH;FMTTYPE=image/png:https://regionalconnections.ca/wp-content/uploads/2026/01/1.png
END:VEVENT
BEGIN:VEVENT
DTSTART;TZID=America/Winnipeg:20280126T120000
DTEND;TZID=America/Winnipeg:20280126T130000
DTSTAMP:20260424T145035
CREATED:20260107T152312Z
LAST-MODIFIED:20260108T192622Z
UID:10013201-1832500800-1832504400@regionalconnections.ca
SUMMARY:Conversation Circle Winkler
DESCRIPTION:
URL:https://regionalconnections.ca/event/conversation-circle-4/2028-01-26/
LOCATION:Regional Connections Winkler\, 295 Perry St.\, Winkler\, MB\, R6W 4A6\, Canada
ATTACH;FMTTYPE=image/png:https://regionalconnections.ca/wp-content/uploads/2026/01/3.png
END:VEVENT
BEGIN:VEVENT
DTSTART;TZID=America/Winnipeg:20280131T183000
DTEND;TZID=America/Winnipeg:20280131T200000
DTSTAMP:20260424T145035
CREATED:20260107T151809Z
LAST-MODIFIED:20260108T192414Z
UID:10012942-1832956200-1832961600@regionalconnections.ca
SUMMARY:Conversation Circle Winkler
DESCRIPTION:
URL:https://regionalconnections.ca/event/conversation-circle-3/2028-01-31/
LOCATION:Regional Connections Winkler\, 295 Perry St.\, Winkler\, MB\, R6W 4A6\, Canada
ATTACH;FMTTYPE=image/png:https://regionalconnections.ca/wp-content/uploads/2026/01/1.png
END:VEVENT
END:VCALENDAR