BEGIN:VCALENDAR
VERSION:2.0
PRODID:-//Regional Connections - ECPv6.15.18//NONSGML v1.0//EN
CALSCALE:GREGORIAN
METHOD:PUBLISH
X-ORIGINAL-URL:https://regionalconnections.ca
X-WR-CALDESC:Events for Regional Connections
REFRESH-INTERVAL;VALUE=DURATION:PT1H
X-Robots-Tag:noindex
X-PUBLISHED-TTL:PT1H
BEGIN:VTIMEZONE
TZID:America/Winnipeg
BEGIN:DAYLIGHT
TZOFFSETFROM:-0600
TZOFFSETTO:-0500
TZNAME:CDT
DTSTART:20270314T080000
END:DAYLIGHT
BEGIN:STANDARD
TZOFFSETFROM:-0500
TZOFFSETTO:-0600
TZNAME:CST
DTSTART:20271107T070000
END:STANDARD
BEGIN:DAYLIGHT
TZOFFSETFROM:-0600
TZOFFSETTO:-0500
TZNAME:CDT
DTSTART:20280312T080000
END:DAYLIGHT
BEGIN:STANDARD
TZOFFSETFROM:-0500
TZOFFSETTO:-0600
TZNAME:CST
DTSTART:20281105T070000
END:STANDARD
BEGIN:DAYLIGHT
TZOFFSETFROM:-0600
TZOFFSETTO:-0500
TZNAME:CDT
DTSTART:20290311T080000
END:DAYLIGHT
BEGIN:STANDARD
TZOFFSETFROM:-0500
TZOFFSETTO:-0600
TZNAME:CST
DTSTART:20291104T070000
END:STANDARD
BEGIN:DAYLIGHT
TZOFFSETFROM:-0600
TZOFFSETTO:-0500
TZNAME:CDT
DTSTART:20300310T080000
END:DAYLIGHT
BEGIN:STANDARD
TZOFFSETFROM:-0500
TZOFFSETTO:-0600
TZNAME:CST
DTSTART:20301103T070000
END:STANDARD
END:VTIMEZONE
BEGIN:VEVENT
DTSTART;TZID=America/Winnipeg:20281213T120000
DTEND;TZID=America/Winnipeg:20281213T130000
DTSTAMP:20260425T062125
CREATED:20260107T152312Z
LAST-MODIFIED:20260108T192622Z
UID:10013247-1860321600-1860325200@regionalconnections.ca
SUMMARY:Conversation Circle Winkler
DESCRIPTION:
URL:https://regionalconnections.ca/event/conversation-circle-4/2028-12-13/
LOCATION:Regional Connections Winkler\, 295 Perry St.\, Winkler\, MB\, R6W 4A6\, Canada
ATTACH;FMTTYPE=image/png:https://regionalconnections.ca/wp-content/uploads/2026/01/3.png
END:VEVENT
BEGIN:VEVENT
DTSTART;TZID=America/Winnipeg:20281218T183000
DTEND;TZID=America/Winnipeg:20281218T200000
DTSTAMP:20260425T062125
CREATED:20260107T151809Z
LAST-MODIFIED:20260108T192414Z
UID:10012988-1860777000-1860782400@regionalconnections.ca
SUMMARY:Conversation Circle Winkler
DESCRIPTION:
URL:https://regionalconnections.ca/event/conversation-circle-3/2028-12-18/
LOCATION:Regional Connections Winkler\, 295 Perry St.\, Winkler\, MB\, R6W 4A6\, Canada
ATTACH;FMTTYPE=image/png:https://regionalconnections.ca/wp-content/uploads/2026/01/1.png
END:VEVENT
BEGIN:VEVENT
DTSTART;TZID=America/Winnipeg:20281220T120000
DTEND;TZID=America/Winnipeg:20281220T130000
DTSTAMP:20260425T062125
CREATED:20260107T152312Z
LAST-MODIFIED:20260108T192622Z
UID:10013248-1860926400-1860930000@regionalconnections.ca
SUMMARY:Conversation Circle Winkler
DESCRIPTION:
URL:https://regionalconnections.ca/event/conversation-circle-4/2028-12-20/
LOCATION:Regional Connections Winkler\, 295 Perry St.\, Winkler\, MB\, R6W 4A6\, Canada
ATTACH;FMTTYPE=image/png:https://regionalconnections.ca/wp-content/uploads/2026/01/3.png
END:VEVENT
BEGIN:VEVENT
DTSTART;TZID=America/Winnipeg:20281225T183000
DTEND;TZID=America/Winnipeg:20281225T200000
DTSTAMP:20260425T062125
CREATED:20260107T151809Z
LAST-MODIFIED:20260108T192414Z
UID:10012989-1861381800-1861387200@regionalconnections.ca
SUMMARY:Conversation Circle Winkler
DESCRIPTION:
URL:https://regionalconnections.ca/event/conversation-circle-3/2028-12-25/
LOCATION:Regional Connections Winkler\, 295 Perry St.\, Winkler\, MB\, R6W 4A6\, Canada
ATTACH;FMTTYPE=image/png:https://regionalconnections.ca/wp-content/uploads/2026/01/1.png
END:VEVENT
BEGIN:VEVENT
DTSTART;TZID=America/Winnipeg:20281227T120000
DTEND;TZID=America/Winnipeg:20281227T130000
DTSTAMP:20260425T062125
CREATED:20260107T152312Z
LAST-MODIFIED:20260108T192622Z
UID:10013249-1861531200-1861534800@regionalconnections.ca
SUMMARY:Conversation Circle Winkler
DESCRIPTION:
URL:https://regionalconnections.ca/event/conversation-circle-4/2028-12-27/
LOCATION:Regional Connections Winkler\, 295 Perry St.\, Winkler\, MB\, R6W 4A6\, Canada
ATTACH;FMTTYPE=image/png:https://regionalconnections.ca/wp-content/uploads/2026/01/3.png
END:VEVENT
BEGIN:VEVENT
DTSTART;TZID=America/Winnipeg:20290101T183000
DTEND;TZID=America/Winnipeg:20290101T200000
DTSTAMP:20260425T062125
CREATED:20260107T151809Z
LAST-MODIFIED:20260108T192414Z
UID:10012990-1861986600-1861992000@regionalconnections.ca
SUMMARY:Conversation Circle Winkler
DESCRIPTION:
URL:https://regionalconnections.ca/event/conversation-circle-3/2029-01-01/
LOCATION:Regional Connections Winkler\, 295 Perry St.\, Winkler\, MB\, R6W 4A6\, Canada
ATTACH;FMTTYPE=image/png:https://regionalconnections.ca/wp-content/uploads/2026/01/1.png
END:VEVENT
BEGIN:VEVENT
DTSTART;TZID=America/Winnipeg:20290103T120000
DTEND;TZID=America/Winnipeg:20290103T130000
DTSTAMP:20260425T062125
CREATED:20260107T152312Z
LAST-MODIFIED:20260108T192622Z
UID:10013250-1862136000-1862139600@regionalconnections.ca
SUMMARY:Conversation Circle Winkler
DESCRIPTION:
URL:https://regionalconnections.ca/event/conversation-circle-4/2029-01-03/
LOCATION:Regional Connections Winkler\, 295 Perry St.\, Winkler\, MB\, R6W 4A6\, Canada
ATTACH;FMTTYPE=image/png:https://regionalconnections.ca/wp-content/uploads/2026/01/3.png
END:VEVENT
BEGIN:VEVENT
DTSTART;TZID=America/Winnipeg:20290108T183000
DTEND;TZID=America/Winnipeg:20290108T200000
DTSTAMP:20260425T062125
CREATED:20260107T151809Z
LAST-MODIFIED:20260108T192414Z
UID:10012991-1862591400-1862596800@regionalconnections.ca
SUMMARY:Conversation Circle Winkler
DESCRIPTION:
URL:https://regionalconnections.ca/event/conversation-circle-3/2029-01-08/
LOCATION:Regional Connections Winkler\, 295 Perry St.\, Winkler\, MB\, R6W 4A6\, Canada
ATTACH;FMTTYPE=image/png:https://regionalconnections.ca/wp-content/uploads/2026/01/1.png
END:VEVENT
BEGIN:VEVENT
DTSTART;TZID=America/Winnipeg:20290110T120000
DTEND;TZID=America/Winnipeg:20290110T130000
DTSTAMP:20260425T062125
CREATED:20260107T152312Z
LAST-MODIFIED:20260108T192622Z
UID:10013251-1862740800-1862744400@regionalconnections.ca
SUMMARY:Conversation Circle Winkler
DESCRIPTION:
URL:https://regionalconnections.ca/event/conversation-circle-4/2029-01-10/
LOCATION:Regional Connections Winkler\, 295 Perry St.\, Winkler\, MB\, R6W 4A6\, Canada
ATTACH;FMTTYPE=image/png:https://regionalconnections.ca/wp-content/uploads/2026/01/3.png
END:VEVENT
BEGIN:VEVENT
DTSTART;TZID=America/Winnipeg:20290115T183000
DTEND;TZID=America/Winnipeg:20290115T200000
DTSTAMP:20260425T062125
CREATED:20260107T151809Z
LAST-MODIFIED:20260108T192414Z
UID:10012992-1863196200-1863201600@regionalconnections.ca
SUMMARY:Conversation Circle Winkler
DESCRIPTION:
URL:https://regionalconnections.ca/event/conversation-circle-3/2029-01-15/
LOCATION:Regional Connections Winkler\, 295 Perry St.\, Winkler\, MB\, R6W 4A6\, Canada
ATTACH;FMTTYPE=image/png:https://regionalconnections.ca/wp-content/uploads/2026/01/1.png
END:VEVENT
BEGIN:VEVENT
DTSTART;TZID=America/Winnipeg:20290117T120000
DTEND;TZID=America/Winnipeg:20290117T130000
DTSTAMP:20260425T062125
CREATED:20260107T152312Z
LAST-MODIFIED:20260108T192622Z
UID:10013252-1863345600-1863349200@regionalconnections.ca
SUMMARY:Conversation Circle Winkler
DESCRIPTION:
URL:https://regionalconnections.ca/event/conversation-circle-4/2029-01-17/
LOCATION:Regional Connections Winkler\, 295 Perry St.\, Winkler\, MB\, R6W 4A6\, Canada
ATTACH;FMTTYPE=image/png:https://regionalconnections.ca/wp-content/uploads/2026/01/3.png
END:VEVENT
BEGIN:VEVENT
DTSTART;TZID=America/Winnipeg:20290122T183000
DTEND;TZID=America/Winnipeg:20290122T200000
DTSTAMP:20260425T062125
CREATED:20260107T151809Z
LAST-MODIFIED:20260108T192414Z
UID:10012993-1863801000-1863806400@regionalconnections.ca
SUMMARY:Conversation Circle Winkler
DESCRIPTION:
URL:https://regionalconnections.ca/event/conversation-circle-3/2029-01-22/
LOCATION:Regional Connections Winkler\, 295 Perry St.\, Winkler\, MB\, R6W 4A6\, Canada
ATTACH;FMTTYPE=image/png:https://regionalconnections.ca/wp-content/uploads/2026/01/1.png
END:VEVENT
BEGIN:VEVENT
DTSTART;TZID=America/Winnipeg:20290124T120000
DTEND;TZID=America/Winnipeg:20290124T130000
DTSTAMP:20260425T062125
CREATED:20260107T152312Z
LAST-MODIFIED:20260108T192622Z
UID:10013253-1863950400-1863954000@regionalconnections.ca
SUMMARY:Conversation Circle Winkler
DESCRIPTION:
URL:https://regionalconnections.ca/event/conversation-circle-4/2029-01-24/
LOCATION:Regional Connections Winkler\, 295 Perry St.\, Winkler\, MB\, R6W 4A6\, Canada
ATTACH;FMTTYPE=image/png:https://regionalconnections.ca/wp-content/uploads/2026/01/3.png
END:VEVENT
BEGIN:VEVENT
DTSTART;TZID=America/Winnipeg:20290129T183000
DTEND;TZID=America/Winnipeg:20290129T200000
DTSTAMP:20260425T062125
CREATED:20260107T151809Z
LAST-MODIFIED:20260108T192414Z
UID:10012994-1864405800-1864411200@regionalconnections.ca
SUMMARY:Conversation Circle Winkler
DESCRIPTION:
URL:https://regionalconnections.ca/event/conversation-circle-3/2029-01-29/
LOCATION:Regional Connections Winkler\, 295 Perry St.\, Winkler\, MB\, R6W 4A6\, Canada
ATTACH;FMTTYPE=image/png:https://regionalconnections.ca/wp-content/uploads/2026/01/1.png
END:VEVENT
BEGIN:VEVENT
DTSTART;TZID=America/Winnipeg:20290131T120000
DTEND;TZID=America/Winnipeg:20290131T130000
DTSTAMP:20260425T062125
CREATED:20260107T152312Z
LAST-MODIFIED:20260108T192622Z
UID:10013254-1864555200-1864558800@regionalconnections.ca
SUMMARY:Conversation Circle Winkler
DESCRIPTION:
URL:https://regionalconnections.ca/event/conversation-circle-4/2029-01-31/
LOCATION:Regional Connections Winkler\, 295 Perry St.\, Winkler\, MB\, R6W 4A6\, Canada
ATTACH;FMTTYPE=image/png:https://regionalconnections.ca/wp-content/uploads/2026/01/3.png
END:VEVENT
BEGIN:VEVENT
DTSTART;TZID=America/Winnipeg:20290205T183000
DTEND;TZID=America/Winnipeg:20290205T200000
DTSTAMP:20260425T062125
CREATED:20260107T151809Z
LAST-MODIFIED:20260108T192414Z
UID:10012995-1865010600-1865016000@regionalconnections.ca
SUMMARY:Conversation Circle Winkler
DESCRIPTION:
URL:https://regionalconnections.ca/event/conversation-circle-3/2029-02-05/
LOCATION:Regional Connections Winkler\, 295 Perry St.\, Winkler\, MB\, R6W 4A6\, Canada
ATTACH;FMTTYPE=image/png:https://regionalconnections.ca/wp-content/uploads/2026/01/1.png
END:VEVENT
BEGIN:VEVENT
DTSTART;TZID=America/Winnipeg:20290207T120000
DTEND;TZID=America/Winnipeg:20290207T130000
DTSTAMP:20260425T062125
CREATED:20260107T152312Z
LAST-MODIFIED:20260108T192622Z
UID:10013255-1865160000-1865163600@regionalconnections.ca
SUMMARY:Conversation Circle Winkler
DESCRIPTION:
URL:https://regionalconnections.ca/event/conversation-circle-4/2029-02-07/
LOCATION:Regional Connections Winkler\, 295 Perry St.\, Winkler\, MB\, R6W 4A6\, Canada
ATTACH;FMTTYPE=image/png:https://regionalconnections.ca/wp-content/uploads/2026/01/3.png
END:VEVENT
BEGIN:VEVENT
DTSTART;TZID=America/Winnipeg:20290212T183000
DTEND;TZID=America/Winnipeg:20290212T200000
DTSTAMP:20260425T062125
CREATED:20260107T151809Z
LAST-MODIFIED:20260108T192414Z
UID:10012996-1865615400-1865620800@regionalconnections.ca
SUMMARY:Conversation Circle Winkler
DESCRIPTION:
URL:https://regionalconnections.ca/event/conversation-circle-3/2029-02-12/
LOCATION:Regional Connections Winkler\, 295 Perry St.\, Winkler\, MB\, R6W 4A6\, Canada
ATTACH;FMTTYPE=image/png:https://regionalconnections.ca/wp-content/uploads/2026/01/1.png
END:VEVENT
BEGIN:VEVENT
DTSTART;TZID=America/Winnipeg:20290214T120000
DTEND;TZID=America/Winnipeg:20290214T130000
DTSTAMP:20260425T062125
CREATED:20260107T152312Z
LAST-MODIFIED:20260108T192622Z
UID:10013256-1865764800-1865768400@regionalconnections.ca
SUMMARY:Conversation Circle Winkler
DESCRIPTION:
URL:https://regionalconnections.ca/event/conversation-circle-4/2029-02-14/
LOCATION:Regional Connections Winkler\, 295 Perry St.\, Winkler\, MB\, R6W 4A6\, Canada
ATTACH;FMTTYPE=image/png:https://regionalconnections.ca/wp-content/uploads/2026/01/3.png
END:VEVENT
BEGIN:VEVENT
DTSTART;TZID=America/Winnipeg:20290219T183000
DTEND;TZID=America/Winnipeg:20290219T200000
DTSTAMP:20260425T062125
CREATED:20260107T151809Z
LAST-MODIFIED:20260108T192414Z
UID:10012997-1866220200-1866225600@regionalconnections.ca
SUMMARY:Conversation Circle Winkler
DESCRIPTION:
URL:https://regionalconnections.ca/event/conversation-circle-3/2029-02-19/
LOCATION:Regional Connections Winkler\, 295 Perry St.\, Winkler\, MB\, R6W 4A6\, Canada
ATTACH;FMTTYPE=image/png:https://regionalconnections.ca/wp-content/uploads/2026/01/1.png
END:VEVENT
BEGIN:VEVENT
DTSTART;TZID=America/Winnipeg:20290221T120000
DTEND;TZID=America/Winnipeg:20290221T130000
DTSTAMP:20260425T062125
CREATED:20260107T152312Z
LAST-MODIFIED:20260108T192622Z
UID:10013257-1866369600-1866373200@regionalconnections.ca
SUMMARY:Conversation Circle Winkler
DESCRIPTION:
URL:https://regionalconnections.ca/event/conversation-circle-4/2029-02-21/
LOCATION:Regional Connections Winkler\, 295 Perry St.\, Winkler\, MB\, R6W 4A6\, Canada
ATTACH;FMTTYPE=image/png:https://regionalconnections.ca/wp-content/uploads/2026/01/3.png
END:VEVENT
BEGIN:VEVENT
DTSTART;TZID=America/Winnipeg:20290226T183000
DTEND;TZID=America/Winnipeg:20290226T200000
DTSTAMP:20260425T062125
CREATED:20260107T151809Z
LAST-MODIFIED:20260108T192414Z
UID:10012998-1866825000-1866830400@regionalconnections.ca
SUMMARY:Conversation Circle Winkler
DESCRIPTION:
URL:https://regionalconnections.ca/event/conversation-circle-3/2029-02-26/
LOCATION:Regional Connections Winkler\, 295 Perry St.\, Winkler\, MB\, R6W 4A6\, Canada
ATTACH;FMTTYPE=image/png:https://regionalconnections.ca/wp-content/uploads/2026/01/1.png
END:VEVENT
BEGIN:VEVENT
DTSTART;TZID=America/Winnipeg:20290228T120000
DTEND;TZID=America/Winnipeg:20290228T130000
DTSTAMP:20260425T062125
CREATED:20260107T152312Z
LAST-MODIFIED:20260108T192622Z
UID:10013258-1866974400-1866978000@regionalconnections.ca
SUMMARY:Conversation Circle Winkler
DESCRIPTION:
URL:https://regionalconnections.ca/event/conversation-circle-4/2029-02-28/
LOCATION:Regional Connections Winkler\, 295 Perry St.\, Winkler\, MB\, R6W 4A6\, Canada
ATTACH;FMTTYPE=image/png:https://regionalconnections.ca/wp-content/uploads/2026/01/3.png
END:VEVENT
BEGIN:VEVENT
DTSTART;TZID=America/Winnipeg:20290305T183000
DTEND;TZID=America/Winnipeg:20290305T200000
DTSTAMP:20260425T062125
CREATED:20260107T151809Z
LAST-MODIFIED:20260108T192414Z
UID:10012999-1867429800-1867435200@regionalconnections.ca
SUMMARY:Conversation Circle Winkler
DESCRIPTION:
URL:https://regionalconnections.ca/event/conversation-circle-3/2029-03-05/
LOCATION:Regional Connections Winkler\, 295 Perry St.\, Winkler\, MB\, R6W 4A6\, Canada
ATTACH;FMTTYPE=image/png:https://regionalconnections.ca/wp-content/uploads/2026/01/1.png
END:VEVENT
BEGIN:VEVENT
DTSTART;TZID=America/Winnipeg:20290307T120000
DTEND;TZID=America/Winnipeg:20290307T130000
DTSTAMP:20260425T062125
CREATED:20260107T152312Z
LAST-MODIFIED:20260108T192622Z
UID:10013259-1867579200-1867582800@regionalconnections.ca
SUMMARY:Conversation Circle Winkler
DESCRIPTION:
URL:https://regionalconnections.ca/event/conversation-circle-4/2029-03-07/
LOCATION:Regional Connections Winkler\, 295 Perry St.\, Winkler\, MB\, R6W 4A6\, Canada
ATTACH;FMTTYPE=image/png:https://regionalconnections.ca/wp-content/uploads/2026/01/3.png
END:VEVENT
BEGIN:VEVENT
DTSTART;TZID=America/Winnipeg:20290312T183000
DTEND;TZID=America/Winnipeg:20290312T200000
DTSTAMP:20260425T062125
CREATED:20260107T151809Z
LAST-MODIFIED:20260108T192414Z
UID:10013000-1868034600-1868040000@regionalconnections.ca
SUMMARY:Conversation Circle Winkler
DESCRIPTION:
URL:https://regionalconnections.ca/event/conversation-circle-3/2029-03-12/
LOCATION:Regional Connections Winkler\, 295 Perry St.\, Winkler\, MB\, R6W 4A6\, Canada
ATTACH;FMTTYPE=image/png:https://regionalconnections.ca/wp-content/uploads/2026/01/1.png
END:VEVENT
BEGIN:VEVENT
DTSTART;TZID=America/Winnipeg:20290314T120000
DTEND;TZID=America/Winnipeg:20290314T130000
DTSTAMP:20260425T062125
CREATED:20260107T152312Z
LAST-MODIFIED:20260108T192622Z
UID:10013260-1868184000-1868187600@regionalconnections.ca
SUMMARY:Conversation Circle Winkler
DESCRIPTION:
URL:https://regionalconnections.ca/event/conversation-circle-4/2029-03-14/
LOCATION:Regional Connections Winkler\, 295 Perry St.\, Winkler\, MB\, R6W 4A6\, Canada
ATTACH;FMTTYPE=image/png:https://regionalconnections.ca/wp-content/uploads/2026/01/3.png
END:VEVENT
BEGIN:VEVENT
DTSTART;TZID=America/Winnipeg:20290319T183000
DTEND;TZID=America/Winnipeg:20290319T200000
DTSTAMP:20260425T062125
CREATED:20260107T151809Z
LAST-MODIFIED:20260108T192414Z
UID:10013001-1868639400-1868644800@regionalconnections.ca
SUMMARY:Conversation Circle Winkler
DESCRIPTION:
URL:https://regionalconnections.ca/event/conversation-circle-3/2029-03-19/
LOCATION:Regional Connections Winkler\, 295 Perry St.\, Winkler\, MB\, R6W 4A6\, Canada
ATTACH;FMTTYPE=image/png:https://regionalconnections.ca/wp-content/uploads/2026/01/1.png
END:VEVENT
BEGIN:VEVENT
DTSTART;TZID=America/Winnipeg:20290321T120000
DTEND;TZID=America/Winnipeg:20290321T130000
DTSTAMP:20260425T062125
CREATED:20260107T152312Z
LAST-MODIFIED:20260108T192622Z
UID:10013261-1868788800-1868792400@regionalconnections.ca
SUMMARY:Conversation Circle Winkler
DESCRIPTION:
URL:https://regionalconnections.ca/event/conversation-circle-4/2029-03-21/
LOCATION:Regional Connections Winkler\, 295 Perry St.\, Winkler\, MB\, R6W 4A6\, Canada
ATTACH;FMTTYPE=image/png:https://regionalconnections.ca/wp-content/uploads/2026/01/3.png
END:VEVENT
BEGIN:VEVENT
DTSTART;TZID=America/Winnipeg:20290326T183000
DTEND;TZID=America/Winnipeg:20290326T200000
DTSTAMP:20260425T062125
CREATED:20260107T151809Z
LAST-MODIFIED:20260108T192414Z
UID:10013002-1869244200-1869249600@regionalconnections.ca
SUMMARY:Conversation Circle Winkler
DESCRIPTION:
URL:https://regionalconnections.ca/event/conversation-circle-3/2029-03-26/
LOCATION:Regional Connections Winkler\, 295 Perry St.\, Winkler\, MB\, R6W 4A6\, Canada
ATTACH;FMTTYPE=image/png:https://regionalconnections.ca/wp-content/uploads/2026/01/1.png
END:VEVENT
END:VCALENDAR