BEGIN:VCALENDAR
VERSION:2.0
PRODID:-//Regional Connections - ECPv6.15.18//NONSGML v1.0//EN
CALSCALE:GREGORIAN
METHOD:PUBLISH
X-ORIGINAL-URL:https://regionalconnections.ca
X-WR-CALDESC:Events for Regional Connections
REFRESH-INTERVAL;VALUE=DURATION:PT1H
X-Robots-Tag:noindex
X-PUBLISHED-TTL:PT1H
BEGIN:VTIMEZONE
TZID:America/Winnipeg
BEGIN:DAYLIGHT
TZOFFSETFROM:-0600
TZOFFSETTO:-0500
TZNAME:CDT
DTSTART:20280312T080000
END:DAYLIGHT
BEGIN:STANDARD
TZOFFSETFROM:-0500
TZOFFSETTO:-0600
TZNAME:CST
DTSTART:20281105T070000
END:STANDARD
BEGIN:DAYLIGHT
TZOFFSETFROM:-0600
TZOFFSETTO:-0500
TZNAME:CDT
DTSTART:20290311T080000
END:DAYLIGHT
BEGIN:STANDARD
TZOFFSETFROM:-0500
TZOFFSETTO:-0600
TZNAME:CST
DTSTART:20291104T070000
END:STANDARD
BEGIN:DAYLIGHT
TZOFFSETFROM:-0600
TZOFFSETTO:-0500
TZNAME:CDT
DTSTART:20300310T080000
END:DAYLIGHT
BEGIN:STANDARD
TZOFFSETFROM:-0500
TZOFFSETTO:-0600
TZNAME:CST
DTSTART:20301103T070000
END:STANDARD
END:VTIMEZONE
BEGIN:VEVENT
DTSTART;TZID=America/Winnipeg:20290530T120000
DTEND;TZID=America/Winnipeg:20290530T130000
DTSTAMP:20260425T120918
CREATED:20260107T152312Z
LAST-MODIFIED:20260108T192622Z
UID:10013271-1874836800-1874840400@regionalconnections.ca
SUMMARY:Conversation Circle Winkler
DESCRIPTION:
URL:https://regionalconnections.ca/event/conversation-circle-4/2029-05-30/
LOCATION:Regional Connections Winkler\, 295 Perry St.\, Winkler\, MB\, R6W 4A6\, Canada
ATTACH;FMTTYPE=image/png:https://regionalconnections.ca/wp-content/uploads/2026/01/3.png
END:VEVENT
BEGIN:VEVENT
DTSTART;TZID=America/Winnipeg:20290604T183000
DTEND;TZID=America/Winnipeg:20290604T200000
DTSTAMP:20260425T120918
CREATED:20260107T151809Z
LAST-MODIFIED:20260108T192414Z
UID:10013012-1875292200-1875297600@regionalconnections.ca
SUMMARY:Conversation Circle Winkler
DESCRIPTION:
URL:https://regionalconnections.ca/event/conversation-circle-3/2029-06-04/
LOCATION:Regional Connections Winkler\, 295 Perry St.\, Winkler\, MB\, R6W 4A6\, Canada
ATTACH;FMTTYPE=image/png:https://regionalconnections.ca/wp-content/uploads/2026/01/1.png
END:VEVENT
BEGIN:VEVENT
DTSTART;TZID=America/Winnipeg:20290606T120000
DTEND;TZID=America/Winnipeg:20290606T130000
DTSTAMP:20260425T120918
CREATED:20260107T152312Z
LAST-MODIFIED:20260108T192622Z
UID:10013272-1875441600-1875445200@regionalconnections.ca
SUMMARY:Conversation Circle Winkler
DESCRIPTION:
URL:https://regionalconnections.ca/event/conversation-circle-4/2029-06-06/
LOCATION:Regional Connections Winkler\, 295 Perry St.\, Winkler\, MB\, R6W 4A6\, Canada
ATTACH;FMTTYPE=image/png:https://regionalconnections.ca/wp-content/uploads/2026/01/3.png
END:VEVENT
BEGIN:VEVENT
DTSTART;TZID=America/Winnipeg:20290611T183000
DTEND;TZID=America/Winnipeg:20290611T200000
DTSTAMP:20260425T120918
CREATED:20260107T151809Z
LAST-MODIFIED:20260108T192414Z
UID:10013013-1875897000-1875902400@regionalconnections.ca
SUMMARY:Conversation Circle Winkler
DESCRIPTION:
URL:https://regionalconnections.ca/event/conversation-circle-3/2029-06-11/
LOCATION:Regional Connections Winkler\, 295 Perry St.\, Winkler\, MB\, R6W 4A6\, Canada
ATTACH;FMTTYPE=image/png:https://regionalconnections.ca/wp-content/uploads/2026/01/1.png
END:VEVENT
BEGIN:VEVENT
DTSTART;TZID=America/Winnipeg:20290613T120000
DTEND;TZID=America/Winnipeg:20290613T130000
DTSTAMP:20260425T120918
CREATED:20260107T152312Z
LAST-MODIFIED:20260108T192622Z
UID:10013273-1876046400-1876050000@regionalconnections.ca
SUMMARY:Conversation Circle Winkler
DESCRIPTION:
URL:https://regionalconnections.ca/event/conversation-circle-4/2029-06-13/
LOCATION:Regional Connections Winkler\, 295 Perry St.\, Winkler\, MB\, R6W 4A6\, Canada
ATTACH;FMTTYPE=image/png:https://regionalconnections.ca/wp-content/uploads/2026/01/3.png
END:VEVENT
BEGIN:VEVENT
DTSTART;TZID=America/Winnipeg:20290618T183000
DTEND;TZID=America/Winnipeg:20290618T200000
DTSTAMP:20260425T120918
CREATED:20260107T151809Z
LAST-MODIFIED:20260108T192414Z
UID:10013014-1876501800-1876507200@regionalconnections.ca
SUMMARY:Conversation Circle Winkler
DESCRIPTION:
URL:https://regionalconnections.ca/event/conversation-circle-3/2029-06-18/
LOCATION:Regional Connections Winkler\, 295 Perry St.\, Winkler\, MB\, R6W 4A6\, Canada
ATTACH;FMTTYPE=image/png:https://regionalconnections.ca/wp-content/uploads/2026/01/1.png
END:VEVENT
BEGIN:VEVENT
DTSTART;TZID=America/Winnipeg:20290620T120000
DTEND;TZID=America/Winnipeg:20290620T130000
DTSTAMP:20260425T120918
CREATED:20260107T152312Z
LAST-MODIFIED:20260108T192622Z
UID:10013274-1876651200-1876654800@regionalconnections.ca
SUMMARY:Conversation Circle Winkler
DESCRIPTION:
URL:https://regionalconnections.ca/event/conversation-circle-4/2029-06-20/
LOCATION:Regional Connections Winkler\, 295 Perry St.\, Winkler\, MB\, R6W 4A6\, Canada
ATTACH;FMTTYPE=image/png:https://regionalconnections.ca/wp-content/uploads/2026/01/3.png
END:VEVENT
BEGIN:VEVENT
DTSTART;TZID=America/Winnipeg:20290625T183000
DTEND;TZID=America/Winnipeg:20290625T200000
DTSTAMP:20260425T120918
CREATED:20260107T151809Z
LAST-MODIFIED:20260108T192414Z
UID:10013015-1877106600-1877112000@regionalconnections.ca
SUMMARY:Conversation Circle Winkler
DESCRIPTION:
URL:https://regionalconnections.ca/event/conversation-circle-3/2029-06-25/
LOCATION:Regional Connections Winkler\, 295 Perry St.\, Winkler\, MB\, R6W 4A6\, Canada
ATTACH;FMTTYPE=image/png:https://regionalconnections.ca/wp-content/uploads/2026/01/1.png
END:VEVENT
BEGIN:VEVENT
DTSTART;TZID=America/Winnipeg:20290627T120000
DTEND;TZID=America/Winnipeg:20290627T130000
DTSTAMP:20260425T120918
CREATED:20260107T152312Z
LAST-MODIFIED:20260108T192622Z
UID:10013275-1877256000-1877259600@regionalconnections.ca
SUMMARY:Conversation Circle Winkler
DESCRIPTION:
URL:https://regionalconnections.ca/event/conversation-circle-4/2029-06-27/
LOCATION:Regional Connections Winkler\, 295 Perry St.\, Winkler\, MB\, R6W 4A6\, Canada
ATTACH;FMTTYPE=image/png:https://regionalconnections.ca/wp-content/uploads/2026/01/3.png
END:VEVENT
BEGIN:VEVENT
DTSTART;TZID=America/Winnipeg:20290702T183000
DTEND;TZID=America/Winnipeg:20290702T200000
DTSTAMP:20260425T120918
CREATED:20260107T151809Z
LAST-MODIFIED:20260108T192414Z
UID:10013016-1877711400-1877716800@regionalconnections.ca
SUMMARY:Conversation Circle Winkler
DESCRIPTION:
URL:https://regionalconnections.ca/event/conversation-circle-3/2029-07-02/
LOCATION:Regional Connections Winkler\, 295 Perry St.\, Winkler\, MB\, R6W 4A6\, Canada
ATTACH;FMTTYPE=image/png:https://regionalconnections.ca/wp-content/uploads/2026/01/1.png
END:VEVENT
BEGIN:VEVENT
DTSTART;TZID=America/Winnipeg:20290704T120000
DTEND;TZID=America/Winnipeg:20290704T130000
DTSTAMP:20260425T120918
CREATED:20260107T152312Z
LAST-MODIFIED:20260108T192622Z
UID:10013276-1877860800-1877864400@regionalconnections.ca
SUMMARY:Conversation Circle Winkler
DESCRIPTION:
URL:https://regionalconnections.ca/event/conversation-circle-4/2029-07-04/
LOCATION:Regional Connections Winkler\, 295 Perry St.\, Winkler\, MB\, R6W 4A6\, Canada
ATTACH;FMTTYPE=image/png:https://regionalconnections.ca/wp-content/uploads/2026/01/3.png
END:VEVENT
BEGIN:VEVENT
DTSTART;TZID=America/Winnipeg:20290709T183000
DTEND;TZID=America/Winnipeg:20290709T200000
DTSTAMP:20260425T120918
CREATED:20260107T151809Z
LAST-MODIFIED:20260108T192414Z
UID:10013017-1878316200-1878321600@regionalconnections.ca
SUMMARY:Conversation Circle Winkler
DESCRIPTION:
URL:https://regionalconnections.ca/event/conversation-circle-3/2029-07-09/
LOCATION:Regional Connections Winkler\, 295 Perry St.\, Winkler\, MB\, R6W 4A6\, Canada
ATTACH;FMTTYPE=image/png:https://regionalconnections.ca/wp-content/uploads/2026/01/1.png
END:VEVENT
BEGIN:VEVENT
DTSTART;TZID=America/Winnipeg:20290711T120000
DTEND;TZID=America/Winnipeg:20290711T130000
DTSTAMP:20260425T120918
CREATED:20260107T152312Z
LAST-MODIFIED:20260108T192622Z
UID:10013277-1878465600-1878469200@regionalconnections.ca
SUMMARY:Conversation Circle Winkler
DESCRIPTION:
URL:https://regionalconnections.ca/event/conversation-circle-4/2029-07-11/
LOCATION:Regional Connections Winkler\, 295 Perry St.\, Winkler\, MB\, R6W 4A6\, Canada
ATTACH;FMTTYPE=image/png:https://regionalconnections.ca/wp-content/uploads/2026/01/3.png
END:VEVENT
BEGIN:VEVENT
DTSTART;TZID=America/Winnipeg:20290716T183000
DTEND;TZID=America/Winnipeg:20290716T200000
DTSTAMP:20260425T120918
CREATED:20260107T151809Z
LAST-MODIFIED:20260108T192414Z
UID:10013018-1878921000-1878926400@regionalconnections.ca
SUMMARY:Conversation Circle Winkler
DESCRIPTION:
URL:https://regionalconnections.ca/event/conversation-circle-3/2029-07-16/
LOCATION:Regional Connections Winkler\, 295 Perry St.\, Winkler\, MB\, R6W 4A6\, Canada
ATTACH;FMTTYPE=image/png:https://regionalconnections.ca/wp-content/uploads/2026/01/1.png
END:VEVENT
BEGIN:VEVENT
DTSTART;TZID=America/Winnipeg:20290718T120000
DTEND;TZID=America/Winnipeg:20290718T130000
DTSTAMP:20260425T120918
CREATED:20260107T152312Z
LAST-MODIFIED:20260108T192622Z
UID:10013278-1879070400-1879074000@regionalconnections.ca
SUMMARY:Conversation Circle Winkler
DESCRIPTION:
URL:https://regionalconnections.ca/event/conversation-circle-4/2029-07-18/
LOCATION:Regional Connections Winkler\, 295 Perry St.\, Winkler\, MB\, R6W 4A6\, Canada
ATTACH;FMTTYPE=image/png:https://regionalconnections.ca/wp-content/uploads/2026/01/3.png
END:VEVENT
BEGIN:VEVENT
DTSTART;TZID=America/Winnipeg:20290723T183000
DTEND;TZID=America/Winnipeg:20290723T200000
DTSTAMP:20260425T120918
CREATED:20260107T151809Z
LAST-MODIFIED:20260108T192414Z
UID:10013019-1879525800-1879531200@regionalconnections.ca
SUMMARY:Conversation Circle Winkler
DESCRIPTION:
URL:https://regionalconnections.ca/event/conversation-circle-3/2029-07-23/
LOCATION:Regional Connections Winkler\, 295 Perry St.\, Winkler\, MB\, R6W 4A6\, Canada
ATTACH;FMTTYPE=image/png:https://regionalconnections.ca/wp-content/uploads/2026/01/1.png
END:VEVENT
BEGIN:VEVENT
DTSTART;TZID=America/Winnipeg:20290725T120000
DTEND;TZID=America/Winnipeg:20290725T130000
DTSTAMP:20260425T120918
CREATED:20260107T152312Z
LAST-MODIFIED:20260108T192622Z
UID:10013279-1879675200-1879678800@regionalconnections.ca
SUMMARY:Conversation Circle Winkler
DESCRIPTION:
URL:https://regionalconnections.ca/event/conversation-circle-4/2029-07-25/
LOCATION:Regional Connections Winkler\, 295 Perry St.\, Winkler\, MB\, R6W 4A6\, Canada
ATTACH;FMTTYPE=image/png:https://regionalconnections.ca/wp-content/uploads/2026/01/3.png
END:VEVENT
BEGIN:VEVENT
DTSTART;TZID=America/Winnipeg:20290730T183000
DTEND;TZID=America/Winnipeg:20290730T200000
DTSTAMP:20260425T120918
CREATED:20260107T151809Z
LAST-MODIFIED:20260108T192414Z
UID:10013020-1880130600-1880136000@regionalconnections.ca
SUMMARY:Conversation Circle Winkler
DESCRIPTION:
URL:https://regionalconnections.ca/event/conversation-circle-3/2029-07-30/
LOCATION:Regional Connections Winkler\, 295 Perry St.\, Winkler\, MB\, R6W 4A6\, Canada
ATTACH;FMTTYPE=image/png:https://regionalconnections.ca/wp-content/uploads/2026/01/1.png
END:VEVENT
BEGIN:VEVENT
DTSTART;TZID=America/Winnipeg:20290801T120000
DTEND;TZID=America/Winnipeg:20290801T130000
DTSTAMP:20260425T120918
CREATED:20260107T152312Z
LAST-MODIFIED:20260108T192622Z
UID:10013280-1880280000-1880283600@regionalconnections.ca
SUMMARY:Conversation Circle Winkler
DESCRIPTION:
URL:https://regionalconnections.ca/event/conversation-circle-4/2029-08-01/
LOCATION:Regional Connections Winkler\, 295 Perry St.\, Winkler\, MB\, R6W 4A6\, Canada
ATTACH;FMTTYPE=image/png:https://regionalconnections.ca/wp-content/uploads/2026/01/3.png
END:VEVENT
BEGIN:VEVENT
DTSTART;TZID=America/Winnipeg:20290806T183000
DTEND;TZID=America/Winnipeg:20290806T200000
DTSTAMP:20260425T120918
CREATED:20260107T151809Z
LAST-MODIFIED:20260108T192414Z
UID:10013021-1880735400-1880740800@regionalconnections.ca
SUMMARY:Conversation Circle Winkler
DESCRIPTION:
URL:https://regionalconnections.ca/event/conversation-circle-3/2029-08-06/
LOCATION:Regional Connections Winkler\, 295 Perry St.\, Winkler\, MB\, R6W 4A6\, Canada
ATTACH;FMTTYPE=image/png:https://regionalconnections.ca/wp-content/uploads/2026/01/1.png
END:VEVENT
BEGIN:VEVENT
DTSTART;TZID=America/Winnipeg:20290808T120000
DTEND;TZID=America/Winnipeg:20290808T130000
DTSTAMP:20260425T120918
CREATED:20260107T152312Z
LAST-MODIFIED:20260108T192622Z
UID:10013281-1880884800-1880888400@regionalconnections.ca
SUMMARY:Conversation Circle Winkler
DESCRIPTION:
URL:https://regionalconnections.ca/event/conversation-circle-4/2029-08-08/
LOCATION:Regional Connections Winkler\, 295 Perry St.\, Winkler\, MB\, R6W 4A6\, Canada
ATTACH;FMTTYPE=image/png:https://regionalconnections.ca/wp-content/uploads/2026/01/3.png
END:VEVENT
BEGIN:VEVENT
DTSTART;TZID=America/Winnipeg:20290813T183000
DTEND;TZID=America/Winnipeg:20290813T200000
DTSTAMP:20260425T120918
CREATED:20260107T151809Z
LAST-MODIFIED:20260108T192414Z
UID:10013022-1881340200-1881345600@regionalconnections.ca
SUMMARY:Conversation Circle Winkler
DESCRIPTION:
URL:https://regionalconnections.ca/event/conversation-circle-3/2029-08-13/
LOCATION:Regional Connections Winkler\, 295 Perry St.\, Winkler\, MB\, R6W 4A6\, Canada
ATTACH;FMTTYPE=image/png:https://regionalconnections.ca/wp-content/uploads/2026/01/1.png
END:VEVENT
BEGIN:VEVENT
DTSTART;TZID=America/Winnipeg:20290815T120000
DTEND;TZID=America/Winnipeg:20290815T130000
DTSTAMP:20260425T120918
CREATED:20260107T152312Z
LAST-MODIFIED:20260108T192622Z
UID:10013282-1881489600-1881493200@regionalconnections.ca
SUMMARY:Conversation Circle Winkler
DESCRIPTION:
URL:https://regionalconnections.ca/event/conversation-circle-4/2029-08-15/
LOCATION:Regional Connections Winkler\, 295 Perry St.\, Winkler\, MB\, R6W 4A6\, Canada
ATTACH;FMTTYPE=image/png:https://regionalconnections.ca/wp-content/uploads/2026/01/3.png
END:VEVENT
BEGIN:VEVENT
DTSTART;TZID=America/Winnipeg:20290820T183000
DTEND;TZID=America/Winnipeg:20290820T200000
DTSTAMP:20260425T120918
CREATED:20260107T151809Z
LAST-MODIFIED:20260108T192414Z
UID:10013023-1881945000-1881950400@regionalconnections.ca
SUMMARY:Conversation Circle Winkler
DESCRIPTION:
URL:https://regionalconnections.ca/event/conversation-circle-3/2029-08-20/
LOCATION:Regional Connections Winkler\, 295 Perry St.\, Winkler\, MB\, R6W 4A6\, Canada
ATTACH;FMTTYPE=image/png:https://regionalconnections.ca/wp-content/uploads/2026/01/1.png
END:VEVENT
BEGIN:VEVENT
DTSTART;TZID=America/Winnipeg:20290822T120000
DTEND;TZID=America/Winnipeg:20290822T130000
DTSTAMP:20260425T120918
CREATED:20260107T152312Z
LAST-MODIFIED:20260108T192622Z
UID:10013283-1882094400-1882098000@regionalconnections.ca
SUMMARY:Conversation Circle Winkler
DESCRIPTION:
URL:https://regionalconnections.ca/event/conversation-circle-4/2029-08-22/
LOCATION:Regional Connections Winkler\, 295 Perry St.\, Winkler\, MB\, R6W 4A6\, Canada
ATTACH;FMTTYPE=image/png:https://regionalconnections.ca/wp-content/uploads/2026/01/3.png
END:VEVENT
BEGIN:VEVENT
DTSTART;TZID=America/Winnipeg:20290827T183000
DTEND;TZID=America/Winnipeg:20290827T200000
DTSTAMP:20260425T120918
CREATED:20260107T151809Z
LAST-MODIFIED:20260108T192414Z
UID:10013024-1882549800-1882555200@regionalconnections.ca
SUMMARY:Conversation Circle Winkler
DESCRIPTION:
URL:https://regionalconnections.ca/event/conversation-circle-3/2029-08-27/
LOCATION:Regional Connections Winkler\, 295 Perry St.\, Winkler\, MB\, R6W 4A6\, Canada
ATTACH;FMTTYPE=image/png:https://regionalconnections.ca/wp-content/uploads/2026/01/1.png
END:VEVENT
BEGIN:VEVENT
DTSTART;TZID=America/Winnipeg:20290829T120000
DTEND;TZID=America/Winnipeg:20290829T130000
DTSTAMP:20260425T120918
CREATED:20260107T152312Z
LAST-MODIFIED:20260108T192622Z
UID:10013284-1882699200-1882702800@regionalconnections.ca
SUMMARY:Conversation Circle Winkler
DESCRIPTION:
URL:https://regionalconnections.ca/event/conversation-circle-4/2029-08-29/
LOCATION:Regional Connections Winkler\, 295 Perry St.\, Winkler\, MB\, R6W 4A6\, Canada
ATTACH;FMTTYPE=image/png:https://regionalconnections.ca/wp-content/uploads/2026/01/3.png
END:VEVENT
BEGIN:VEVENT
DTSTART;TZID=America/Winnipeg:20290903T183000
DTEND;TZID=America/Winnipeg:20290903T200000
DTSTAMP:20260425T120918
CREATED:20260107T151809Z
LAST-MODIFIED:20260108T192414Z
UID:10013025-1883154600-1883160000@regionalconnections.ca
SUMMARY:Conversation Circle Winkler
DESCRIPTION:
URL:https://regionalconnections.ca/event/conversation-circle-3/2029-09-03/
LOCATION:Regional Connections Winkler\, 295 Perry St.\, Winkler\, MB\, R6W 4A6\, Canada
ATTACH;FMTTYPE=image/png:https://regionalconnections.ca/wp-content/uploads/2026/01/1.png
END:VEVENT
BEGIN:VEVENT
DTSTART;TZID=America/Winnipeg:20290905T120000
DTEND;TZID=America/Winnipeg:20290905T130000
DTSTAMP:20260425T120918
CREATED:20260107T152312Z
LAST-MODIFIED:20260108T192622Z
UID:10013285-1883304000-1883307600@regionalconnections.ca
SUMMARY:Conversation Circle Winkler
DESCRIPTION:
URL:https://regionalconnections.ca/event/conversation-circle-4/2029-09-05/
LOCATION:Regional Connections Winkler\, 295 Perry St.\, Winkler\, MB\, R6W 4A6\, Canada
ATTACH;FMTTYPE=image/png:https://regionalconnections.ca/wp-content/uploads/2026/01/3.png
END:VEVENT
BEGIN:VEVENT
DTSTART;TZID=America/Winnipeg:20290910T183000
DTEND;TZID=America/Winnipeg:20290910T200000
DTSTAMP:20260425T120918
CREATED:20260107T151809Z
LAST-MODIFIED:20260108T192414Z
UID:10013026-1883759400-1883764800@regionalconnections.ca
SUMMARY:Conversation Circle Winkler
DESCRIPTION:
URL:https://regionalconnections.ca/event/conversation-circle-3/2029-09-10/
LOCATION:Regional Connections Winkler\, 295 Perry St.\, Winkler\, MB\, R6W 4A6\, Canada
ATTACH;FMTTYPE=image/png:https://regionalconnections.ca/wp-content/uploads/2026/01/1.png
END:VEVENT
END:VCALENDAR