BEGIN:VCALENDAR
VERSION:2.0
PRODID:-//Regional Connections - ECPv6.15.18//NONSGML v1.0//EN
CALSCALE:GREGORIAN
METHOD:PUBLISH
X-ORIGINAL-URL:https://regionalconnections.ca
X-WR-CALDESC:Events for Regional Connections
REFRESH-INTERVAL;VALUE=DURATION:PT1H
X-Robots-Tag:noindex
X-PUBLISHED-TTL:PT1H
BEGIN:VTIMEZONE
TZID:America/Winnipeg
BEGIN:DAYLIGHT
TZOFFSETFROM:-0600
TZOFFSETTO:-0500
TZNAME:CDT
DTSTART:20280312T080000
END:DAYLIGHT
BEGIN:STANDARD
TZOFFSETFROM:-0500
TZOFFSETTO:-0600
TZNAME:CST
DTSTART:20281105T070000
END:STANDARD
BEGIN:DAYLIGHT
TZOFFSETFROM:-0600
TZOFFSETTO:-0500
TZNAME:CDT
DTSTART:20290311T080000
END:DAYLIGHT
BEGIN:STANDARD
TZOFFSETFROM:-0500
TZOFFSETTO:-0600
TZNAME:CST
DTSTART:20291104T070000
END:STANDARD
BEGIN:DAYLIGHT
TZOFFSETFROM:-0600
TZOFFSETTO:-0500
TZNAME:CDT
DTSTART:20300310T080000
END:DAYLIGHT
BEGIN:STANDARD
TZOFFSETFROM:-0500
TZOFFSETTO:-0600
TZNAME:CST
DTSTART:20301103T070000
END:STANDARD
BEGIN:DAYLIGHT
TZOFFSETFROM:-0600
TZOFFSETTO:-0500
TZNAME:CDT
DTSTART:20310309T080000
END:DAYLIGHT
BEGIN:STANDARD
TZOFFSETFROM:-0500
TZOFFSETTO:-0600
TZNAME:CST
DTSTART:20311102T070000
END:STANDARD
END:VTIMEZONE
BEGIN:VEVENT
DTSTART;TZID=America/Winnipeg:20291003T120000
DTEND;TZID=America/Winnipeg:20291003T130000
DTSTAMP:20260425T164719
CREATED:20260107T152312Z
LAST-MODIFIED:20260108T192622Z
UID:10013289-1885723200-1885726800@regionalconnections.ca
SUMMARY:Conversation Circle Winkler
DESCRIPTION:
URL:https://regionalconnections.ca/event/conversation-circle-4/2029-10-03/
LOCATION:Regional Connections Winkler\, 295 Perry St.\, Winkler\, MB\, R6W 4A6\, Canada
ATTACH;FMTTYPE=image/png:https://regionalconnections.ca/wp-content/uploads/2026/01/3.png
END:VEVENT
BEGIN:VEVENT
DTSTART;TZID=America/Winnipeg:20291008T183000
DTEND;TZID=America/Winnipeg:20291008T200000
DTSTAMP:20260425T164719
CREATED:20260107T151809Z
LAST-MODIFIED:20260108T192414Z
UID:10013030-1886178600-1886184000@regionalconnections.ca
SUMMARY:Conversation Circle Winkler
DESCRIPTION:
URL:https://regionalconnections.ca/event/conversation-circle-3/2029-10-08/
LOCATION:Regional Connections Winkler\, 295 Perry St.\, Winkler\, MB\, R6W 4A6\, Canada
ATTACH;FMTTYPE=image/png:https://regionalconnections.ca/wp-content/uploads/2026/01/1.png
END:VEVENT
BEGIN:VEVENT
DTSTART;TZID=America/Winnipeg:20291010T120000
DTEND;TZID=America/Winnipeg:20291010T130000
DTSTAMP:20260425T164719
CREATED:20260107T152312Z
LAST-MODIFIED:20260108T192622Z
UID:10013290-1886328000-1886331600@regionalconnections.ca
SUMMARY:Conversation Circle Winkler
DESCRIPTION:
URL:https://regionalconnections.ca/event/conversation-circle-4/2029-10-10/
LOCATION:Regional Connections Winkler\, 295 Perry St.\, Winkler\, MB\, R6W 4A6\, Canada
ATTACH;FMTTYPE=image/png:https://regionalconnections.ca/wp-content/uploads/2026/01/3.png
END:VEVENT
BEGIN:VEVENT
DTSTART;TZID=America/Winnipeg:20291015T183000
DTEND;TZID=America/Winnipeg:20291015T200000
DTSTAMP:20260425T164719
CREATED:20260107T151809Z
LAST-MODIFIED:20260108T192414Z
UID:10013031-1886783400-1886788800@regionalconnections.ca
SUMMARY:Conversation Circle Winkler
DESCRIPTION:
URL:https://regionalconnections.ca/event/conversation-circle-3/2029-10-15/
LOCATION:Regional Connections Winkler\, 295 Perry St.\, Winkler\, MB\, R6W 4A6\, Canada
ATTACH;FMTTYPE=image/png:https://regionalconnections.ca/wp-content/uploads/2026/01/1.png
END:VEVENT
BEGIN:VEVENT
DTSTART;TZID=America/Winnipeg:20291017T120000
DTEND;TZID=America/Winnipeg:20291017T130000
DTSTAMP:20260425T164719
CREATED:20260107T152312Z
LAST-MODIFIED:20260108T192622Z
UID:10013291-1886932800-1886936400@regionalconnections.ca
SUMMARY:Conversation Circle Winkler
DESCRIPTION:
URL:https://regionalconnections.ca/event/conversation-circle-4/2029-10-17/
LOCATION:Regional Connections Winkler\, 295 Perry St.\, Winkler\, MB\, R6W 4A6\, Canada
ATTACH;FMTTYPE=image/png:https://regionalconnections.ca/wp-content/uploads/2026/01/3.png
END:VEVENT
BEGIN:VEVENT
DTSTART;TZID=America/Winnipeg:20291022T183000
DTEND;TZID=America/Winnipeg:20291022T200000
DTSTAMP:20260425T164719
CREATED:20260107T151809Z
LAST-MODIFIED:20260108T192414Z
UID:10013032-1887388200-1887393600@regionalconnections.ca
SUMMARY:Conversation Circle Winkler
DESCRIPTION:
URL:https://regionalconnections.ca/event/conversation-circle-3/2029-10-22/
LOCATION:Regional Connections Winkler\, 295 Perry St.\, Winkler\, MB\, R6W 4A6\, Canada
ATTACH;FMTTYPE=image/png:https://regionalconnections.ca/wp-content/uploads/2026/01/1.png
END:VEVENT
BEGIN:VEVENT
DTSTART;TZID=America/Winnipeg:20291024T120000
DTEND;TZID=America/Winnipeg:20291024T130000
DTSTAMP:20260425T164719
CREATED:20260107T152312Z
LAST-MODIFIED:20260108T192622Z
UID:10013292-1887537600-1887541200@regionalconnections.ca
SUMMARY:Conversation Circle Winkler
DESCRIPTION:
URL:https://regionalconnections.ca/event/conversation-circle-4/2029-10-24/
LOCATION:Regional Connections Winkler\, 295 Perry St.\, Winkler\, MB\, R6W 4A6\, Canada
ATTACH;FMTTYPE=image/png:https://regionalconnections.ca/wp-content/uploads/2026/01/3.png
END:VEVENT
BEGIN:VEVENT
DTSTART;TZID=America/Winnipeg:20291029T183000
DTEND;TZID=America/Winnipeg:20291029T200000
DTSTAMP:20260425T164719
CREATED:20260107T151809Z
LAST-MODIFIED:20260108T192414Z
UID:10013033-1887993000-1887998400@regionalconnections.ca
SUMMARY:Conversation Circle Winkler
DESCRIPTION:
URL:https://regionalconnections.ca/event/conversation-circle-3/2029-10-29/
LOCATION:Regional Connections Winkler\, 295 Perry St.\, Winkler\, MB\, R6W 4A6\, Canada
ATTACH;FMTTYPE=image/png:https://regionalconnections.ca/wp-content/uploads/2026/01/1.png
END:VEVENT
BEGIN:VEVENT
DTSTART;TZID=America/Winnipeg:20291031T120000
DTEND;TZID=America/Winnipeg:20291031T130000
DTSTAMP:20260425T164719
CREATED:20260107T152312Z
LAST-MODIFIED:20260108T192622Z
UID:10013293-1888142400-1888146000@regionalconnections.ca
SUMMARY:Conversation Circle Winkler
DESCRIPTION:
URL:https://regionalconnections.ca/event/conversation-circle-4/2029-10-31/
LOCATION:Regional Connections Winkler\, 295 Perry St.\, Winkler\, MB\, R6W 4A6\, Canada
ATTACH;FMTTYPE=image/png:https://regionalconnections.ca/wp-content/uploads/2026/01/3.png
END:VEVENT
BEGIN:VEVENT
DTSTART;TZID=America/Winnipeg:20291105T183000
DTEND;TZID=America/Winnipeg:20291105T200000
DTSTAMP:20260425T164719
CREATED:20260107T151809Z
LAST-MODIFIED:20260108T192414Z
UID:10013034-1888597800-1888603200@regionalconnections.ca
SUMMARY:Conversation Circle Winkler
DESCRIPTION:
URL:https://regionalconnections.ca/event/conversation-circle-3/2029-11-05/
LOCATION:Regional Connections Winkler\, 295 Perry St.\, Winkler\, MB\, R6W 4A6\, Canada
ATTACH;FMTTYPE=image/png:https://regionalconnections.ca/wp-content/uploads/2026/01/1.png
END:VEVENT
BEGIN:VEVENT
DTSTART;TZID=America/Winnipeg:20291107T120000
DTEND;TZID=America/Winnipeg:20291107T130000
DTSTAMP:20260425T164719
CREATED:20260107T152312Z
LAST-MODIFIED:20260108T192622Z
UID:10013294-1888747200-1888750800@regionalconnections.ca
SUMMARY:Conversation Circle Winkler
DESCRIPTION:
URL:https://regionalconnections.ca/event/conversation-circle-4/2029-11-07/
LOCATION:Regional Connections Winkler\, 295 Perry St.\, Winkler\, MB\, R6W 4A6\, Canada
ATTACH;FMTTYPE=image/png:https://regionalconnections.ca/wp-content/uploads/2026/01/3.png
END:VEVENT
BEGIN:VEVENT
DTSTART;TZID=America/Winnipeg:20291112T183000
DTEND;TZID=America/Winnipeg:20291112T200000
DTSTAMP:20260425T164719
CREATED:20260107T151809Z
LAST-MODIFIED:20260108T192414Z
UID:10013035-1889202600-1889208000@regionalconnections.ca
SUMMARY:Conversation Circle Winkler
DESCRIPTION:
URL:https://regionalconnections.ca/event/conversation-circle-3/2029-11-12/
LOCATION:Regional Connections Winkler\, 295 Perry St.\, Winkler\, MB\, R6W 4A6\, Canada
ATTACH;FMTTYPE=image/png:https://regionalconnections.ca/wp-content/uploads/2026/01/1.png
END:VEVENT
BEGIN:VEVENT
DTSTART;TZID=America/Winnipeg:20291114T120000
DTEND;TZID=America/Winnipeg:20291114T130000
DTSTAMP:20260425T164719
CREATED:20260107T152312Z
LAST-MODIFIED:20260108T192622Z
UID:10013295-1889352000-1889355600@regionalconnections.ca
SUMMARY:Conversation Circle Winkler
DESCRIPTION:
URL:https://regionalconnections.ca/event/conversation-circle-4/2029-11-14/
LOCATION:Regional Connections Winkler\, 295 Perry St.\, Winkler\, MB\, R6W 4A6\, Canada
ATTACH;FMTTYPE=image/png:https://regionalconnections.ca/wp-content/uploads/2026/01/3.png
END:VEVENT
BEGIN:VEVENT
DTSTART;TZID=America/Winnipeg:20291119T183000
DTEND;TZID=America/Winnipeg:20291119T200000
DTSTAMP:20260425T164719
CREATED:20260107T151809Z
LAST-MODIFIED:20260108T192414Z
UID:10013036-1889807400-1889812800@regionalconnections.ca
SUMMARY:Conversation Circle Winkler
DESCRIPTION:
URL:https://regionalconnections.ca/event/conversation-circle-3/2029-11-19/
LOCATION:Regional Connections Winkler\, 295 Perry St.\, Winkler\, MB\, R6W 4A6\, Canada
ATTACH;FMTTYPE=image/png:https://regionalconnections.ca/wp-content/uploads/2026/01/1.png
END:VEVENT
BEGIN:VEVENT
DTSTART;TZID=America/Winnipeg:20291121T120000
DTEND;TZID=America/Winnipeg:20291121T130000
DTSTAMP:20260425T164719
CREATED:20260107T152312Z
LAST-MODIFIED:20260108T192622Z
UID:10013296-1889956800-1889960400@regionalconnections.ca
SUMMARY:Conversation Circle Winkler
DESCRIPTION:
URL:https://regionalconnections.ca/event/conversation-circle-4/2029-11-21/
LOCATION:Regional Connections Winkler\, 295 Perry St.\, Winkler\, MB\, R6W 4A6\, Canada
ATTACH;FMTTYPE=image/png:https://regionalconnections.ca/wp-content/uploads/2026/01/3.png
END:VEVENT
BEGIN:VEVENT
DTSTART;TZID=America/Winnipeg:20291126T183000
DTEND;TZID=America/Winnipeg:20291126T200000
DTSTAMP:20260425T164719
CREATED:20260107T151809Z
LAST-MODIFIED:20260108T192414Z
UID:10013037-1890412200-1890417600@regionalconnections.ca
SUMMARY:Conversation Circle Winkler
DESCRIPTION:
URL:https://regionalconnections.ca/event/conversation-circle-3/2029-11-26/
LOCATION:Regional Connections Winkler\, 295 Perry St.\, Winkler\, MB\, R6W 4A6\, Canada
ATTACH;FMTTYPE=image/png:https://regionalconnections.ca/wp-content/uploads/2026/01/1.png
END:VEVENT
BEGIN:VEVENT
DTSTART;TZID=America/Winnipeg:20291128T120000
DTEND;TZID=America/Winnipeg:20291128T130000
DTSTAMP:20260425T164719
CREATED:20260107T152312Z
LAST-MODIFIED:20260108T192622Z
UID:10013297-1890561600-1890565200@regionalconnections.ca
SUMMARY:Conversation Circle Winkler
DESCRIPTION:
URL:https://regionalconnections.ca/event/conversation-circle-4/2029-11-28/
LOCATION:Regional Connections Winkler\, 295 Perry St.\, Winkler\, MB\, R6W 4A6\, Canada
ATTACH;FMTTYPE=image/png:https://regionalconnections.ca/wp-content/uploads/2026/01/3.png
END:VEVENT
BEGIN:VEVENT
DTSTART;TZID=America/Winnipeg:20291203T183000
DTEND;TZID=America/Winnipeg:20291203T200000
DTSTAMP:20260425T164719
CREATED:20260107T151809Z
LAST-MODIFIED:20260108T192414Z
UID:10013038-1891017000-1891022400@regionalconnections.ca
SUMMARY:Conversation Circle Winkler
DESCRIPTION:
URL:https://regionalconnections.ca/event/conversation-circle-3/2029-12-03/
LOCATION:Regional Connections Winkler\, 295 Perry St.\, Winkler\, MB\, R6W 4A6\, Canada
ATTACH;FMTTYPE=image/png:https://regionalconnections.ca/wp-content/uploads/2026/01/1.png
END:VEVENT
BEGIN:VEVENT
DTSTART;TZID=America/Winnipeg:20291205T120000
DTEND;TZID=America/Winnipeg:20291205T130000
DTSTAMP:20260425T164719
CREATED:20260107T152312Z
LAST-MODIFIED:20260108T192622Z
UID:10013298-1891166400-1891170000@regionalconnections.ca
SUMMARY:Conversation Circle Winkler
DESCRIPTION:
URL:https://regionalconnections.ca/event/conversation-circle-4/2029-12-05/
LOCATION:Regional Connections Winkler\, 295 Perry St.\, Winkler\, MB\, R6W 4A6\, Canada
ATTACH;FMTTYPE=image/png:https://regionalconnections.ca/wp-content/uploads/2026/01/3.png
END:VEVENT
BEGIN:VEVENT
DTSTART;TZID=America/Winnipeg:20291210T183000
DTEND;TZID=America/Winnipeg:20291210T200000
DTSTAMP:20260425T164719
CREATED:20260107T151809Z
LAST-MODIFIED:20260108T192414Z
UID:10013039-1891621800-1891627200@regionalconnections.ca
SUMMARY:Conversation Circle Winkler
DESCRIPTION:
URL:https://regionalconnections.ca/event/conversation-circle-3/2029-12-10/
LOCATION:Regional Connections Winkler\, 295 Perry St.\, Winkler\, MB\, R6W 4A6\, Canada
ATTACH;FMTTYPE=image/png:https://regionalconnections.ca/wp-content/uploads/2026/01/1.png
END:VEVENT
BEGIN:VEVENT
DTSTART;TZID=America/Winnipeg:20291212T120000
DTEND;TZID=America/Winnipeg:20291212T130000
DTSTAMP:20260425T164719
CREATED:20260107T152312Z
LAST-MODIFIED:20260108T192622Z
UID:10013299-1891771200-1891774800@regionalconnections.ca
SUMMARY:Conversation Circle Winkler
DESCRIPTION:
URL:https://regionalconnections.ca/event/conversation-circle-4/2029-12-12/
LOCATION:Regional Connections Winkler\, 295 Perry St.\, Winkler\, MB\, R6W 4A6\, Canada
ATTACH;FMTTYPE=image/png:https://regionalconnections.ca/wp-content/uploads/2026/01/3.png
END:VEVENT
BEGIN:VEVENT
DTSTART;TZID=America/Winnipeg:20291217T183000
DTEND;TZID=America/Winnipeg:20291217T200000
DTSTAMP:20260425T164719
CREATED:20260107T151809Z
LAST-MODIFIED:20260108T192414Z
UID:10013040-1892226600-1892232000@regionalconnections.ca
SUMMARY:Conversation Circle Winkler
DESCRIPTION:
URL:https://regionalconnections.ca/event/conversation-circle-3/2029-12-17/
LOCATION:Regional Connections Winkler\, 295 Perry St.\, Winkler\, MB\, R6W 4A6\, Canada
ATTACH;FMTTYPE=image/png:https://regionalconnections.ca/wp-content/uploads/2026/01/1.png
END:VEVENT
BEGIN:VEVENT
DTSTART;TZID=America/Winnipeg:20291219T120000
DTEND;TZID=America/Winnipeg:20291219T130000
DTSTAMP:20260425T164719
CREATED:20260107T152312Z
LAST-MODIFIED:20260108T192622Z
UID:10013300-1892376000-1892379600@regionalconnections.ca
SUMMARY:Conversation Circle Winkler
DESCRIPTION:
URL:https://regionalconnections.ca/event/conversation-circle-4/2029-12-19/
LOCATION:Regional Connections Winkler\, 295 Perry St.\, Winkler\, MB\, R6W 4A6\, Canada
ATTACH;FMTTYPE=image/png:https://regionalconnections.ca/wp-content/uploads/2026/01/3.png
END:VEVENT
BEGIN:VEVENT
DTSTART;TZID=America/Winnipeg:20291224T183000
DTEND;TZID=America/Winnipeg:20291224T200000
DTSTAMP:20260425T164719
CREATED:20260107T151809Z
LAST-MODIFIED:20260108T192414Z
UID:10013041-1892831400-1892836800@regionalconnections.ca
SUMMARY:Conversation Circle Winkler
DESCRIPTION:
URL:https://regionalconnections.ca/event/conversation-circle-3/2029-12-24/
LOCATION:Regional Connections Winkler\, 295 Perry St.\, Winkler\, MB\, R6W 4A6\, Canada
ATTACH;FMTTYPE=image/png:https://regionalconnections.ca/wp-content/uploads/2026/01/1.png
END:VEVENT
BEGIN:VEVENT
DTSTART;TZID=America/Winnipeg:20291226T120000
DTEND;TZID=America/Winnipeg:20291226T130000
DTSTAMP:20260425T164719
CREATED:20260107T152312Z
LAST-MODIFIED:20260108T192622Z
UID:10013301-1892980800-1892984400@regionalconnections.ca
SUMMARY:Conversation Circle Winkler
DESCRIPTION:
URL:https://regionalconnections.ca/event/conversation-circle-4/2029-12-26/
LOCATION:Regional Connections Winkler\, 295 Perry St.\, Winkler\, MB\, R6W 4A6\, Canada
ATTACH;FMTTYPE=image/png:https://regionalconnections.ca/wp-content/uploads/2026/01/3.png
END:VEVENT
BEGIN:VEVENT
DTSTART;TZID=America/Winnipeg:20291231T183000
DTEND;TZID=America/Winnipeg:20291231T200000
DTSTAMP:20260425T164719
CREATED:20260107T151809Z
LAST-MODIFIED:20260108T192414Z
UID:10013042-1893436200-1893441600@regionalconnections.ca
SUMMARY:Conversation Circle Winkler
DESCRIPTION:
URL:https://regionalconnections.ca/event/conversation-circle-3/2029-12-31/
LOCATION:Regional Connections Winkler\, 295 Perry St.\, Winkler\, MB\, R6W 4A6\, Canada
ATTACH;FMTTYPE=image/png:https://regionalconnections.ca/wp-content/uploads/2026/01/1.png
END:VEVENT
BEGIN:VEVENT
DTSTART;TZID=America/Winnipeg:20300102T120000
DTEND;TZID=America/Winnipeg:20300102T130000
DTSTAMP:20260425T164719
CREATED:20260107T152312Z
LAST-MODIFIED:20260108T192622Z
UID:10013302-1893585600-1893589200@regionalconnections.ca
SUMMARY:Conversation Circle Winkler
DESCRIPTION:
URL:https://regionalconnections.ca/event/conversation-circle-4/2030-01-02/
LOCATION:Regional Connections Winkler\, 295 Perry St.\, Winkler\, MB\, R6W 4A6\, Canada
ATTACH;FMTTYPE=image/png:https://regionalconnections.ca/wp-content/uploads/2026/01/3.png
END:VEVENT
BEGIN:VEVENT
DTSTART;TZID=America/Winnipeg:20300107T183000
DTEND;TZID=America/Winnipeg:20300107T200000
DTSTAMP:20260425T164719
CREATED:20260107T151809Z
LAST-MODIFIED:20260108T192414Z
UID:10013043-1894041000-1894046400@regionalconnections.ca
SUMMARY:Conversation Circle Winkler
DESCRIPTION:
URL:https://regionalconnections.ca/event/conversation-circle-3/2030-01-07/
LOCATION:Regional Connections Winkler\, 295 Perry St.\, Winkler\, MB\, R6W 4A6\, Canada
ATTACH;FMTTYPE=image/png:https://regionalconnections.ca/wp-content/uploads/2026/01/1.png
END:VEVENT
BEGIN:VEVENT
DTSTART;TZID=America/Winnipeg:20300109T120000
DTEND;TZID=America/Winnipeg:20300109T130000
DTSTAMP:20260425T164719
CREATED:20260107T152312Z
LAST-MODIFIED:20260108T192622Z
UID:10013303-1894190400-1894194000@regionalconnections.ca
SUMMARY:Conversation Circle Winkler
DESCRIPTION:
URL:https://regionalconnections.ca/event/conversation-circle-4/2030-01-09/
LOCATION:Regional Connections Winkler\, 295 Perry St.\, Winkler\, MB\, R6W 4A6\, Canada
ATTACH;FMTTYPE=image/png:https://regionalconnections.ca/wp-content/uploads/2026/01/3.png
END:VEVENT
BEGIN:VEVENT
DTSTART;TZID=America/Winnipeg:20300114T183000
DTEND;TZID=America/Winnipeg:20300114T200000
DTSTAMP:20260425T164719
CREATED:20260107T151809Z
LAST-MODIFIED:20260108T192414Z
UID:10013044-1894645800-1894651200@regionalconnections.ca
SUMMARY:Conversation Circle Winkler
DESCRIPTION:
URL:https://regionalconnections.ca/event/conversation-circle-3/2030-01-14/
LOCATION:Regional Connections Winkler\, 295 Perry St.\, Winkler\, MB\, R6W 4A6\, Canada
ATTACH;FMTTYPE=image/png:https://regionalconnections.ca/wp-content/uploads/2026/01/1.png
END:VEVENT
END:VCALENDAR