BEGIN:VCALENDAR
VERSION:2.0
PRODID:-//Regional Connections - ECPv6.15.18//NONSGML v1.0//EN
CALSCALE:GREGORIAN
METHOD:PUBLISH
X-WR-CALNAME:Regional Connections
X-ORIGINAL-URL:https://regionalconnections.ca
X-WR-CALDESC:Events for Regional Connections
REFRESH-INTERVAL;VALUE=DURATION:PT1H
X-Robots-Tag:noindex
X-PUBLISHED-TTL:PT1H
BEGIN:VTIMEZONE
TZID:America/Winnipeg
BEGIN:DAYLIGHT
TZOFFSETFROM:-0600
TZOFFSETTO:-0500
TZNAME:CDT
DTSTART:20250309T080000
END:DAYLIGHT
BEGIN:STANDARD
TZOFFSETFROM:-0500
TZOFFSETTO:-0600
TZNAME:CST
DTSTART:20251102T070000
END:STANDARD
BEGIN:DAYLIGHT
TZOFFSETFROM:-0600
TZOFFSETTO:-0500
TZNAME:CDT
DTSTART:20260308T080000
END:DAYLIGHT
BEGIN:STANDARD
TZOFFSETFROM:-0500
TZOFFSETTO:-0600
TZNAME:CST
DTSTART:20261101T070000
END:STANDARD
BEGIN:DAYLIGHT
TZOFFSETFROM:-0600
TZOFFSETTO:-0500
TZNAME:CDT
DTSTART:20270314T080000
END:DAYLIGHT
BEGIN:STANDARD
TZOFFSETFROM:-0500
TZOFFSETTO:-0600
TZNAME:CST
DTSTART:20271107T070000
END:STANDARD
BEGIN:DAYLIGHT
TZOFFSETFROM:-0600
TZOFFSETTO:-0500
TZNAME:CDT
DTSTART:20280312T080000
END:DAYLIGHT
BEGIN:STANDARD
TZOFFSETFROM:-0500
TZOFFSETTO:-0600
TZNAME:CST
DTSTART:20281105T070000
END:STANDARD
END:VTIMEZONE
BEGIN:VEVENT
DTSTART;TZID=America/Winnipeg:20261230T120000
DTEND;TZID=America/Winnipeg:20261230T130000
DTSTAMP:20260424T042427
CREATED:20260107T152312Z
LAST-MODIFIED:20260108T192622Z
UID:10013145-1798632000-1798635600@regionalconnections.ca
SUMMARY:Conversation Circle Winkler
DESCRIPTION:
URL:https://regionalconnections.ca/event/conversation-circle-4/2026-12-30/
LOCATION:Regional Connections Winkler\, 295 Perry St.\, Winkler\, MB\, R6W 4A6\, Canada
ATTACH;FMTTYPE=image/png:https://regionalconnections.ca/wp-content/uploads/2026/01/3.png
END:VEVENT
BEGIN:VEVENT
DTSTART;TZID=America/Winnipeg:20270104T183000
DTEND;TZID=America/Winnipeg:20270104T200000
DTSTAMP:20260424T042427
CREATED:20260107T151809Z
LAST-MODIFIED:20260108T192414Z
UID:10012886-1799087400-1799092800@regionalconnections.ca
SUMMARY:Conversation Circle Winkler
DESCRIPTION:
URL:https://regionalconnections.ca/event/conversation-circle-3/2027-01-04/
LOCATION:Regional Connections Winkler\, 295 Perry St.\, Winkler\, MB\, R6W 4A6\, Canada
ATTACH;FMTTYPE=image/png:https://regionalconnections.ca/wp-content/uploads/2026/01/1.png
END:VEVENT
BEGIN:VEVENT
DTSTART;TZID=America/Winnipeg:20270106T120000
DTEND;TZID=America/Winnipeg:20270106T130000
DTSTAMP:20260424T042427
CREATED:20260107T152312Z
LAST-MODIFIED:20260108T192622Z
UID:10013146-1799236800-1799240400@regionalconnections.ca
SUMMARY:Conversation Circle Winkler
DESCRIPTION:
URL:https://regionalconnections.ca/event/conversation-circle-4/2027-01-06/
LOCATION:Regional Connections Winkler\, 295 Perry St.\, Winkler\, MB\, R6W 4A6\, Canada
ATTACH;FMTTYPE=image/png:https://regionalconnections.ca/wp-content/uploads/2026/01/3.png
END:VEVENT
BEGIN:VEVENT
DTSTART;TZID=America/Winnipeg:20270111T183000
DTEND;TZID=America/Winnipeg:20270111T200000
DTSTAMP:20260424T042427
CREATED:20260107T151809Z
LAST-MODIFIED:20260108T192414Z
UID:10012887-1799692200-1799697600@regionalconnections.ca
SUMMARY:Conversation Circle Winkler
DESCRIPTION:
URL:https://regionalconnections.ca/event/conversation-circle-3/2027-01-11/
LOCATION:Regional Connections Winkler\, 295 Perry St.\, Winkler\, MB\, R6W 4A6\, Canada
ATTACH;FMTTYPE=image/png:https://regionalconnections.ca/wp-content/uploads/2026/01/1.png
END:VEVENT
BEGIN:VEVENT
DTSTART;TZID=America/Winnipeg:20270113T120000
DTEND;TZID=America/Winnipeg:20270113T130000
DTSTAMP:20260424T042427
CREATED:20260107T152312Z
LAST-MODIFIED:20260108T192622Z
UID:10013147-1799841600-1799845200@regionalconnections.ca
SUMMARY:Conversation Circle Winkler
DESCRIPTION:
URL:https://regionalconnections.ca/event/conversation-circle-4/2027-01-13/
LOCATION:Regional Connections Winkler\, 295 Perry St.\, Winkler\, MB\, R6W 4A6\, Canada
ATTACH;FMTTYPE=image/png:https://regionalconnections.ca/wp-content/uploads/2026/01/3.png
END:VEVENT
BEGIN:VEVENT
DTSTART;TZID=America/Winnipeg:20270118T183000
DTEND;TZID=America/Winnipeg:20270118T200000
DTSTAMP:20260424T042427
CREATED:20260107T151809Z
LAST-MODIFIED:20260108T192414Z
UID:10012888-1800297000-1800302400@regionalconnections.ca
SUMMARY:Conversation Circle Winkler
DESCRIPTION:
URL:https://regionalconnections.ca/event/conversation-circle-3/2027-01-18/
LOCATION:Regional Connections Winkler\, 295 Perry St.\, Winkler\, MB\, R6W 4A6\, Canada
ATTACH;FMTTYPE=image/png:https://regionalconnections.ca/wp-content/uploads/2026/01/1.png
END:VEVENT
BEGIN:VEVENT
DTSTART;TZID=America/Winnipeg:20270120T120000
DTEND;TZID=America/Winnipeg:20270120T130000
DTSTAMP:20260424T042427
CREATED:20260107T152312Z
LAST-MODIFIED:20260108T192622Z
UID:10013148-1800446400-1800450000@regionalconnections.ca
SUMMARY:Conversation Circle Winkler
DESCRIPTION:
URL:https://regionalconnections.ca/event/conversation-circle-4/2027-01-20/
LOCATION:Regional Connections Winkler\, 295 Perry St.\, Winkler\, MB\, R6W 4A6\, Canada
ATTACH;FMTTYPE=image/png:https://regionalconnections.ca/wp-content/uploads/2026/01/3.png
END:VEVENT
BEGIN:VEVENT
DTSTART;TZID=America/Winnipeg:20270125T183000
DTEND;TZID=America/Winnipeg:20270125T200000
DTSTAMP:20260424T042427
CREATED:20260107T151809Z
LAST-MODIFIED:20260108T192414Z
UID:10012889-1800901800-1800907200@regionalconnections.ca
SUMMARY:Conversation Circle Winkler
DESCRIPTION:
URL:https://regionalconnections.ca/event/conversation-circle-3/2027-01-25/
LOCATION:Regional Connections Winkler\, 295 Perry St.\, Winkler\, MB\, R6W 4A6\, Canada
ATTACH;FMTTYPE=image/png:https://regionalconnections.ca/wp-content/uploads/2026/01/1.png
END:VEVENT
BEGIN:VEVENT
DTSTART;TZID=America/Winnipeg:20270127T120000
DTEND;TZID=America/Winnipeg:20270127T130000
DTSTAMP:20260424T042427
CREATED:20260107T152312Z
LAST-MODIFIED:20260108T192622Z
UID:10013149-1801051200-1801054800@regionalconnections.ca
SUMMARY:Conversation Circle Winkler
DESCRIPTION:
URL:https://regionalconnections.ca/event/conversation-circle-4/2027-01-27/
LOCATION:Regional Connections Winkler\, 295 Perry St.\, Winkler\, MB\, R6W 4A6\, Canada
ATTACH;FMTTYPE=image/png:https://regionalconnections.ca/wp-content/uploads/2026/01/3.png
END:VEVENT
BEGIN:VEVENT
DTSTART;TZID=America/Winnipeg:20270201T183000
DTEND;TZID=America/Winnipeg:20270201T200000
DTSTAMP:20260424T042427
CREATED:20260107T151809Z
LAST-MODIFIED:20260108T192414Z
UID:10012890-1801506600-1801512000@regionalconnections.ca
SUMMARY:Conversation Circle Winkler
DESCRIPTION:
URL:https://regionalconnections.ca/event/conversation-circle-3/2027-02-01/
LOCATION:Regional Connections Winkler\, 295 Perry St.\, Winkler\, MB\, R6W 4A6\, Canada
ATTACH;FMTTYPE=image/png:https://regionalconnections.ca/wp-content/uploads/2026/01/1.png
END:VEVENT
BEGIN:VEVENT
DTSTART;TZID=America/Winnipeg:20270203T120000
DTEND;TZID=America/Winnipeg:20270203T130000
DTSTAMP:20260424T042427
CREATED:20260107T152312Z
LAST-MODIFIED:20260108T192622Z
UID:10013150-1801656000-1801659600@regionalconnections.ca
SUMMARY:Conversation Circle Winkler
DESCRIPTION:
URL:https://regionalconnections.ca/event/conversation-circle-4/2027-02-03/
LOCATION:Regional Connections Winkler\, 295 Perry St.\, Winkler\, MB\, R6W 4A6\, Canada
ATTACH;FMTTYPE=image/png:https://regionalconnections.ca/wp-content/uploads/2026/01/3.png
END:VEVENT
BEGIN:VEVENT
DTSTART;TZID=America/Winnipeg:20270208T183000
DTEND;TZID=America/Winnipeg:20270208T200000
DTSTAMP:20260424T042427
CREATED:20260107T151809Z
LAST-MODIFIED:20260108T192414Z
UID:10012891-1802111400-1802116800@regionalconnections.ca
SUMMARY:Conversation Circle Winkler
DESCRIPTION:
URL:https://regionalconnections.ca/event/conversation-circle-3/2027-02-08/
LOCATION:Regional Connections Winkler\, 295 Perry St.\, Winkler\, MB\, R6W 4A6\, Canada
ATTACH;FMTTYPE=image/png:https://regionalconnections.ca/wp-content/uploads/2026/01/1.png
END:VEVENT
BEGIN:VEVENT
DTSTART;TZID=America/Winnipeg:20270210T120000
DTEND;TZID=America/Winnipeg:20270210T130000
DTSTAMP:20260424T042427
CREATED:20260107T152312Z
LAST-MODIFIED:20260108T192622Z
UID:10013151-1802260800-1802264400@regionalconnections.ca
SUMMARY:Conversation Circle Winkler
DESCRIPTION:
URL:https://regionalconnections.ca/event/conversation-circle-4/2027-02-10/
LOCATION:Regional Connections Winkler\, 295 Perry St.\, Winkler\, MB\, R6W 4A6\, Canada
ATTACH;FMTTYPE=image/png:https://regionalconnections.ca/wp-content/uploads/2026/01/3.png
END:VEVENT
BEGIN:VEVENT
DTSTART;TZID=America/Winnipeg:20270215T183000
DTEND;TZID=America/Winnipeg:20270215T200000
DTSTAMP:20260424T042427
CREATED:20260107T151809Z
LAST-MODIFIED:20260108T192414Z
UID:10012892-1802716200-1802721600@regionalconnections.ca
SUMMARY:Conversation Circle Winkler
DESCRIPTION:
URL:https://regionalconnections.ca/event/conversation-circle-3/2027-02-15/
LOCATION:Regional Connections Winkler\, 295 Perry St.\, Winkler\, MB\, R6W 4A6\, Canada
ATTACH;FMTTYPE=image/png:https://regionalconnections.ca/wp-content/uploads/2026/01/1.png
END:VEVENT
BEGIN:VEVENT
DTSTART;TZID=America/Winnipeg:20270217T120000
DTEND;TZID=America/Winnipeg:20270217T130000
DTSTAMP:20260424T042427
CREATED:20260107T152312Z
LAST-MODIFIED:20260108T192622Z
UID:10013152-1802865600-1802869200@regionalconnections.ca
SUMMARY:Conversation Circle Winkler
DESCRIPTION:
URL:https://regionalconnections.ca/event/conversation-circle-4/2027-02-17/
LOCATION:Regional Connections Winkler\, 295 Perry St.\, Winkler\, MB\, R6W 4A6\, Canada
ATTACH;FMTTYPE=image/png:https://regionalconnections.ca/wp-content/uploads/2026/01/3.png
END:VEVENT
BEGIN:VEVENT
DTSTART;TZID=America/Winnipeg:20270222T183000
DTEND;TZID=America/Winnipeg:20270222T200000
DTSTAMP:20260424T042427
CREATED:20260107T151809Z
LAST-MODIFIED:20260108T192414Z
UID:10012893-1803321000-1803326400@regionalconnections.ca
SUMMARY:Conversation Circle Winkler
DESCRIPTION:
URL:https://regionalconnections.ca/event/conversation-circle-3/2027-02-22/
LOCATION:Regional Connections Winkler\, 295 Perry St.\, Winkler\, MB\, R6W 4A6\, Canada
ATTACH;FMTTYPE=image/png:https://regionalconnections.ca/wp-content/uploads/2026/01/1.png
END:VEVENT
BEGIN:VEVENT
DTSTART;TZID=America/Winnipeg:20270224T120000
DTEND;TZID=America/Winnipeg:20270224T130000
DTSTAMP:20260424T042427
CREATED:20260107T152312Z
LAST-MODIFIED:20260108T192622Z
UID:10013153-1803470400-1803474000@regionalconnections.ca
SUMMARY:Conversation Circle Winkler
DESCRIPTION:
URL:https://regionalconnections.ca/event/conversation-circle-4/2027-02-24/
LOCATION:Regional Connections Winkler\, 295 Perry St.\, Winkler\, MB\, R6W 4A6\, Canada
ATTACH;FMTTYPE=image/png:https://regionalconnections.ca/wp-content/uploads/2026/01/3.png
END:VEVENT
BEGIN:VEVENT
DTSTART;TZID=America/Winnipeg:20270301T183000
DTEND;TZID=America/Winnipeg:20270301T200000
DTSTAMP:20260424T042427
CREATED:20260107T151809Z
LAST-MODIFIED:20260108T192414Z
UID:10012894-1803925800-1803931200@regionalconnections.ca
SUMMARY:Conversation Circle Winkler
DESCRIPTION:
URL:https://regionalconnections.ca/event/conversation-circle-3/2027-03-01/
LOCATION:Regional Connections Winkler\, 295 Perry St.\, Winkler\, MB\, R6W 4A6\, Canada
ATTACH;FMTTYPE=image/png:https://regionalconnections.ca/wp-content/uploads/2026/01/1.png
END:VEVENT
BEGIN:VEVENT
DTSTART;TZID=America/Winnipeg:20270303T120000
DTEND;TZID=America/Winnipeg:20270303T130000
DTSTAMP:20260424T042427
CREATED:20260107T152312Z
LAST-MODIFIED:20260108T192622Z
UID:10013154-1804075200-1804078800@regionalconnections.ca
SUMMARY:Conversation Circle Winkler
DESCRIPTION:
URL:https://regionalconnections.ca/event/conversation-circle-4/2027-03-03/
LOCATION:Regional Connections Winkler\, 295 Perry St.\, Winkler\, MB\, R6W 4A6\, Canada
ATTACH;FMTTYPE=image/png:https://regionalconnections.ca/wp-content/uploads/2026/01/3.png
END:VEVENT
BEGIN:VEVENT
DTSTART;TZID=America/Winnipeg:20270308T183000
DTEND;TZID=America/Winnipeg:20270308T200000
DTSTAMP:20260424T042427
CREATED:20260107T151809Z
LAST-MODIFIED:20260108T192414Z
UID:10012895-1804530600-1804536000@regionalconnections.ca
SUMMARY:Conversation Circle Winkler
DESCRIPTION:
URL:https://regionalconnections.ca/event/conversation-circle-3/2027-03-08/
LOCATION:Regional Connections Winkler\, 295 Perry St.\, Winkler\, MB\, R6W 4A6\, Canada
ATTACH;FMTTYPE=image/png:https://regionalconnections.ca/wp-content/uploads/2026/01/1.png
END:VEVENT
BEGIN:VEVENT
DTSTART;TZID=America/Winnipeg:20270310T120000
DTEND;TZID=America/Winnipeg:20270310T130000
DTSTAMP:20260424T042427
CREATED:20260107T152312Z
LAST-MODIFIED:20260108T192622Z
UID:10013155-1804680000-1804683600@regionalconnections.ca
SUMMARY:Conversation Circle Winkler
DESCRIPTION:
URL:https://regionalconnections.ca/event/conversation-circle-4/2027-03-10/
LOCATION:Regional Connections Winkler\, 295 Perry St.\, Winkler\, MB\, R6W 4A6\, Canada
ATTACH;FMTTYPE=image/png:https://regionalconnections.ca/wp-content/uploads/2026/01/3.png
END:VEVENT
BEGIN:VEVENT
DTSTART;TZID=America/Winnipeg:20270315T183000
DTEND;TZID=America/Winnipeg:20270315T200000
DTSTAMP:20260424T042427
CREATED:20260107T151809Z
LAST-MODIFIED:20260108T192414Z
UID:10012896-1805135400-1805140800@regionalconnections.ca
SUMMARY:Conversation Circle Winkler
DESCRIPTION:
URL:https://regionalconnections.ca/event/conversation-circle-3/2027-03-15/
LOCATION:Regional Connections Winkler\, 295 Perry St.\, Winkler\, MB\, R6W 4A6\, Canada
ATTACH;FMTTYPE=image/png:https://regionalconnections.ca/wp-content/uploads/2026/01/1.png
END:VEVENT
BEGIN:VEVENT
DTSTART;TZID=America/Winnipeg:20270317T120000
DTEND;TZID=America/Winnipeg:20270317T130000
DTSTAMP:20260424T042427
CREATED:20260107T152312Z
LAST-MODIFIED:20260108T192622Z
UID:10013156-1805284800-1805288400@regionalconnections.ca
SUMMARY:Conversation Circle Winkler
DESCRIPTION:
URL:https://regionalconnections.ca/event/conversation-circle-4/2027-03-17/
LOCATION:Regional Connections Winkler\, 295 Perry St.\, Winkler\, MB\, R6W 4A6\, Canada
ATTACH;FMTTYPE=image/png:https://regionalconnections.ca/wp-content/uploads/2026/01/3.png
END:VEVENT
BEGIN:VEVENT
DTSTART;TZID=America/Winnipeg:20270322T183000
DTEND;TZID=America/Winnipeg:20270322T200000
DTSTAMP:20260424T042427
CREATED:20260107T151809Z
LAST-MODIFIED:20260108T192414Z
UID:10012897-1805740200-1805745600@regionalconnections.ca
SUMMARY:Conversation Circle Winkler
DESCRIPTION:
URL:https://regionalconnections.ca/event/conversation-circle-3/2027-03-22/
LOCATION:Regional Connections Winkler\, 295 Perry St.\, Winkler\, MB\, R6W 4A6\, Canada
ATTACH;FMTTYPE=image/png:https://regionalconnections.ca/wp-content/uploads/2026/01/1.png
END:VEVENT
BEGIN:VEVENT
DTSTART;TZID=America/Winnipeg:20270324T120000
DTEND;TZID=America/Winnipeg:20270324T130000
DTSTAMP:20260424T042427
CREATED:20260107T152312Z
LAST-MODIFIED:20260108T192622Z
UID:10013157-1805889600-1805893200@regionalconnections.ca
SUMMARY:Conversation Circle Winkler
DESCRIPTION:
URL:https://regionalconnections.ca/event/conversation-circle-4/2027-03-24/
LOCATION:Regional Connections Winkler\, 295 Perry St.\, Winkler\, MB\, R6W 4A6\, Canada
ATTACH;FMTTYPE=image/png:https://regionalconnections.ca/wp-content/uploads/2026/01/3.png
END:VEVENT
BEGIN:VEVENT
DTSTART;TZID=America/Winnipeg:20270329T183000
DTEND;TZID=America/Winnipeg:20270329T200000
DTSTAMP:20260424T042427
CREATED:20260107T151809Z
LAST-MODIFIED:20260108T192414Z
UID:10012898-1806345000-1806350400@regionalconnections.ca
SUMMARY:Conversation Circle Winkler
DESCRIPTION:
URL:https://regionalconnections.ca/event/conversation-circle-3/2027-03-29/
LOCATION:Regional Connections Winkler\, 295 Perry St.\, Winkler\, MB\, R6W 4A6\, Canada
ATTACH;FMTTYPE=image/png:https://regionalconnections.ca/wp-content/uploads/2026/01/1.png
END:VEVENT
BEGIN:VEVENT
DTSTART;TZID=America/Winnipeg:20270331T120000
DTEND;TZID=America/Winnipeg:20270331T130000
DTSTAMP:20260424T042427
CREATED:20260107T152312Z
LAST-MODIFIED:20260108T192622Z
UID:10013158-1806494400-1806498000@regionalconnections.ca
SUMMARY:Conversation Circle Winkler
DESCRIPTION:
URL:https://regionalconnections.ca/event/conversation-circle-4/2027-03-31/
LOCATION:Regional Connections Winkler\, 295 Perry St.\, Winkler\, MB\, R6W 4A6\, Canada
ATTACH;FMTTYPE=image/png:https://regionalconnections.ca/wp-content/uploads/2026/01/3.png
END:VEVENT
BEGIN:VEVENT
DTSTART;TZID=America/Winnipeg:20270405T183000
DTEND;TZID=America/Winnipeg:20270405T200000
DTSTAMP:20260424T042427
CREATED:20260107T151809Z
LAST-MODIFIED:20260108T192414Z
UID:10012899-1806949800-1806955200@regionalconnections.ca
SUMMARY:Conversation Circle Winkler
DESCRIPTION:
URL:https://regionalconnections.ca/event/conversation-circle-3/2027-04-05/
LOCATION:Regional Connections Winkler\, 295 Perry St.\, Winkler\, MB\, R6W 4A6\, Canada
ATTACH;FMTTYPE=image/png:https://regionalconnections.ca/wp-content/uploads/2026/01/1.png
END:VEVENT
BEGIN:VEVENT
DTSTART;TZID=America/Winnipeg:20270407T120000
DTEND;TZID=America/Winnipeg:20270407T130000
DTSTAMP:20260424T042427
CREATED:20260107T152312Z
LAST-MODIFIED:20260108T192622Z
UID:10013159-1807099200-1807102800@regionalconnections.ca
SUMMARY:Conversation Circle Winkler
DESCRIPTION:
URL:https://regionalconnections.ca/event/conversation-circle-4/2027-04-07/
LOCATION:Regional Connections Winkler\, 295 Perry St.\, Winkler\, MB\, R6W 4A6\, Canada
ATTACH;FMTTYPE=image/png:https://regionalconnections.ca/wp-content/uploads/2026/01/3.png
END:VEVENT
BEGIN:VEVENT
DTSTART;TZID=America/Winnipeg:20270412T183000
DTEND;TZID=America/Winnipeg:20270412T200000
DTSTAMP:20260424T042427
CREATED:20260107T151809Z
LAST-MODIFIED:20260108T192414Z
UID:10012900-1807554600-1807560000@regionalconnections.ca
SUMMARY:Conversation Circle Winkler
DESCRIPTION:
URL:https://regionalconnections.ca/event/conversation-circle-3/2027-04-12/
LOCATION:Regional Connections Winkler\, 295 Perry St.\, Winkler\, MB\, R6W 4A6\, Canada
ATTACH;FMTTYPE=image/png:https://regionalconnections.ca/wp-content/uploads/2026/01/1.png
END:VEVENT
END:VCALENDAR