BEGIN:VCALENDAR
VERSION:2.0
PRODID:-//Regional Connections - ECPv6.15.18//NONSGML v1.0//EN
CALSCALE:GREGORIAN
METHOD:PUBLISH
X-WR-CALNAME:Regional Connections
X-ORIGINAL-URL:https://regionalconnections.ca
X-WR-CALDESC:Events for Regional Connections
REFRESH-INTERVAL;VALUE=DURATION:PT1H
X-Robots-Tag:noindex
X-PUBLISHED-TTL:PT1H
BEGIN:VTIMEZONE
TZID:America/Winnipeg
BEGIN:DAYLIGHT
TZOFFSETFROM:-0600
TZOFFSETTO:-0500
TZNAME:CDT
DTSTART:20200308T080000
END:DAYLIGHT
BEGIN:STANDARD
TZOFFSETFROM:-0500
TZOFFSETTO:-0600
TZNAME:CST
DTSTART:20201101T070000
END:STANDARD
BEGIN:DAYLIGHT
TZOFFSETFROM:-0600
TZOFFSETTO:-0500
TZNAME:CDT
DTSTART:20210314T080000
END:DAYLIGHT
BEGIN:STANDARD
TZOFFSETFROM:-0500
TZOFFSETTO:-0600
TZNAME:CST
DTSTART:20211107T070000
END:STANDARD
BEGIN:DAYLIGHT
TZOFFSETFROM:-0600
TZOFFSETTO:-0500
TZNAME:CDT
DTSTART:20220313T080000
END:DAYLIGHT
BEGIN:STANDARD
TZOFFSETFROM:-0500
TZOFFSETTO:-0600
TZNAME:CST
DTSTART:20221106T070000
END:STANDARD
END:VTIMEZONE
BEGIN:VEVENT
DTSTART;TZID=America/Winnipeg:20210818T090000
DTEND;TZID=America/Winnipeg:20210818T120000
DTSTAMP:20260422T203556
CREATED:20210713T135746Z
LAST-MODIFIED:20210713T135746Z
UID:10007732-1629277200-1629288000@regionalconnections.ca
SUMMARY:SWIS Winkler - Sports Day
DESCRIPTION:Play\, learn and improve your soccer and basketball skills.
URL:https://regionalconnections.ca/event/swis-winkler-sports-day/2021-08-18/
LOCATION:Skatepark Parking lot\, Pine Ridge Skate Plaza\, 15th St. Grandeur Ave.\, Winkler\, MB\, Canada
ATTACH;FMTTYPE=image/png:https://regionalconnections.ca/wp-content/uploads/2021/07/Summer-Events-Winkler-Jul-Aug.png
END:VEVENT
BEGIN:VEVENT
DTSTART;TZID=America/Winnipeg:20210811T090000
DTEND;TZID=America/Winnipeg:20210811T120000
DTSTAMP:20260422T203556
CREATED:20210713T135746Z
LAST-MODIFIED:20210713T135746Z
UID:10007731-1628672400-1628683200@regionalconnections.ca
SUMMARY:SWIS Winkler - Sports Day
DESCRIPTION:Play\, learn and improve your soccer and basketball skills.
URL:https://regionalconnections.ca/event/swis-winkler-sports-day/2021-08-11/
LOCATION:Skatepark Parking lot\, Pine Ridge Skate Plaza\, 15th St. Grandeur Ave.\, Winkler\, MB\, Canada
ATTACH;FMTTYPE=image/png:https://regionalconnections.ca/wp-content/uploads/2021/07/Summer-Events-Winkler-Jul-Aug.png
END:VEVENT
BEGIN:VEVENT
DTSTART;TZID=America/Winnipeg:20210804T090000
DTEND;TZID=America/Winnipeg:20210804T120000
DTSTAMP:20260422T203556
CREATED:20210713T135746Z
LAST-MODIFIED:20210713T135746Z
UID:10007730-1628067600-1628078400@regionalconnections.ca
SUMMARY:SWIS Winkler - Sports Day
DESCRIPTION:Play\, learn and improve your soccer and basketball skills.
URL:https://regionalconnections.ca/event/swis-winkler-sports-day/2021-08-04/
LOCATION:Skatepark Parking lot\, Pine Ridge Skate Plaza\, 15th St. Grandeur Ave.\, Winkler\, MB\, Canada
ATTACH;FMTTYPE=image/png:https://regionalconnections.ca/wp-content/uploads/2021/07/Summer-Events-Winkler-Jul-Aug.png
END:VEVENT
BEGIN:VEVENT
DTSTART;TZID=America/Winnipeg:20210728T090000
DTEND;TZID=America/Winnipeg:20210728T120000
DTSTAMP:20260422T203556
CREATED:20210713T135746Z
LAST-MODIFIED:20210713T135746Z
UID:10007729-1627462800-1627473600@regionalconnections.ca
SUMMARY:SWIS Winkler - Sports Day
DESCRIPTION:Play\, learn and improve your soccer and basketball skills.
URL:https://regionalconnections.ca/event/swis-winkler-sports-day/2021-07-28/
LOCATION:Skatepark Parking lot\, Pine Ridge Skate Plaza\, 15th St. Grandeur Ave.\, Winkler\, MB\, Canada
ATTACH;FMTTYPE=image/png:https://regionalconnections.ca/wp-content/uploads/2021/07/Summer-Events-Winkler-Jul-Aug.png
END:VEVENT
BEGIN:VEVENT
DTSTART;TZID=America/Winnipeg:20210721T090000
DTEND;TZID=America/Winnipeg:20210721T120000
DTSTAMP:20260422T203556
CREATED:20210713T135746Z
LAST-MODIFIED:20210713T135746Z
UID:10007728-1626858000-1626868800@regionalconnections.ca
SUMMARY:SWIS Winkler - Sports Day
DESCRIPTION:Play\, learn and improve your soccer and basketball skills.
URL:https://regionalconnections.ca/event/swis-winkler-sports-day/2021-07-21/
LOCATION:Skatepark Parking lot\, Pine Ridge Skate Plaza\, 15th St. Grandeur Ave.\, Winkler\, MB\, Canada
ATTACH;FMTTYPE=image/png:https://regionalconnections.ca/wp-content/uploads/2021/07/Summer-Events-Winkler-Jul-Aug.png
END:VEVENT
END:VCALENDAR