BEGIN:VCALENDAR
VERSION:2.0
PRODID:-//Regional Connections - ECPv6.15.18//NONSGML v1.0//EN
CALSCALE:GREGORIAN
METHOD:PUBLISH
X-ORIGINAL-URL:https://regionalconnections.ca
X-WR-CALDESC:Events for Regional Connections
REFRESH-INTERVAL;VALUE=DURATION:PT1H
X-Robots-Tag:noindex
X-PUBLISHED-TTL:PT1H
BEGIN:VTIMEZONE
TZID:America/Winnipeg
BEGIN:DAYLIGHT
TZOFFSETFROM:-0600
TZOFFSETTO:-0500
TZNAME:CDT
DTSTART:20250309T080000
END:DAYLIGHT
BEGIN:STANDARD
TZOFFSETFROM:-0500
TZOFFSETTO:-0600
TZNAME:CST
DTSTART:20251102T070000
END:STANDARD
BEGIN:DAYLIGHT
TZOFFSETFROM:-0600
TZOFFSETTO:-0500
TZNAME:CDT
DTSTART:20260308T080000
END:DAYLIGHT
BEGIN:STANDARD
TZOFFSETFROM:-0500
TZOFFSETTO:-0600
TZNAME:CST
DTSTART:20261101T070000
END:STANDARD
BEGIN:DAYLIGHT
TZOFFSETFROM:-0600
TZOFFSETTO:-0500
TZNAME:CDT
DTSTART:20270314T080000
END:DAYLIGHT
BEGIN:STANDARD
TZOFFSETFROM:-0500
TZOFFSETTO:-0600
TZNAME:CST
DTSTART:20271107T070000
END:STANDARD
END:VTIMEZONE
BEGIN:VEVENT
DTSTART;TZID=America/Winnipeg:20260427T190000
DTEND;TZID=America/Winnipeg:20260427T210000
DTSTAMP:20260423T020832
CREATED:20260107T172621Z
LAST-MODIFIED:20260112T173140Z
UID:10012351-1777316400-1777323600@regionalconnections.ca
SUMMARY:Conversation Circle Altona
DESCRIPTION:
URL:https://regionalconnections.ca/event/conversation-circle-altona/2026-04-27/
LOCATION:The Community Exchange\, 116 Main St.\, Altona\, MB\, Canada
ATTACH;FMTTYPE=image/png:https://regionalconnections.ca/wp-content/uploads/2026/01/Conversation-Circle-Altona-1.png
END:VEVENT
BEGIN:VEVENT
DTSTART;TZID=America/Winnipeg:20260504T190000
DTEND;TZID=America/Winnipeg:20260504T210000
DTSTAMP:20260423T020832
CREATED:20260107T172621Z
LAST-MODIFIED:20260112T173140Z
UID:10012352-1777921200-1777928400@regionalconnections.ca
SUMMARY:Conversation Circle Altona
DESCRIPTION:
URL:https://regionalconnections.ca/event/conversation-circle-altona/2026-05-04/
LOCATION:The Community Exchange\, 116 Main St.\, Altona\, MB\, Canada
ATTACH;FMTTYPE=image/png:https://regionalconnections.ca/wp-content/uploads/2026/01/Conversation-Circle-Altona-1.png
END:VEVENT
BEGIN:VEVENT
DTSTART;TZID=America/Winnipeg:20260511T190000
DTEND;TZID=America/Winnipeg:20260511T210000
DTSTAMP:20260423T020832
CREATED:20260107T172621Z
LAST-MODIFIED:20260112T173140Z
UID:10012353-1778526000-1778533200@regionalconnections.ca
SUMMARY:Conversation Circle Altona
DESCRIPTION:
URL:https://regionalconnections.ca/event/conversation-circle-altona/2026-05-11/
LOCATION:The Community Exchange\, 116 Main St.\, Altona\, MB\, Canada
ATTACH;FMTTYPE=image/png:https://regionalconnections.ca/wp-content/uploads/2026/01/Conversation-Circle-Altona-1.png
END:VEVENT
BEGIN:VEVENT
DTSTART;TZID=America/Winnipeg:20260518T190000
DTEND;TZID=America/Winnipeg:20260518T210000
DTSTAMP:20260423T020832
CREATED:20260107T172621Z
LAST-MODIFIED:20260112T173140Z
UID:10012354-1779130800-1779138000@regionalconnections.ca
SUMMARY:Conversation Circle Altona
DESCRIPTION:
URL:https://regionalconnections.ca/event/conversation-circle-altona/2026-05-18/
LOCATION:The Community Exchange\, 116 Main St.\, Altona\, MB\, Canada
ATTACH;FMTTYPE=image/png:https://regionalconnections.ca/wp-content/uploads/2026/01/Conversation-Circle-Altona-1.png
END:VEVENT
BEGIN:VEVENT
DTSTART;TZID=America/Winnipeg:20260525T190000
DTEND;TZID=America/Winnipeg:20260525T210000
DTSTAMP:20260423T020832
CREATED:20260107T172621Z
LAST-MODIFIED:20260112T173140Z
UID:10012355-1779735600-1779742800@regionalconnections.ca
SUMMARY:Conversation Circle Altona
DESCRIPTION:
URL:https://regionalconnections.ca/event/conversation-circle-altona/2026-05-25/
LOCATION:The Community Exchange\, 116 Main St.\, Altona\, MB\, Canada
ATTACH;FMTTYPE=image/png:https://regionalconnections.ca/wp-content/uploads/2026/01/Conversation-Circle-Altona-1.png
END:VEVENT
BEGIN:VEVENT
DTSTART;TZID=America/Winnipeg:20260601T190000
DTEND;TZID=America/Winnipeg:20260601T210000
DTSTAMP:20260423T020832
CREATED:20260107T172621Z
LAST-MODIFIED:20260112T173140Z
UID:10012356-1780340400-1780347600@regionalconnections.ca
SUMMARY:Conversation Circle Altona
DESCRIPTION:
URL:https://regionalconnections.ca/event/conversation-circle-altona/2026-06-01/
LOCATION:The Community Exchange\, 116 Main St.\, Altona\, MB\, Canada
ATTACH;FMTTYPE=image/png:https://regionalconnections.ca/wp-content/uploads/2026/01/Conversation-Circle-Altona-1.png
END:VEVENT
BEGIN:VEVENT
DTSTART;TZID=America/Winnipeg:20260608T190000
DTEND;TZID=America/Winnipeg:20260608T210000
DTSTAMP:20260423T020832
CREATED:20260107T172621Z
LAST-MODIFIED:20260112T173140Z
UID:10012357-1780945200-1780952400@regionalconnections.ca
SUMMARY:Conversation Circle Altona
DESCRIPTION:
URL:https://regionalconnections.ca/event/conversation-circle-altona/2026-06-08/
LOCATION:The Community Exchange\, 116 Main St.\, Altona\, MB\, Canada
ATTACH;FMTTYPE=image/png:https://regionalconnections.ca/wp-content/uploads/2026/01/Conversation-Circle-Altona-1.png
END:VEVENT
BEGIN:VEVENT
DTSTART;TZID=America/Winnipeg:20260615T190000
DTEND;TZID=America/Winnipeg:20260615T210000
DTSTAMP:20260423T020832
CREATED:20260107T172621Z
LAST-MODIFIED:20260112T173140Z
UID:10012358-1781550000-1781557200@regionalconnections.ca
SUMMARY:Conversation Circle Altona
DESCRIPTION:
URL:https://regionalconnections.ca/event/conversation-circle-altona/2026-06-15/
LOCATION:The Community Exchange\, 116 Main St.\, Altona\, MB\, Canada
ATTACH;FMTTYPE=image/png:https://regionalconnections.ca/wp-content/uploads/2026/01/Conversation-Circle-Altona-1.png
END:VEVENT
BEGIN:VEVENT
DTSTART;TZID=America/Winnipeg:20260622T190000
DTEND;TZID=America/Winnipeg:20260622T210000
DTSTAMP:20260423T020832
CREATED:20260107T172621Z
LAST-MODIFIED:20260112T173140Z
UID:10012359-1782154800-1782162000@regionalconnections.ca
SUMMARY:Conversation Circle Altona
DESCRIPTION:
URL:https://regionalconnections.ca/event/conversation-circle-altona/2026-06-22/
LOCATION:The Community Exchange\, 116 Main St.\, Altona\, MB\, Canada
ATTACH;FMTTYPE=image/png:https://regionalconnections.ca/wp-content/uploads/2026/01/Conversation-Circle-Altona-1.png
END:VEVENT
BEGIN:VEVENT
DTSTART;TZID=America/Winnipeg:20260629T190000
DTEND;TZID=America/Winnipeg:20260629T210000
DTSTAMP:20260423T020832
CREATED:20260107T172621Z
LAST-MODIFIED:20260112T173140Z
UID:10012360-1782759600-1782766800@regionalconnections.ca
SUMMARY:Conversation Circle Altona
DESCRIPTION:
URL:https://regionalconnections.ca/event/conversation-circle-altona/2026-06-29/
LOCATION:The Community Exchange\, 116 Main St.\, Altona\, MB\, Canada
ATTACH;FMTTYPE=image/png:https://regionalconnections.ca/wp-content/uploads/2026/01/Conversation-Circle-Altona-1.png
END:VEVENT
BEGIN:VEVENT
DTSTART;TZID=America/Winnipeg:20260706T190000
DTEND;TZID=America/Winnipeg:20260706T210000
DTSTAMP:20260423T020832
CREATED:20260107T172621Z
LAST-MODIFIED:20260112T173140Z
UID:10012361-1783364400-1783371600@regionalconnections.ca
SUMMARY:Conversation Circle Altona
DESCRIPTION:
URL:https://regionalconnections.ca/event/conversation-circle-altona/2026-07-06/
LOCATION:The Community Exchange\, 116 Main St.\, Altona\, MB\, Canada
ATTACH;FMTTYPE=image/png:https://regionalconnections.ca/wp-content/uploads/2026/01/Conversation-Circle-Altona-1.png
END:VEVENT
BEGIN:VEVENT
DTSTART;TZID=America/Winnipeg:20260713T190000
DTEND;TZID=America/Winnipeg:20260713T210000
DTSTAMP:20260423T020832
CREATED:20260107T172621Z
LAST-MODIFIED:20260112T173140Z
UID:10012362-1783969200-1783976400@regionalconnections.ca
SUMMARY:Conversation Circle Altona
DESCRIPTION:
URL:https://regionalconnections.ca/event/conversation-circle-altona/2026-07-13/
LOCATION:The Community Exchange\, 116 Main St.\, Altona\, MB\, Canada
ATTACH;FMTTYPE=image/png:https://regionalconnections.ca/wp-content/uploads/2026/01/Conversation-Circle-Altona-1.png
END:VEVENT
BEGIN:VEVENT
DTSTART;TZID=America/Winnipeg:20260720T190000
DTEND;TZID=America/Winnipeg:20260720T210000
DTSTAMP:20260423T020832
CREATED:20260107T172621Z
LAST-MODIFIED:20260112T173140Z
UID:10012363-1784574000-1784581200@regionalconnections.ca
SUMMARY:Conversation Circle Altona
DESCRIPTION:
URL:https://regionalconnections.ca/event/conversation-circle-altona/2026-07-20/
LOCATION:The Community Exchange\, 116 Main St.\, Altona\, MB\, Canada
ATTACH;FMTTYPE=image/png:https://regionalconnections.ca/wp-content/uploads/2026/01/Conversation-Circle-Altona-1.png
END:VEVENT
BEGIN:VEVENT
DTSTART;TZID=America/Winnipeg:20260727T190000
DTEND;TZID=America/Winnipeg:20260727T210000
DTSTAMP:20260423T020832
CREATED:20260107T172621Z
LAST-MODIFIED:20260112T173140Z
UID:10012364-1785178800-1785186000@regionalconnections.ca
SUMMARY:Conversation Circle Altona
DESCRIPTION:
URL:https://regionalconnections.ca/event/conversation-circle-altona/2026-07-27/
LOCATION:The Community Exchange\, 116 Main St.\, Altona\, MB\, Canada
ATTACH;FMTTYPE=image/png:https://regionalconnections.ca/wp-content/uploads/2026/01/Conversation-Circle-Altona-1.png
END:VEVENT
BEGIN:VEVENT
DTSTART;TZID=America/Winnipeg:20260803T190000
DTEND;TZID=America/Winnipeg:20260803T210000
DTSTAMP:20260423T020832
CREATED:20260107T172621Z
LAST-MODIFIED:20260112T173140Z
UID:10012365-1785783600-1785790800@regionalconnections.ca
SUMMARY:Conversation Circle Altona
DESCRIPTION:
URL:https://regionalconnections.ca/event/conversation-circle-altona/2026-08-03/
LOCATION:The Community Exchange\, 116 Main St.\, Altona\, MB\, Canada
ATTACH;FMTTYPE=image/png:https://regionalconnections.ca/wp-content/uploads/2026/01/Conversation-Circle-Altona-1.png
END:VEVENT
BEGIN:VEVENT
DTSTART;TZID=America/Winnipeg:20260810T190000
DTEND;TZID=America/Winnipeg:20260810T210000
DTSTAMP:20260423T020832
CREATED:20260107T172621Z
LAST-MODIFIED:20260112T173140Z
UID:10012366-1786388400-1786395600@regionalconnections.ca
SUMMARY:Conversation Circle Altona
DESCRIPTION:
URL:https://regionalconnections.ca/event/conversation-circle-altona/2026-08-10/
LOCATION:The Community Exchange\, 116 Main St.\, Altona\, MB\, Canada
ATTACH;FMTTYPE=image/png:https://regionalconnections.ca/wp-content/uploads/2026/01/Conversation-Circle-Altona-1.png
END:VEVENT
BEGIN:VEVENT
DTSTART;TZID=America/Winnipeg:20260817T190000
DTEND;TZID=America/Winnipeg:20260817T210000
DTSTAMP:20260423T020832
CREATED:20260107T172621Z
LAST-MODIFIED:20260112T173140Z
UID:10012367-1786993200-1787000400@regionalconnections.ca
SUMMARY:Conversation Circle Altona
DESCRIPTION:
URL:https://regionalconnections.ca/event/conversation-circle-altona/2026-08-17/
LOCATION:The Community Exchange\, 116 Main St.\, Altona\, MB\, Canada
ATTACH;FMTTYPE=image/png:https://regionalconnections.ca/wp-content/uploads/2026/01/Conversation-Circle-Altona-1.png
END:VEVENT
BEGIN:VEVENT
DTSTART;TZID=America/Winnipeg:20260824T190000
DTEND;TZID=America/Winnipeg:20260824T210000
DTSTAMP:20260423T020832
CREATED:20260107T172621Z
LAST-MODIFIED:20260112T173140Z
UID:10012368-1787598000-1787605200@regionalconnections.ca
SUMMARY:Conversation Circle Altona
DESCRIPTION:
URL:https://regionalconnections.ca/event/conversation-circle-altona/2026-08-24/
LOCATION:The Community Exchange\, 116 Main St.\, Altona\, MB\, Canada
ATTACH;FMTTYPE=image/png:https://regionalconnections.ca/wp-content/uploads/2026/01/Conversation-Circle-Altona-1.png
END:VEVENT
BEGIN:VEVENT
DTSTART;TZID=America/Winnipeg:20260831T190000
DTEND;TZID=America/Winnipeg:20260831T210000
DTSTAMP:20260423T020832
CREATED:20260107T172621Z
LAST-MODIFIED:20260112T173140Z
UID:10012369-1788202800-1788210000@regionalconnections.ca
SUMMARY:Conversation Circle Altona
DESCRIPTION:
URL:https://regionalconnections.ca/event/conversation-circle-altona/2026-08-31/
LOCATION:The Community Exchange\, 116 Main St.\, Altona\, MB\, Canada
ATTACH;FMTTYPE=image/png:https://regionalconnections.ca/wp-content/uploads/2026/01/Conversation-Circle-Altona-1.png
END:VEVENT
BEGIN:VEVENT
DTSTART;TZID=America/Winnipeg:20260907T190000
DTEND;TZID=America/Winnipeg:20260907T210000
DTSTAMP:20260423T020832
CREATED:20260107T172621Z
LAST-MODIFIED:20260112T173140Z
UID:10012370-1788807600-1788814800@regionalconnections.ca
SUMMARY:Conversation Circle Altona
DESCRIPTION:
URL:https://regionalconnections.ca/event/conversation-circle-altona/2026-09-07/
LOCATION:The Community Exchange\, 116 Main St.\, Altona\, MB\, Canada
ATTACH;FMTTYPE=image/png:https://regionalconnections.ca/wp-content/uploads/2026/01/Conversation-Circle-Altona-1.png
END:VEVENT
BEGIN:VEVENT
DTSTART;TZID=America/Winnipeg:20260914T190000
DTEND;TZID=America/Winnipeg:20260914T210000
DTSTAMP:20260423T020832
CREATED:20260107T172621Z
LAST-MODIFIED:20260112T173140Z
UID:10012371-1789412400-1789419600@regionalconnections.ca
SUMMARY:Conversation Circle Altona
DESCRIPTION:
URL:https://regionalconnections.ca/event/conversation-circle-altona/2026-09-14/
LOCATION:The Community Exchange\, 116 Main St.\, Altona\, MB\, Canada
ATTACH;FMTTYPE=image/png:https://regionalconnections.ca/wp-content/uploads/2026/01/Conversation-Circle-Altona-1.png
END:VEVENT
BEGIN:VEVENT
DTSTART;TZID=America/Winnipeg:20260921T190000
DTEND;TZID=America/Winnipeg:20260921T210000
DTSTAMP:20260423T020832
CREATED:20260107T172621Z
LAST-MODIFIED:20260112T173140Z
UID:10012372-1790017200-1790024400@regionalconnections.ca
SUMMARY:Conversation Circle Altona
DESCRIPTION:
URL:https://regionalconnections.ca/event/conversation-circle-altona/2026-09-21/
LOCATION:The Community Exchange\, 116 Main St.\, Altona\, MB\, Canada
ATTACH;FMTTYPE=image/png:https://regionalconnections.ca/wp-content/uploads/2026/01/Conversation-Circle-Altona-1.png
END:VEVENT
BEGIN:VEVENT
DTSTART;TZID=America/Winnipeg:20260928T190000
DTEND;TZID=America/Winnipeg:20260928T210000
DTSTAMP:20260423T020832
CREATED:20260107T172621Z
LAST-MODIFIED:20260112T173140Z
UID:10012373-1790622000-1790629200@regionalconnections.ca
SUMMARY:Conversation Circle Altona
DESCRIPTION:
URL:https://regionalconnections.ca/event/conversation-circle-altona/2026-09-28/
LOCATION:The Community Exchange\, 116 Main St.\, Altona\, MB\, Canada
ATTACH;FMTTYPE=image/png:https://regionalconnections.ca/wp-content/uploads/2026/01/Conversation-Circle-Altona-1.png
END:VEVENT
BEGIN:VEVENT
DTSTART;TZID=America/Winnipeg:20261005T190000
DTEND;TZID=America/Winnipeg:20261005T210000
DTSTAMP:20260423T020832
CREATED:20260107T172621Z
LAST-MODIFIED:20260112T173140Z
UID:10012374-1791226800-1791234000@regionalconnections.ca
SUMMARY:Conversation Circle Altona
DESCRIPTION:
URL:https://regionalconnections.ca/event/conversation-circle-altona/2026-10-05/
LOCATION:The Community Exchange\, 116 Main St.\, Altona\, MB\, Canada
ATTACH;FMTTYPE=image/png:https://regionalconnections.ca/wp-content/uploads/2026/01/Conversation-Circle-Altona-1.png
END:VEVENT
BEGIN:VEVENT
DTSTART;TZID=America/Winnipeg:20261012T190000
DTEND;TZID=America/Winnipeg:20261012T210000
DTSTAMP:20260423T020832
CREATED:20260107T172621Z
LAST-MODIFIED:20260112T173140Z
UID:10012375-1791831600-1791838800@regionalconnections.ca
SUMMARY:Conversation Circle Altona
DESCRIPTION:
URL:https://regionalconnections.ca/event/conversation-circle-altona/2026-10-12/
LOCATION:The Community Exchange\, 116 Main St.\, Altona\, MB\, Canada
ATTACH;FMTTYPE=image/png:https://regionalconnections.ca/wp-content/uploads/2026/01/Conversation-Circle-Altona-1.png
END:VEVENT
BEGIN:VEVENT
DTSTART;TZID=America/Winnipeg:20261019T190000
DTEND;TZID=America/Winnipeg:20261019T210000
DTSTAMP:20260423T020832
CREATED:20260107T172621Z
LAST-MODIFIED:20260112T173140Z
UID:10012376-1792436400-1792443600@regionalconnections.ca
SUMMARY:Conversation Circle Altona
DESCRIPTION:
URL:https://regionalconnections.ca/event/conversation-circle-altona/2026-10-19/
LOCATION:The Community Exchange\, 116 Main St.\, Altona\, MB\, Canada
ATTACH;FMTTYPE=image/png:https://regionalconnections.ca/wp-content/uploads/2026/01/Conversation-Circle-Altona-1.png
END:VEVENT
BEGIN:VEVENT
DTSTART;TZID=America/Winnipeg:20261026T190000
DTEND;TZID=America/Winnipeg:20261026T210000
DTSTAMP:20260423T020832
CREATED:20260107T172621Z
LAST-MODIFIED:20260112T173140Z
UID:10012377-1793041200-1793048400@regionalconnections.ca
SUMMARY:Conversation Circle Altona
DESCRIPTION:
URL:https://regionalconnections.ca/event/conversation-circle-altona/2026-10-26/
LOCATION:The Community Exchange\, 116 Main St.\, Altona\, MB\, Canada
ATTACH;FMTTYPE=image/png:https://regionalconnections.ca/wp-content/uploads/2026/01/Conversation-Circle-Altona-1.png
END:VEVENT
BEGIN:VEVENT
DTSTART;TZID=America/Winnipeg:20261102T190000
DTEND;TZID=America/Winnipeg:20261102T210000
DTSTAMP:20260423T020832
CREATED:20260107T172621Z
LAST-MODIFIED:20260112T173140Z
UID:10012378-1793646000-1793653200@regionalconnections.ca
SUMMARY:Conversation Circle Altona
DESCRIPTION:
URL:https://regionalconnections.ca/event/conversation-circle-altona/2026-11-02/
LOCATION:The Community Exchange\, 116 Main St.\, Altona\, MB\, Canada
ATTACH;FMTTYPE=image/png:https://regionalconnections.ca/wp-content/uploads/2026/01/Conversation-Circle-Altona-1.png
END:VEVENT
BEGIN:VEVENT
DTSTART;TZID=America/Winnipeg:20261109T190000
DTEND;TZID=America/Winnipeg:20261109T210000
DTSTAMP:20260423T020832
CREATED:20260107T172621Z
LAST-MODIFIED:20260112T173140Z
UID:10012379-1794250800-1794258000@regionalconnections.ca
SUMMARY:Conversation Circle Altona
DESCRIPTION:
URL:https://regionalconnections.ca/event/conversation-circle-altona/2026-11-09/
LOCATION:The Community Exchange\, 116 Main St.\, Altona\, MB\, Canada
ATTACH;FMTTYPE=image/png:https://regionalconnections.ca/wp-content/uploads/2026/01/Conversation-Circle-Altona-1.png
END:VEVENT
BEGIN:VEVENT
DTSTART;TZID=America/Winnipeg:20261116T190000
DTEND;TZID=America/Winnipeg:20261116T210000
DTSTAMP:20260423T020832
CREATED:20260107T172621Z
LAST-MODIFIED:20260112T173140Z
UID:10012380-1794855600-1794862800@regionalconnections.ca
SUMMARY:Conversation Circle Altona
DESCRIPTION:
URL:https://regionalconnections.ca/event/conversation-circle-altona/2026-11-16/
LOCATION:The Community Exchange\, 116 Main St.\, Altona\, MB\, Canada
ATTACH;FMTTYPE=image/png:https://regionalconnections.ca/wp-content/uploads/2026/01/Conversation-Circle-Altona-1.png
END:VEVENT
END:VCALENDAR