BEGIN:VCALENDAR
VERSION:2.0
PRODID:-//Regional Connections - ECPv6.15.18//NONSGML v1.0//EN
CALSCALE:GREGORIAN
METHOD:PUBLISH
X-WR-CALNAME:Regional Connections
X-ORIGINAL-URL:https://regionalconnections.ca
X-WR-CALDESC:Events for Regional Connections
REFRESH-INTERVAL;VALUE=DURATION:PT1H
X-Robots-Tag:noindex
X-PUBLISHED-TTL:PT1H
BEGIN:VTIMEZONE
TZID:America/Winnipeg
BEGIN:DAYLIGHT
TZOFFSETFROM:-0600
TZOFFSETTO:-0500
TZNAME:CDT
DTSTART:20230312T080000
END:DAYLIGHT
BEGIN:STANDARD
TZOFFSETFROM:-0500
TZOFFSETTO:-0600
TZNAME:CST
DTSTART:20231105T070000
END:STANDARD
BEGIN:DAYLIGHT
TZOFFSETFROM:-0600
TZOFFSETTO:-0500
TZNAME:CDT
DTSTART:20240310T080000
END:DAYLIGHT
BEGIN:STANDARD
TZOFFSETFROM:-0500
TZOFFSETTO:-0600
TZNAME:CST
DTSTART:20241103T070000
END:STANDARD
BEGIN:DAYLIGHT
TZOFFSETFROM:-0600
TZOFFSETTO:-0500
TZNAME:CDT
DTSTART:20250309T080000
END:DAYLIGHT
BEGIN:STANDARD
TZOFFSETFROM:-0500
TZOFFSETTO:-0600
TZNAME:CST
DTSTART:20251102T070000
END:STANDARD
BEGIN:DAYLIGHT
TZOFFSETFROM:-0600
TZOFFSETTO:-0500
TZNAME:CDT
DTSTART:20260308T080000
END:DAYLIGHT
BEGIN:STANDARD
TZOFFSETFROM:-0500
TZOFFSETTO:-0600
TZNAME:CST
DTSTART:20261101T070000
END:STANDARD
BEGIN:DAYLIGHT
TZOFFSETFROM:-0600
TZOFFSETTO:-0500
TZNAME:CDT
DTSTART:20270314T080000
END:DAYLIGHT
BEGIN:STANDARD
TZOFFSETFROM:-0500
TZOFFSETTO:-0600
TZNAME:CST
DTSTART:20271107T070000
END:STANDARD
END:VTIMEZONE
BEGIN:VEVENT
DTSTART;TZID=America/Winnipeg:20260128T183000
DTEND;TZID=America/Winnipeg:20260128T193000
DTSTAMP:20260423T033320
CREATED:20260112T203431Z
LAST-MODIFIED:20260112T203431Z
UID:10013911-1769625000-1769628600@regionalconnections.ca
SUMMARY:Latin Dance Class
DESCRIPTION:Join our Latin dance class and experience the vibrant rhythms and dynamic moves. Perfect for all levels—come dance\, have fun\, and feel the energy!
URL:https://regionalconnections.ca/event/latin-dance-class-3/
LOCATION:The Community Exchange\, 116 Main St.\, Altona\, MB\, Canada
ATTACH;FMTTYPE=image/png:https://regionalconnections.ca/wp-content/uploads/2026/01/Dance-Class-8.5-x-11-in.png
END:VEVENT
BEGIN:VEVENT
DTSTART;TZID=America/Winnipeg:20260126T190000
DTEND;TZID=America/Winnipeg:20260126T210000
DTSTAMP:20260423T033320
CREATED:20260107T172621Z
LAST-MODIFIED:20260112T173140Z
UID:10012338-1769454000-1769461200@regionalconnections.ca
SUMMARY:Conversation Circle Altona
DESCRIPTION:
URL:https://regionalconnections.ca/event/conversation-circle-altona/2026-01-26/
LOCATION:The Community Exchange\, 116 Main St.\, Altona\, MB\, Canada
ATTACH;FMTTYPE=image/png:https://regionalconnections.ca/wp-content/uploads/2026/01/Conversation-Circle-Altona-1.png
END:VEVENT
BEGIN:VEVENT
DTSTART;TZID=America/Winnipeg:20260119T190000
DTEND;TZID=America/Winnipeg:20260119T210000
DTSTAMP:20260423T033320
CREATED:20260107T172621Z
LAST-MODIFIED:20260112T173140Z
UID:10012337-1768849200-1768856400@regionalconnections.ca
SUMMARY:Conversation Circle Altona
DESCRIPTION:
URL:https://regionalconnections.ca/event/conversation-circle-altona/2026-01-19/
LOCATION:The Community Exchange\, 116 Main St.\, Altona\, MB\, Canada
ATTACH;FMTTYPE=image/png:https://regionalconnections.ca/wp-content/uploads/2026/01/Conversation-Circle-Altona-1.png
END:VEVENT
BEGIN:VEVENT
DTSTART;TZID=America/Winnipeg:20260114T183000
DTEND;TZID=America/Winnipeg:20260114T193000
DTSTAMP:20260423T033320
CREATED:20260112T203117Z
LAST-MODIFIED:20260112T203117Z
UID:10013910-1768415400-1768419000@regionalconnections.ca
SUMMARY:Latin Dance Class
DESCRIPTION:Join our Latin dance class and experience the vibrant rhythms and dynamic moves. Perfect for all levels—come dance\, have fun\, and feel the energy!
URL:https://regionalconnections.ca/event/latin-dance-class-2/
LOCATION:The Community Exchange\, 116 Main St.\, Altona\, MB\, Canada
END:VEVENT
BEGIN:VEVENT
DTSTART;TZID=America/Winnipeg:20260112T190000
DTEND;TZID=America/Winnipeg:20260112T210000
DTSTAMP:20260423T033320
CREATED:20260107T172621Z
LAST-MODIFIED:20260112T173140Z
UID:10012336-1768244400-1768251600@regionalconnections.ca
SUMMARY:Conversation Circle Altona
DESCRIPTION:
URL:https://regionalconnections.ca/event/conversation-circle-altona/2026-01-12/
LOCATION:The Community Exchange\, 116 Main St.\, Altona\, MB\, Canada
ATTACH;FMTTYPE=image/png:https://regionalconnections.ca/wp-content/uploads/2026/01/Conversation-Circle-Altona-1.png
END:VEVENT
BEGIN:VEVENT
DTSTART;TZID=America/Winnipeg:20250602T190000
DTEND;TZID=America/Winnipeg:20250602T210000
DTSTAMP:20260423T033320
CREATED:20230824T162049Z
LAST-MODIFIED:20241216T154807Z
UID:10008772-1748890800-1748898000@regionalconnections.ca
SUMMARY:Altona - English Cafe
DESCRIPTION:Gather with us in Altona as we meet on Mondays for a coffee and some conversation. Practice your English skills\, get to know others\, and be part of the community!
URL:https://regionalconnections.ca/event/altona-english-cafe-2024-06-24/2025-06-02/
LOCATION:The Community Exchange\, 116 Main St.\, Altona\, MB\, Canada
ATTACH;FMTTYPE=image/png:https://regionalconnections.ca/wp-content/uploads/2023/08/English-Cafe.png
END:VEVENT
BEGIN:VEVENT
DTSTART;TZID=America/Winnipeg:20250526T190000
DTEND;TZID=America/Winnipeg:20250526T210000
DTSTAMP:20260423T033320
CREATED:20230824T162049Z
LAST-MODIFIED:20241216T154807Z
UID:10008771-1748286000-1748293200@regionalconnections.ca
SUMMARY:Altona - English Cafe
DESCRIPTION:Gather with us in Altona as we meet on Mondays for a coffee and some conversation. Practice your English skills\, get to know others\, and be part of the community!
URL:https://regionalconnections.ca/event/altona-english-cafe-2024-06-24/2025-05-26/
LOCATION:The Community Exchange\, 116 Main St.\, Altona\, MB\, Canada
ATTACH;FMTTYPE=image/png:https://regionalconnections.ca/wp-content/uploads/2023/08/English-Cafe.png
END:VEVENT
BEGIN:VEVENT
DTSTART;TZID=America/Winnipeg:20250519T190000
DTEND;TZID=America/Winnipeg:20250519T210000
DTSTAMP:20260423T033320
CREATED:20230824T162049Z
LAST-MODIFIED:20241216T154807Z
UID:10008770-1747681200-1747688400@regionalconnections.ca
SUMMARY:Altona - English Cafe
DESCRIPTION:Gather with us in Altona as we meet on Mondays for a coffee and some conversation. Practice your English skills\, get to know others\, and be part of the community!
URL:https://regionalconnections.ca/event/altona-english-cafe-2024-06-24/2025-05-19/
LOCATION:The Community Exchange\, 116 Main St.\, Altona\, MB\, Canada
ATTACH;FMTTYPE=image/png:https://regionalconnections.ca/wp-content/uploads/2023/08/English-Cafe.png
END:VEVENT
BEGIN:VEVENT
DTSTART;TZID=America/Winnipeg:20250512T190000
DTEND;TZID=America/Winnipeg:20250512T210000
DTSTAMP:20260423T033320
CREATED:20230824T162049Z
LAST-MODIFIED:20241216T154807Z
UID:10008769-1747076400-1747083600@regionalconnections.ca
SUMMARY:Altona - English Cafe
DESCRIPTION:Gather with us in Altona as we meet on Mondays for a coffee and some conversation. Practice your English skills\, get to know others\, and be part of the community!
URL:https://regionalconnections.ca/event/altona-english-cafe-2024-06-24/2025-05-12/
LOCATION:The Community Exchange\, 116 Main St.\, Altona\, MB\, Canada
ATTACH;FMTTYPE=image/png:https://regionalconnections.ca/wp-content/uploads/2023/08/English-Cafe.png
END:VEVENT
BEGIN:VEVENT
DTSTART;TZID=America/Winnipeg:20250505T190000
DTEND;TZID=America/Winnipeg:20250505T210000
DTSTAMP:20260423T033320
CREATED:20230824T162049Z
LAST-MODIFIED:20241216T154807Z
UID:10008768-1746471600-1746478800@regionalconnections.ca
SUMMARY:Altona - English Cafe
DESCRIPTION:Gather with us in Altona as we meet on Mondays for a coffee and some conversation. Practice your English skills\, get to know others\, and be part of the community!
URL:https://regionalconnections.ca/event/altona-english-cafe-2024-06-24/2025-05-05/
LOCATION:The Community Exchange\, 116 Main St.\, Altona\, MB\, Canada
ATTACH;FMTTYPE=image/png:https://regionalconnections.ca/wp-content/uploads/2023/08/English-Cafe.png
END:VEVENT
BEGIN:VEVENT
DTSTART;TZID=America/Winnipeg:20250428T190000
DTEND;TZID=America/Winnipeg:20250428T210000
DTSTAMP:20260423T033320
CREATED:20230824T162049Z
LAST-MODIFIED:20241216T154807Z
UID:10008767-1745866800-1745874000@regionalconnections.ca
SUMMARY:Altona - English Cafe
DESCRIPTION:Gather with us in Altona as we meet on Mondays for a coffee and some conversation. Practice your English skills\, get to know others\, and be part of the community!
URL:https://regionalconnections.ca/event/altona-english-cafe-2024-06-24/2025-04-28/
LOCATION:The Community Exchange\, 116 Main St.\, Altona\, MB\, Canada
ATTACH;FMTTYPE=image/png:https://regionalconnections.ca/wp-content/uploads/2023/08/English-Cafe.png
END:VEVENT
BEGIN:VEVENT
DTSTART;TZID=America/Winnipeg:20250421T190000
DTEND;TZID=America/Winnipeg:20250421T210000
DTSTAMP:20260423T033320
CREATED:20230824T162049Z
LAST-MODIFIED:20241216T154807Z
UID:10008766-1745262000-1745269200@regionalconnections.ca
SUMMARY:Altona - English Cafe
DESCRIPTION:Gather with us in Altona as we meet on Mondays for a coffee and some conversation. Practice your English skills\, get to know others\, and be part of the community!
URL:https://regionalconnections.ca/event/altona-english-cafe-2024-06-24/2025-04-21/
LOCATION:The Community Exchange\, 116 Main St.\, Altona\, MB\, Canada
ATTACH;FMTTYPE=image/png:https://regionalconnections.ca/wp-content/uploads/2023/08/English-Cafe.png
END:VEVENT
BEGIN:VEVENT
DTSTART;TZID=America/Winnipeg:20250414T190000
DTEND;TZID=America/Winnipeg:20250414T210000
DTSTAMP:20260423T033320
CREATED:20230824T162049Z
LAST-MODIFIED:20241216T154807Z
UID:10008765-1744657200-1744664400@regionalconnections.ca
SUMMARY:Altona - English Cafe
DESCRIPTION:Gather with us in Altona as we meet on Mondays for a coffee and some conversation. Practice your English skills\, get to know others\, and be part of the community!
URL:https://regionalconnections.ca/event/altona-english-cafe-2024-06-24/2025-04-14/
LOCATION:The Community Exchange\, 116 Main St.\, Altona\, MB\, Canada
ATTACH;FMTTYPE=image/png:https://regionalconnections.ca/wp-content/uploads/2023/08/English-Cafe.png
END:VEVENT
BEGIN:VEVENT
DTSTART;TZID=America/Winnipeg:20250407T190000
DTEND;TZID=America/Winnipeg:20250407T210000
DTSTAMP:20260423T033320
CREATED:20230824T162049Z
LAST-MODIFIED:20241216T154807Z
UID:10008764-1744052400-1744059600@regionalconnections.ca
SUMMARY:Altona - English Cafe
DESCRIPTION:Gather with us in Altona as we meet on Mondays for a coffee and some conversation. Practice your English skills\, get to know others\, and be part of the community!
URL:https://regionalconnections.ca/event/altona-english-cafe-2024-06-24/2025-04-07/
LOCATION:The Community Exchange\, 116 Main St.\, Altona\, MB\, Canada
ATTACH;FMTTYPE=image/png:https://regionalconnections.ca/wp-content/uploads/2023/08/English-Cafe.png
END:VEVENT
BEGIN:VEVENT
DTSTART;TZID=America/Winnipeg:20250331T190000
DTEND;TZID=America/Winnipeg:20250331T210000
DTSTAMP:20260423T033320
CREATED:20230824T162049Z
LAST-MODIFIED:20241216T154807Z
UID:10008763-1743447600-1743454800@regionalconnections.ca
SUMMARY:Altona - English Cafe
DESCRIPTION:Gather with us in Altona as we meet on Mondays for a coffee and some conversation. Practice your English skills\, get to know others\, and be part of the community!
URL:https://regionalconnections.ca/event/altona-english-cafe-2024-06-24/2025-03-31/
LOCATION:The Community Exchange\, 116 Main St.\, Altona\, MB\, Canada
ATTACH;FMTTYPE=image/png:https://regionalconnections.ca/wp-content/uploads/2023/08/English-Cafe.png
END:VEVENT
BEGIN:VEVENT
DTSTART;TZID=America/Winnipeg:20250324T190000
DTEND;TZID=America/Winnipeg:20250324T210000
DTSTAMP:20260423T033320
CREATED:20230824T162049Z
LAST-MODIFIED:20241216T154807Z
UID:10008762-1742842800-1742850000@regionalconnections.ca
SUMMARY:Altona - English Cafe
DESCRIPTION:Gather with us in Altona as we meet on Mondays for a coffee and some conversation. Practice your English skills\, get to know others\, and be part of the community!
URL:https://regionalconnections.ca/event/altona-english-cafe-2024-06-24/2025-03-24/
LOCATION:The Community Exchange\, 116 Main St.\, Altona\, MB\, Canada
ATTACH;FMTTYPE=image/png:https://regionalconnections.ca/wp-content/uploads/2023/08/English-Cafe.png
END:VEVENT
BEGIN:VEVENT
DTSTART;TZID=America/Winnipeg:20250317T190000
DTEND;TZID=America/Winnipeg:20250317T210000
DTSTAMP:20260423T033320
CREATED:20230824T162049Z
LAST-MODIFIED:20241216T154807Z
UID:10008761-1742238000-1742245200@regionalconnections.ca
SUMMARY:Altona - English Cafe
DESCRIPTION:Gather with us in Altona as we meet on Mondays for a coffee and some conversation. Practice your English skills\, get to know others\, and be part of the community!
URL:https://regionalconnections.ca/event/altona-english-cafe-2024-06-24/2025-03-17/
LOCATION:The Community Exchange\, 116 Main St.\, Altona\, MB\, Canada
ATTACH;FMTTYPE=image/png:https://regionalconnections.ca/wp-content/uploads/2023/08/English-Cafe.png
END:VEVENT
BEGIN:VEVENT
DTSTART;TZID=America/Winnipeg:20250310T190000
DTEND;TZID=America/Winnipeg:20250310T210000
DTSTAMP:20260423T033320
CREATED:20230824T162049Z
LAST-MODIFIED:20241216T154807Z
UID:10008760-1741633200-1741640400@regionalconnections.ca
SUMMARY:Altona - English Cafe
DESCRIPTION:Gather with us in Altona as we meet on Mondays for a coffee and some conversation. Practice your English skills\, get to know others\, and be part of the community!
URL:https://regionalconnections.ca/event/altona-english-cafe-2024-06-24/2025-03-10/
LOCATION:The Community Exchange\, 116 Main St.\, Altona\, MB\, Canada
ATTACH;FMTTYPE=image/png:https://regionalconnections.ca/wp-content/uploads/2023/08/English-Cafe.png
END:VEVENT
BEGIN:VEVENT
DTSTART;TZID=America/Winnipeg:20250303T190000
DTEND;TZID=America/Winnipeg:20250303T210000
DTSTAMP:20260423T033320
CREATED:20230824T162049Z
LAST-MODIFIED:20241216T154807Z
UID:10008759-1741028400-1741035600@regionalconnections.ca
SUMMARY:Altona - English Cafe
DESCRIPTION:Gather with us in Altona as we meet on Mondays for a coffee and some conversation. Practice your English skills\, get to know others\, and be part of the community!
URL:https://regionalconnections.ca/event/altona-english-cafe-2024-06-24/2025-03-03/
LOCATION:The Community Exchange\, 116 Main St.\, Altona\, MB\, Canada
ATTACH;FMTTYPE=image/png:https://regionalconnections.ca/wp-content/uploads/2023/08/English-Cafe.png
END:VEVENT
BEGIN:VEVENT
DTSTART;TZID=America/Winnipeg:20250224T190000
DTEND;TZID=America/Winnipeg:20250224T210000
DTSTAMP:20260423T033320
CREATED:20230824T162049Z
LAST-MODIFIED:20241216T154807Z
UID:10008758-1740423600-1740430800@regionalconnections.ca
SUMMARY:Altona - English Cafe
DESCRIPTION:Gather with us in Altona as we meet on Mondays for a coffee and some conversation. Practice your English skills\, get to know others\, and be part of the community!
URL:https://regionalconnections.ca/event/altona-english-cafe-2024-06-24/2025-02-24/
LOCATION:The Community Exchange\, 116 Main St.\, Altona\, MB\, Canada
ATTACH;FMTTYPE=image/png:https://regionalconnections.ca/wp-content/uploads/2023/08/English-Cafe.png
END:VEVENT
BEGIN:VEVENT
DTSTART;TZID=America/Winnipeg:20250217T190000
DTEND;TZID=America/Winnipeg:20250217T210000
DTSTAMP:20260423T033320
CREATED:20230824T162049Z
LAST-MODIFIED:20241216T154807Z
UID:10008757-1739818800-1739826000@regionalconnections.ca
SUMMARY:Altona - English Cafe
DESCRIPTION:Gather with us in Altona as we meet on Mondays for a coffee and some conversation. Practice your English skills\, get to know others\, and be part of the community!
URL:https://regionalconnections.ca/event/altona-english-cafe-2024-06-24/2025-02-17/
LOCATION:The Community Exchange\, 116 Main St.\, Altona\, MB\, Canada
ATTACH;FMTTYPE=image/png:https://regionalconnections.ca/wp-content/uploads/2023/08/English-Cafe.png
END:VEVENT
BEGIN:VEVENT
DTSTART;TZID=America/Winnipeg:20250210T190000
DTEND;TZID=America/Winnipeg:20250210T210000
DTSTAMP:20260423T033320
CREATED:20230824T162049Z
LAST-MODIFIED:20241216T154807Z
UID:10008756-1739214000-1739221200@regionalconnections.ca
SUMMARY:Altona - English Cafe
DESCRIPTION:Gather with us in Altona as we meet on Mondays for a coffee and some conversation. Practice your English skills\, get to know others\, and be part of the community!
URL:https://regionalconnections.ca/event/altona-english-cafe-2024-06-24/2025-02-10/
LOCATION:The Community Exchange\, 116 Main St.\, Altona\, MB\, Canada
ATTACH;FMTTYPE=image/png:https://regionalconnections.ca/wp-content/uploads/2023/08/English-Cafe.png
END:VEVENT
BEGIN:VEVENT
DTSTART;TZID=America/Winnipeg:20240624T190000
DTEND;TZID=America/Winnipeg:20240624T210000
DTSTAMP:20260423T033320
CREATED:20230824T162049Z
LAST-MODIFIED:20241216T154807Z
UID:10008755-1719255600-1719262800@regionalconnections.ca
SUMMARY:Altona - English Cafe
DESCRIPTION:Gather with us in Altona as we meet on Mondays for a coffee and some conversation. Practice your English skills\, get to know others\, and be part of the community!
URL:https://regionalconnections.ca/event/altona-english-cafe-2024-06-24/2024-06-24/
LOCATION:The Community Exchange\, 116 Main St.\, Altona\, MB\, Canada
ATTACH;FMTTYPE=image/png:https://regionalconnections.ca/wp-content/uploads/2023/08/English-Cafe.png
END:VEVENT
BEGIN:VEVENT
DTSTART;TZID=America/Winnipeg:20240606T190000
DTEND;TZID=America/Winnipeg:20240606T200000
DTSTAMP:20260423T033320
CREATED:20230105T183747Z
LAST-MODIFIED:20240618T181927Z
UID:10008049-1717700400-1717704000@regionalconnections.ca
SUMMARY:Altona - Dance Class
DESCRIPTION:Join the Community Exchange in Altona for a Dance Class! Contact us at 204-325-4059 or info@regionalconnections.ca with any questions or to register.
URL:https://regionalconnections.ca/event/altona-dance-class/2024-06-06/
LOCATION:The Community Exchange\, 116 Main St.\, Altona\, MB\, Canada
ATTACH;FMTTYPE=image/png:https://regionalconnections.ca/wp-content/uploads/2023/01/Dance-Class-8.5-x-11-in-1.png
END:VEVENT
BEGIN:VEVENT
DTSTART;TZID=America/Winnipeg:20240605T190000
DTEND;TZID=America/Winnipeg:20240605T200000
DTSTAMP:20260423T033320
CREATED:20250206T221923Z
LAST-MODIFIED:20250206T221923Z
UID:10008098-1717614000-1717617600@regionalconnections.ca
SUMMARY:Altona - Dance Class
DESCRIPTION:Join the Community Exchange in Altona for a Dance Class! Contact us at 204-325-4059 or info@regionalconnections.ca with any questions or to register.
URL:https://regionalconnections.ca/event/altona-dance-class/2024-06-05/
LOCATION:The Community Exchange\, 116 Main St.\, Altona\, MB\, Canada
ATTACH;FMTTYPE=image/png:https://regionalconnections.ca/wp-content/uploads/2023/01/Dance-Class-8.5-x-11-in-1.png
END:VEVENT
BEGIN:VEVENT
DTSTART;TZID=America/Winnipeg:20240603T190000
DTEND;TZID=America/Winnipeg:20240603T210000
DTSTAMP:20260423T033320
CREATED:20230824T162049Z
LAST-MODIFIED:20240603T140900Z
UID:10008754-1717441200-1717448400@regionalconnections.ca
SUMMARY:Altona - English Cafe
DESCRIPTION:Gather with us in Altona as we meet on Mondays for a coffee and some conversation. Practice your English skills\, get to know others\, and be part of the community!
URL:https://regionalconnections.ca/event/altona-english-cafe/2024-06-03/
LOCATION:The Community Exchange\, 116 Main St.\, Altona\, MB\, Canada
ATTACH;FMTTYPE=image/png:https://regionalconnections.ca/wp-content/uploads/2023/08/Basic.png
END:VEVENT
BEGIN:VEVENT
DTSTART;TZID=America/Winnipeg:20240529T190000
DTEND;TZID=America/Winnipeg:20240529T200000
DTSTAMP:20260423T033320
CREATED:20250206T221923Z
LAST-MODIFIED:20250206T221923Z
UID:10008097-1717009200-1717012800@regionalconnections.ca
SUMMARY:Altona - Dance Class
DESCRIPTION:Join the Community Exchange in Altona for a Dance Class! Contact us at 204-325-4059 or info@regionalconnections.ca with any questions or to register.
URL:https://regionalconnections.ca/event/altona-dance-class/2024-05-29/
LOCATION:The Community Exchange\, 116 Main St.\, Altona\, MB\, Canada
ATTACH;FMTTYPE=image/png:https://regionalconnections.ca/wp-content/uploads/2023/01/Dance-Class-8.5-x-11-in-1.png
END:VEVENT
BEGIN:VEVENT
DTSTART;TZID=America/Winnipeg:20240529T190000
DTEND;TZID=America/Winnipeg:20240529T200000
DTSTAMP:20260423T033320
CREATED:20250206T221923Z
LAST-MODIFIED:20250206T221923Z
UID:10008146-1717009200-1717012800@regionalconnections.ca
SUMMARY:Altona - Dance Class
DESCRIPTION:Join the Community Exchange in Altona for a Dance Class! Contact us at 204-325-4059 or info@regionalconnections.ca with any questions or to register.
URL:https://regionalconnections.ca/event/altona-dance-class/2024-05-29/
LOCATION:The Community Exchange\, 116 Main St.\, Altona\, MB\, Canada
ATTACH;FMTTYPE=image/png:https://regionalconnections.ca/wp-content/uploads/2023/01/Dance-Class-8.5-x-11-in-1.png
END:VEVENT
BEGIN:VEVENT
DTSTART;TZID=America/Winnipeg:20240527T190000
DTEND;TZID=America/Winnipeg:20240527T210000
DTSTAMP:20260423T033320
CREATED:20230824T162049Z
LAST-MODIFIED:20240603T140900Z
UID:10008753-1716836400-1716843600@regionalconnections.ca
SUMMARY:Altona - English Cafe
DESCRIPTION:Gather with us in Altona as we meet on Mondays for a coffee and some conversation. Practice your English skills\, get to know others\, and be part of the community!
URL:https://regionalconnections.ca/event/altona-english-cafe/2024-05-27/
LOCATION:The Community Exchange\, 116 Main St.\, Altona\, MB\, Canada
ATTACH;FMTTYPE=image/png:https://regionalconnections.ca/wp-content/uploads/2023/08/Basic.png
END:VEVENT
BEGIN:VEVENT
DTSTART;TZID=America/Winnipeg:20240523T190000
DTEND;TZID=America/Winnipeg:20240523T200000
DTSTAMP:20260423T033320
CREATED:20230105T183747Z
LAST-MODIFIED:20240618T181927Z
UID:10008048-1716490800-1716494400@regionalconnections.ca
SUMMARY:Altona - Dance Class
DESCRIPTION:Join the Community Exchange in Altona for a Dance Class! Contact us at 204-325-4059 or info@regionalconnections.ca with any questions or to register.
URL:https://regionalconnections.ca/event/altona-dance-class/2024-05-23/
LOCATION:The Community Exchange\, 116 Main St.\, Altona\, MB\, Canada
ATTACH;FMTTYPE=image/png:https://regionalconnections.ca/wp-content/uploads/2023/01/Dance-Class-8.5-x-11-in-1.png
END:VEVENT
END:VCALENDAR