BEGIN:VCALENDAR
VERSION:2.0
PRODID:-//Regional Connections - ECPv6.15.18//NONSGML v1.0//EN
CALSCALE:GREGORIAN
METHOD:PUBLISH
X-WR-CALNAME:Regional Connections
X-ORIGINAL-URL:https://regionalconnections.ca
X-WR-CALDESC:Events for Regional Connections
REFRESH-INTERVAL;VALUE=DURATION:PT1H
X-Robots-Tag:noindex
X-PUBLISHED-TTL:PT1H
BEGIN:VTIMEZONE
TZID:America/Winnipeg
BEGIN:DAYLIGHT
TZOFFSETFROM:-0600
TZOFFSETTO:-0500
TZNAME:CDT
DTSTART:20240310T080000
END:DAYLIGHT
BEGIN:STANDARD
TZOFFSETFROM:-0500
TZOFFSETTO:-0600
TZNAME:CST
DTSTART:20241103T070000
END:STANDARD
BEGIN:DAYLIGHT
TZOFFSETFROM:-0600
TZOFFSETTO:-0500
TZNAME:CDT
DTSTART:20250309T080000
END:DAYLIGHT
BEGIN:STANDARD
TZOFFSETFROM:-0500
TZOFFSETTO:-0600
TZNAME:CST
DTSTART:20251102T070000
END:STANDARD
BEGIN:DAYLIGHT
TZOFFSETFROM:-0600
TZOFFSETTO:-0500
TZNAME:CDT
DTSTART:20260308T080000
END:DAYLIGHT
BEGIN:STANDARD
TZOFFSETFROM:-0500
TZOFFSETTO:-0600
TZNAME:CST
DTSTART:20261101T070000
END:STANDARD
END:VTIMEZONE
BEGIN:VEVENT
DTSTART;TZID=America/Winnipeg:20251218T173000
DTEND;TZID=America/Winnipeg:20251218T193000
DTSTAMP:20260423T133021
CREATED:20251119T144619Z
LAST-MODIFIED:20251128T192903Z
UID:10010490-1766079000-1766086200@regionalconnections.ca
SUMMARY:Family Movie
DESCRIPTION:Parents and children from Kindergarten to Grade 6 are invited to enjoy a fun movie together\, with delicious food\, snacks\, and a cozy family atmosphere.
URL:https://regionalconnections.ca/event/family-movie/
LOCATION:Unit B. 58 2nd St. NE\, Unit B. 58 2nd St. NE\, Altona\, Canada
ATTACH;FMTTYPE=image/png:https://regionalconnections.ca/wp-content/uploads/2025/11/Movie-Night-Flyer.png
END:VEVENT
BEGIN:VEVENT
DTSTART;TZID=America/Winnipeg:20251211T163000
DTEND;TZID=America/Winnipeg:20251211T183000
DTSTAMP:20260423T133021
CREATED:20251119T145331Z
LAST-MODIFIED:20251119T211502Z
UID:10010491-1765470600-1765477800@regionalconnections.ca
SUMMARY:Movie + Snacks Night
DESCRIPTION:Just for students in Grades 7 to 12! Come hang out\, relax\, and enjoy a great movie with friends. We’ll have tasty food\, snacks\, and lots of fun!
URL:https://regionalconnections.ca/event/movie-snacks-night/
LOCATION:Unit B. 58 2nd St. NE\, Unit B. 58 2nd St. NE\, Altona\, Canada
ATTACH;FMTTYPE=image/png:https://regionalconnections.ca/wp-content/uploads/2025/11/2-1.png
END:VEVENT
BEGIN:VEVENT
DTSTART;TZID=America/Winnipeg:20250319T190000
DTEND;TZID=America/Winnipeg:20250319T200000
DTSTAMP:20260423T133021
CREATED:20250228T181255Z
LAST-MODIFIED:20250228T183435Z
UID:10009621-1742410800-1742414400@regionalconnections.ca
SUMMARY:Introduction to RRSP's & TFSA's
DESCRIPTION:(RRSP’S) Registered Retirement Savings Plans & Tax Free Saving Account (TFSA’s)
URL:https://regionalconnections.ca/event/introduction-to-rrsps-tfsas/
LOCATION:Unit B. 58 2nd St. NE\, Unit B. 58 2nd St. NE\, Altona\, Canada
END:VEVENT
END:VCALENDAR