BEGIN:VCALENDAR
VERSION:2.0
PRODID:-//Regional Connections - ECPv6.15.18//NONSGML v1.0//EN
CALSCALE:GREGORIAN
METHOD:PUBLISH
X-ORIGINAL-URL:https://regionalconnections.ca
X-WR-CALDESC:Events for Regional Connections
REFRESH-INTERVAL;VALUE=DURATION:PT1H
X-Robots-Tag:noindex
X-PUBLISHED-TTL:PT1H
BEGIN:VTIMEZONE
TZID:America/Winnipeg
BEGIN:DAYLIGHT
TZOFFSETFROM:-0600
TZOFFSETTO:-0500
TZNAME:CDT
DTSTART:20180311T080000
END:DAYLIGHT
BEGIN:STANDARD
TZOFFSETFROM:-0500
TZOFFSETTO:-0600
TZNAME:CST
DTSTART:20181104T070000
END:STANDARD
BEGIN:DAYLIGHT
TZOFFSETFROM:-0600
TZOFFSETTO:-0500
TZNAME:CDT
DTSTART:20190310T080000
END:DAYLIGHT
BEGIN:STANDARD
TZOFFSETFROM:-0500
TZOFFSETTO:-0600
TZNAME:CST
DTSTART:20191103T070000
END:STANDARD
BEGIN:DAYLIGHT
TZOFFSETFROM:-0600
TZOFFSETTO:-0500
TZNAME:CDT
DTSTART:20200308T080000
END:DAYLIGHT
BEGIN:STANDARD
TZOFFSETFROM:-0500
TZOFFSETTO:-0600
TZNAME:CST
DTSTART:20201101T070000
END:STANDARD
BEGIN:DAYLIGHT
TZOFFSETFROM:-0600
TZOFFSETTO:-0500
TZNAME:CDT
DTSTART:20210314T080000
END:DAYLIGHT
BEGIN:STANDARD
TZOFFSETFROM:-0500
TZOFFSETTO:-0600
TZNAME:CST
DTSTART:20211107T070000
END:STANDARD
END:VTIMEZONE
BEGIN:VEVENT
DTSTART;TZID=America/Winnipeg:20200727T180000
DTEND;TZID=America/Winnipeg:20200727T210000
DTSTAMP:20260422T013901
CREATED:20200616T195910Z
LAST-MODIFIED:20200630T213240Z
UID:10004926-1595872800-1595883600@regionalconnections.ca
SUMMARY:Winkler - Swim Safety Day
DESCRIPTION:
URL:https://regionalconnections.ca/event/swim-safety-day/
LOCATION:Winkler Aquatic Centre\, 580 Park St\, Winkler\, Manitoba\, R6W 1B2\, Canada
ATTACH;FMTTYPE=image/png:https://regionalconnections.ca/wp-content/uploads/2020/06/Swim-Safety-Day-2020.png
GEO:49.18785;-97.94463
X-APPLE-STRUCTURED-LOCATION;VALUE=URI;X-ADDRESS=Winkler Aquatic Centre 580 Park St Winkler Manitoba R6W 1B2 Canada;X-APPLE-RADIUS=500;X-TITLE=580 Park St:geo:-97.94463,49.18785
END:VEVENT
BEGIN:VEVENT
DTSTART;TZID=America/Winnipeg:20190720T110000
DTEND;TZID=America/Winnipeg:20190720T123000
DTSTAMP:20260422T013901
CREATED:20190617T154105Z
LAST-MODIFIED:20190617T154105Z
UID:10007476-1563620400-1563625800@regionalconnections.ca
SUMMARY:Water Safety & Swim Day - Winkler
DESCRIPTION:Come out to learn important information regarding swim safety. Session includes 45 minutes safety presentation and 45 minutes free family swim.
URL:https://regionalconnections.ca/event/water-safety-swim-day-winkler/
LOCATION:Winkler Aquatic Centre\, 580 Park St\, Winkler\, Manitoba\, R6W 1B2\, Canada
ATTACH;FMTTYPE=image/jpeg:https://regionalconnections.ca/wp-content/uploads/2019/06/swim-safety-day.jpg
GEO:49.18785;-97.94463
X-APPLE-STRUCTURED-LOCATION;VALUE=URI;X-ADDRESS=Winkler Aquatic Centre 580 Park St Winkler Manitoba R6W 1B2 Canada;X-APPLE-RADIUS=500;X-TITLE=580 Park St:geo:-97.94463,49.18785
END:VEVENT
END:VCALENDAR