BEGIN:VCALENDAR
VERSION:2.0
PRODID:-//Regional Connections - ECPv6.15.18//NONSGML v1.0//EN
CALSCALE:GREGORIAN
METHOD:PUBLISH
X-WR-CALNAME:Regional Connections
X-ORIGINAL-URL:https://regionalconnections.ca
X-WR-CALDESC:Events for Regional Connections
REFRESH-INTERVAL;VALUE=DURATION:PT1H
X-Robots-Tag:noindex
X-PUBLISHED-TTL:PT1H
BEGIN:VTIMEZONE
TZID:America/Winnipeg
BEGIN:DAYLIGHT
TZOFFSETFROM:-0600
TZOFFSETTO:-0500
TZNAME:CDT
DTSTART:20200308T080000
END:DAYLIGHT
BEGIN:STANDARD
TZOFFSETFROM:-0500
TZOFFSETTO:-0600
TZNAME:CST
DTSTART:20201101T070000
END:STANDARD
BEGIN:DAYLIGHT
TZOFFSETFROM:-0600
TZOFFSETTO:-0500
TZNAME:CDT
DTSTART:20210314T080000
END:DAYLIGHT
BEGIN:STANDARD
TZOFFSETFROM:-0500
TZOFFSETTO:-0600
TZNAME:CST
DTSTART:20211107T070000
END:STANDARD
BEGIN:DAYLIGHT
TZOFFSETFROM:-0600
TZOFFSETTO:-0500
TZNAME:CDT
DTSTART:20220313T080000
END:DAYLIGHT
BEGIN:STANDARD
TZOFFSETFROM:-0500
TZOFFSETTO:-0600
TZNAME:CST
DTSTART:20221106T070000
END:STANDARD
BEGIN:DAYLIGHT
TZOFFSETFROM:-0600
TZOFFSETTO:-0500
TZNAME:CDT
DTSTART:20230312T080000
END:DAYLIGHT
BEGIN:STANDARD
TZOFFSETFROM:-0500
TZOFFSETTO:-0600
TZNAME:CST
DTSTART:20231105T070000
END:STANDARD
BEGIN:DAYLIGHT
TZOFFSETFROM:-0600
TZOFFSETTO:-0500
TZNAME:CDT
DTSTART:20240310T080000
END:DAYLIGHT
BEGIN:STANDARD
TZOFFSETFROM:-0500
TZOFFSETTO:-0600
TZNAME:CST
DTSTART:20241103T070000
END:STANDARD
BEGIN:DAYLIGHT
TZOFFSETFROM:-0600
TZOFFSETTO:-0500
TZNAME:CDT
DTSTART:20250309T080000
END:DAYLIGHT
BEGIN:STANDARD
TZOFFSETFROM:-0500
TZOFFSETTO:-0600
TZNAME:CST
DTSTART:20251102T070000
END:STANDARD
END:VTIMEZONE
BEGIN:VEVENT
DTSTART;TZID=America/Winnipeg:20241128T100000
DTEND;TZID=America/Winnipeg:20241128T150000
DTSTAMP:20260422T133506
CREATED:20241030T144806Z
LAST-MODIFIED:20241121T222316Z
UID:10009264-1732788000-1732806000@regionalconnections.ca
SUMMARY:JOB FAIR
DESCRIPTION:JOB FAIR \nDate: November 28\, 2024 (Thursday) \nTime: 10 am to 3 pm \nVenue: Central Station Community Centre (555 Main Street\, Winkler) \nAGENDA \n10:00 am – welcome and introduction \n10:15 am  – presentation from Training & Employment Services (Government of Manitoba) \n10:30 am to 3 pm – job fair \nEXHIBITORS – EMPLOYERS \n\nAccess Credit Union\nAccess Window & Door Design Centre\nCity of Winkler\nETG World\nGateway Resources\nKroeker Farms\nMaple Leaf Foods\nMeridian Manufacturing\nMonarch Industries\nPenn-co Construction\nRoyal Canadian Mounted Police (RCMP)\nSouthern Health – Santé Sud\nTriple E RV\nValley Fiber\n\nEXHIBITORS – CAREER DEVELOPMENT RESOURCES \n\nRegional Connections – Employment Program\nRegional Connections – Volunteer Program\nSEED Recognition Counts\nSegue Career Options\nTraining & Employment Services (Government of MB)\n\nOPEN TO ALL! BRING YOUR RESUME OR PRINT ON-SITE!
URL:https://regionalconnections.ca/event/job-fair-2/
LOCATION:Central Station Community Centre\, 555 Main Street\, Winkler\, MB\, R6W 4A8\, Canada
ATTACH;FMTTYPE=image/png:https://regionalconnections.ca/wp-content/uploads/2024/10/logos-1-1.png
END:VEVENT
BEGIN:VEVENT
DTSTART;TZID=America/Winnipeg:20231130T100000
DTEND;TZID=America/Winnipeg:20231130T160000
DTSTAMP:20260422T133506
CREATED:20231102T184306Z
LAST-MODIFIED:20231127T165449Z
UID:10006222-1701338400-1701360000@regionalconnections.ca
SUMMARY:Winkler - Career Fair
DESCRIPTION:Questions? Click here: link.\nNOVEMBER 29\, 2023 WEDNESDAY \nEmployers: \n\nAccess Credit Union\nCity of Winkler\nGrandeur Housing\nKroeker Farms\nLode King\nMeridian\nMonarch\nPenn-co Construction\nRoyal Canadian Mounted Police (RCMP)\nSalem Home\nSouthern Health / Santé Sud\nTriple E\nValley Fiber\n\nCareer Development Resources: \n\nRed River College\nRegional Connections – Employment Program\n\nNOVEMBER 30\, 2023 THURSDAY \nEmployers: \n\nAccess Window and Door\nBorder Bean\nBuffalo Creek Mills\nCo-op\nCommissionaires Manitoba\nGateway Resources\nHeavenly Care\nSilver Lining Care\nTabor Home\n\nCareer Development Resources: \n\nCommunity Futures\nRegional Connections – Employment Program\nSegue Career Options\nSEED Recognition Counts\nWorkplace Education Manitoba
URL:https://regionalconnections.ca/event/winkler-career-fair/2023-11-30/
LOCATION:Central Station Community Centre\, 555 Main Street\, Winkler\, MB\, R6W 4A8\, Canada
ATTACH;FMTTYPE=image/png:https://regionalconnections.ca/wp-content/uploads/2023/11/Career-Fair.png
END:VEVENT
BEGIN:VEVENT
DTSTART;TZID=America/Winnipeg:20231129T100000
DTEND;TZID=America/Winnipeg:20231129T160000
DTSTAMP:20260422T133506
CREATED:20231102T184306Z
LAST-MODIFIED:20231127T165449Z
UID:10006221-1701252000-1701273600@regionalconnections.ca
SUMMARY:Winkler - Career Fair
DESCRIPTION:Questions? Click here: link.\nNOVEMBER 29\, 2023 WEDNESDAY \nEmployers: \n\nAccess Credit Union\nCity of Winkler\nGrandeur Housing\nKroeker Farms\nLode King\nMeridian\nMonarch\nPenn-co Construction\nRoyal Canadian Mounted Police (RCMP)\nSalem Home\nSouthern Health / Santé Sud\nTriple E\nValley Fiber\n\nCareer Development Resources: \n\nRed River College\nRegional Connections – Employment Program\n\nNOVEMBER 30\, 2023 THURSDAY \nEmployers: \n\nAccess Window and Door\nBorder Bean\nBuffalo Creek Mills\nCo-op\nCommissionaires Manitoba\nGateway Resources\nHeavenly Care\nSilver Lining Care\nTabor Home\n\nCareer Development Resources: \n\nCommunity Futures\nRegional Connections – Employment Program\nSegue Career Options\nSEED Recognition Counts\nWorkplace Education Manitoba
URL:https://regionalconnections.ca/event/winkler-career-fair/2023-11-29/
LOCATION:Central Station Community Centre\, 555 Main Street\, Winkler\, MB\, R6W 4A8\, Canada
ATTACH;FMTTYPE=image/png:https://regionalconnections.ca/wp-content/uploads/2023/11/Career-Fair.png
END:VEVENT
BEGIN:VEVENT
DTSTART;TZID=America/Winnipeg:20210816T100000
DTEND;TZID=America/Winnipeg:20210816T150000
DTSTAMP:20260422T133506
CREATED:20210712T213356Z
LAST-MODIFIED:20210712T213356Z
UID:10007727-1629108000-1629126000@regionalconnections.ca
SUMMARY:SWIS Winkler - Cultural Day
DESCRIPTION:Learn more about different cultures.
URL:https://regionalconnections.ca/event/swis-winkler-cultural-day/2021-08-16/
LOCATION:Central Station Community Centre\, 555 Main Street\, Winkler\, MB\, R6W 4A8\, Canada
ATTACH;FMTTYPE=image/png:https://regionalconnections.ca/wp-content/uploads/2021/07/Summer-Events-Winkler-Jul-Aug.png
END:VEVENT
BEGIN:VEVENT
DTSTART;TZID=America/Winnipeg:20210809T100000
DTEND;TZID=America/Winnipeg:20210809T150000
DTSTAMP:20260422T133506
CREATED:20210712T213356Z
LAST-MODIFIED:20210712T213356Z
UID:10007726-1628503200-1628521200@regionalconnections.ca
SUMMARY:SWIS Winkler - Cultural Day
DESCRIPTION:Learn more about different cultures.
URL:https://regionalconnections.ca/event/swis-winkler-cultural-day/2021-08-09/
LOCATION:Central Station Community Centre\, 555 Main Street\, Winkler\, MB\, R6W 4A8\, Canada
ATTACH;FMTTYPE=image/png:https://regionalconnections.ca/wp-content/uploads/2021/07/Summer-Events-Winkler-Jul-Aug.png
END:VEVENT
BEGIN:VEVENT
DTSTART;TZID=America/Winnipeg:20210802T100000
DTEND;TZID=America/Winnipeg:20210802T150000
DTSTAMP:20260422T133506
CREATED:20210712T213356Z
LAST-MODIFIED:20210712T213356Z
UID:10007725-1627898400-1627916400@regionalconnections.ca
SUMMARY:SWIS Winkler - Cultural Day
DESCRIPTION:Learn more about different cultures.
URL:https://regionalconnections.ca/event/swis-winkler-cultural-day/2021-08-02/
LOCATION:Central Station Community Centre\, 555 Main Street\, Winkler\, MB\, R6W 4A8\, Canada
ATTACH;FMTTYPE=image/png:https://regionalconnections.ca/wp-content/uploads/2021/07/Summer-Events-Winkler-Jul-Aug.png
END:VEVENT
BEGIN:VEVENT
DTSTART;TZID=America/Winnipeg:20210726T100000
DTEND;TZID=America/Winnipeg:20210726T150000
DTSTAMP:20260422T133506
CREATED:20210712T213356Z
LAST-MODIFIED:20210712T213356Z
UID:10007724-1627293600-1627311600@regionalconnections.ca
SUMMARY:SWIS Winkler - Cultural Day
DESCRIPTION:Learn more about different cultures.
URL:https://regionalconnections.ca/event/swis-winkler-cultural-day/2021-07-26/
LOCATION:Central Station Community Centre\, 555 Main Street\, Winkler\, MB\, R6W 4A8\, Canada
ATTACH;FMTTYPE=image/png:https://regionalconnections.ca/wp-content/uploads/2021/07/Summer-Events-Winkler-Jul-Aug.png
END:VEVENT
BEGIN:VEVENT
DTSTART;TZID=America/Winnipeg:20210719T100000
DTEND;TZID=America/Winnipeg:20210719T150000
DTSTAMP:20260422T133506
CREATED:20210712T213356Z
LAST-MODIFIED:20210712T213356Z
UID:10007723-1626688800-1626706800@regionalconnections.ca
SUMMARY:SWIS Winkler - Cultural Day
DESCRIPTION:Learn more about different cultures.
URL:https://regionalconnections.ca/event/swis-winkler-cultural-day/2021-07-19/
LOCATION:Central Station Community Centre\, 555 Main Street\, Winkler\, MB\, R6W 4A8\, Canada
ATTACH;FMTTYPE=image/png:https://regionalconnections.ca/wp-content/uploads/2021/07/Summer-Events-Winkler-Jul-Aug.png
END:VEVENT
END:VCALENDAR